BEGIN:VCALENDAR
VERSION:1.0
BEGIN:VEVENT
DTSTART:20260515T190000
DTEND:20260515T211500
SUMMARY:Black Sox vs. Shockers
DESCRIPTION:BMBL Summer 2026 - Hoover Parks and Recreation
LOCATION:Spain Park Field # 1
CATEGORIES:QuickScores; Baseball Game
TRANSP:0
DALARM:20260515T170000;PT10M;2;Black Sox vs. Shockers
END:VEVENT
BEGIN:VEVENT
DTSTART:20260518T190000
DTEND:20260518T211500
SUMMARY:Black Sox vs. Bama Bash
DESCRIPTION:BMBL Summer 2026 - Hoover Parks and Recreation
LOCATION:Spain Park Field # 2
CATEGORIES:QuickScores; Baseball Game
TRANSP:0
DALARM:20260518T170000;PT10M;2;Black Sox vs. Bama Bash
END:VEVENT
BEGIN:VEVENT
DTSTART:20260522T190000
DTEND:20260522T211500
SUMMARY:Black Sox vs. Magic City Mavericks
DESCRIPTION:BMBL Summer 2026 - Hoover Parks and Recreation
LOCATION:Spain Park Field # 2
CATEGORIES:QuickScores; Baseball Game
TRANSP:0
DALARM:20260522T170000;PT10M;2;Black Sox vs. Magic City Mavericks
END:VEVENT
BEGIN:VEVENT
DTSTART:20260531T153000
DTEND:20260531T174500
SUMMARY:Black Sox vs. Cardinals
DESCRIPTION:BMBL Summer 2026 - Hoover Parks and Recreation
LOCATION:Spain Park Field # 1
CATEGORIES:QuickScores; Baseball Game
TRANSP:0
DALARM:20260531T133000;PT10M;2;Black Sox vs. Cardinals
END:VEVENT
BEGIN:VEVENT
DTSTART:20260602T190000
DTEND:20260602T211500
SUMMARY:Black Sox vs. Red Sox
DESCRIPTION:BMBL Summer 2026 - Hoover Parks and Recreation
LOCATION:Spain Park Field # 1
CATEGORIES:QuickScores; Baseball Game
TRANSP:0
DALARM:20260602T170000;PT10M;2;Black Sox vs. Red Sox
END:VEVENT
BEGIN:VEVENT
DTSTART:20260607T130000
DTEND:20260607T151500
SUMMARY:Magic City Mavericks vs. Black Sox
DESCRIPTION:BMBL Summer 2026 - Hoover Parks and Recreation
LOCATION:Spain Park Field # 1
CATEGORIES:QuickScores; Baseball Game
TRANSP:0
DALARM:20260607T110000;PT10M;2;Magic City Mavericks vs. Black Sox
END:VEVENT
BEGIN:VEVENT
DTSTART:20260608T190000
DTEND:20260608T211500
SUMMARY:Black Sox vs. Twins
DESCRIPTION:BMBL Summer 2026 - Hoover Parks and Recreation
LOCATION:Spain Park Field # 1
CATEGORIES:QuickScores; Baseball Game
TRANSP:0
DALARM:20260608T170000;PT10M;2;Black Sox vs. Twins
END:VEVENT
BEGIN:VEVENT
DTSTART:20260611T190000
DTEND:20260611T211500
SUMMARY:Twins vs. Black Sox
DESCRIPTION:BMBL Summer 2026 - Hoover Parks and Recreation
LOCATION:Spain Park Field # 2
CATEGORIES:QuickScores; Baseball Game
TRANSP:0
DALARM:20260611T170000;PT10M;2;Twins vs. Black Sox
END:VEVENT
BEGIN:VEVENT
DTSTART:20260614T130000
DTEND:20260614T151500
SUMMARY:Bama Bash vs. Black Sox
DESCRIPTION:BMBL Summer 2026 - Hoover Parks and Recreation
LOCATION:Spain Park Field # 1
CATEGORIES:QuickScores; Baseball Game
TRANSP:0
DALARM:20260614T110000;PT10M;2;Bama Bash vs. Black Sox
END:VEVENT
BEGIN:VEVENT
DTSTART:20260618T190000
DTEND:20260618T211500
SUMMARY:Red Sox vs. Black Sox
DESCRIPTION:BMBL Summer 2026 - Hoover Parks and Recreation
LOCATION:Spain Park Field # 2
CATEGORIES:QuickScores; Baseball Game
TRANSP:0
DALARM:20260618T170000;PT10M;2;Red Sox vs. Black Sox
END:VEVENT
BEGIN:VEVENT
DTSTART:20260622T190000
DTEND:20260622T211500
SUMMARY:Black Sox vs. Juggernauts
DESCRIPTION:BMBL Summer 2026 - Hoover Parks and Recreation
LOCATION:Spain Park Field # 1
CATEGORIES:QuickScores; Baseball Game
TRANSP:0
DALARM:20260622T170000;PT10M;2;Black Sox vs. Juggernauts
END:VEVENT
BEGIN:VEVENT
DTSTART:20260629T190000
DTEND:20260629T211500
SUMMARY:Black Sox vs. Birmingham Billies
DESCRIPTION:BMBL Summer 2026 - Hoover Parks and Recreation
LOCATION:Spain Park Field # 1
CATEGORIES:QuickScores; Baseball Game
TRANSP:0
DALARM:20260629T170000;PT10M;2;Black Sox vs. Birmingham Billies
END:VEVENT
BEGIN:VEVENT
DTSTART:20260710T190000
DTEND:20260710T200000
SUMMARY:Birmingham Giants vs. Black Sox
DESCRIPTION:BMBL Summer 2026 - Hoover Parks and Recreation
LOCATION:Spain Park Field # 2
CATEGORIES:QuickScores; Baseball Game
TRANSP:0
DALARM:20260710T170000;PT10M;2;Birmingham Giants vs. Black Sox
END:VEVENT
BEGIN:VEVENT
DTSTART:20260712T130000
DTEND:20260712T151500
SUMMARY:Birmingham Billies vs. Black Sox
DESCRIPTION:BMBL Summer 2026 - Hoover Parks and Recreation
LOCATION:Spain Park Field # 1
CATEGORIES:QuickScores; Baseball Game
TRANSP:0
DALARM:20260712T110000;PT10M;2;Birmingham Billies vs. Black Sox
END:VEVENT
BEGIN:VEVENT
DTSTART:20260713T190000
DTEND:20260713T211500
SUMMARY:Juggernauts vs. Black Sox
DESCRIPTION:BMBL Summer 2026 - Hoover Parks and Recreation
LOCATION:Spain Park Field # 2
CATEGORIES:QuickScores; Baseball Game
TRANSP:0
DALARM:20260713T170000;PT10M;2;Juggernauts vs. Black Sox
END:VEVENT
BEGIN:VEVENT
DTSTART:20260719T153000
DTEND:20260719T174500
SUMMARY:Shockers vs. Black Sox
DESCRIPTION:BMBL Summer 2026 - Hoover Parks and Recreation
LOCATION:Spain Park Field # 1
CATEGORIES:QuickScores; Baseball Game
TRANSP:0
DALARM:20260719T133000;PT10M;2;Shockers vs. Black Sox
END:VEVENT
BEGIN:VEVENT
DTSTART:20260723T190000
DTEND:20260723T211500
SUMMARY:Cardinals vs. Black Sox
DESCRIPTION:BMBL Summer 2026 - Hoover Parks and Recreation
LOCATION:Spain Park Field # 1
CATEGORIES:QuickScores; Baseball Game
TRANSP:0
DALARM:20260723T170000;PT10M;2;Cardinals vs. Black Sox
END:VEVENT
BEGIN:VEVENT
DTSTART:20260726T130000
DTEND:20260726T151500
SUMMARY:Black Sox vs. Birmingham Giants
DESCRIPTION:BMBL Summer 2026 - Hoover Parks and Recreation
LOCATION:Hoover East Turf Field # 7
CATEGORIES:QuickScores; Baseball Game
TRANSP:0
DALARM:20260726T110000;PT10M;2;Black Sox vs. Birmingham Giants
END:VEVENT
END:VCALENDAR
