BEGIN:VCALENDAR
VERSION:1.0
BEGIN:VEVENT
DTSTART:20260105T190000
DTEND:20260105T200000
SUMMARY:Aces vs. Dream
DESCRIPTION:Girls 5th/6th Grade - Hoover Parks and Recreation
LOCATION:Finley Center Court 2
CATEGORIES:QuickScores; Basketball - Youth Game
TRANSP:0
DALARM:20260105T170000;PT10M;2;Aces vs. Dream
END:VEVENT
BEGIN:VEVENT
DTSTART:20260105T200000
DTEND:20260105T210000
SUMMARY:Sky vs. Aces
DESCRIPTION:Girls 5th/6th Grade - Hoover Parks and Recreation
LOCATION:Finley Center Court 2
CATEGORIES:QuickScores; Basketball - Youth Game
TRANSP:0
DALARM:20260105T180000;PT10M;2;Sky vs. Aces
END:VEVENT
BEGIN:VEVENT
DTSTART:20260112T200000
DTEND:20260112T210000
SUMMARY:Lynx vs. Aces
DESCRIPTION:Girls 5th/6th Grade - Hoover Parks and Recreation
LOCATION:Finley Center Court 1
CATEGORIES:QuickScores; Basketball - Youth Game
TRANSP:0
DALARM:20260112T180000;PT10M;2;Lynx vs. Aces
END:VEVENT
BEGIN:VEVENT
DTSTART:20260201T170000
DTEND:20260201T180000
SUMMARY:Fever vs. Aces
DESCRIPTION:Girls 5th/6th Grade - Hoover Parks and Recreation
LOCATION:Finley Center Court 5
CATEGORIES:QuickScores; Basketball - Youth Game
TRANSP:0
DALARM:20260201T150000;PT10M;2;Fever vs. Aces
END:VEVENT
BEGIN:VEVENT
DTSTART:20260201T180000
DTEND:20260201T190000
SUMMARY:Aces vs. Wings
DESCRIPTION:Girls 5th/6th Grade - Hoover Parks and Recreation
LOCATION:Finley Center Court 5
CATEGORIES:QuickScores; Basketball - Youth Game
TRANSP:0
DALARM:20260201T160000;PT10M;2;Aces vs. Wings
END:VEVENT
BEGIN:VEVENT
DTSTART:20260202T190000
DTEND:20260202T200000
SUMMARY:Aces vs. Storm
DESCRIPTION:Girls 5th/6th Grade - Hoover Parks and Recreation
LOCATION:Finley Center Court 2
CATEGORIES:QuickScores; Basketball - Youth Game
TRANSP:0
DALARM:20260202T170000;PT10M;2;Aces vs. Storm
END:VEVENT
BEGIN:VEVENT
DTSTART:20260209T200000
DTEND:20260209T210000
SUMMARY:Aces vs. Sparks
DESCRIPTION:Girls 5th/6th Grade - Hoover Parks and Recreation
LOCATION:Berry Middle School Competitive Gym
CATEGORIES:QuickScores; Basketball - Youth Game
TRANSP:0
DALARM:20260209T180000;PT10M;2;Aces vs. Sparks
END:VEVENT
BEGIN:VEVENT
DTSTART:20260216T180000
DTEND:20260216T190000
SUMMARY:Liberty vs. Aces
DESCRIPTION:Girls 5th/6th Grade - Hoover Parks and Recreation
LOCATION:Finley Center Court 8
CATEGORIES:QuickScores; Basketball - Youth Game
TRANSP:0
DALARM:20260216T160000;PT10M;2;Liberty vs. Aces
END:VEVENT
BEGIN:VEVENT
DTSTART:20260223T180000
DTEND:20260223T190000
SUMMARY:[1] Aces vs. [5] Lynx
DESCRIPTION:Girls 5th/6th Grade - Hoover Parks and Recreation
LOCATION:Finley Center Court 10
CATEGORIES:QuickScores; Basketball - Youth Game
TRANSP:0
DALARM:20260223T160000;PT10M;2;[1] Aces vs. [5] Lynx
END:VEVENT
BEGIN:VEVENT
DTSTART:20260223T200000
DTEND:20260223T210000
SUMMARY:[1] Aces vs. [3] Fever
DESCRIPTION:Girls 5th/6th Grade - Hoover Parks and Recreation
LOCATION:Finley Center Court 10
CATEGORIES:QuickScores; Basketball - Youth Game
TRANSP:0
DALARM:20260223T180000;PT10M;2;[1] Aces vs. [3] Fever
END:VEVENT
END:VCALENDAR
