BEGIN:VCALENDAR
VERSION:1.0
BEGIN:VEVENT
DTSTART:20250830T090000
DTEND:20250830T110000
SUMMARY:Trojans - 12U Gold vs. 4PPW - 12U Black
DESCRIPTION:12U HCPW (A-Bracket) - Hill Country Pop Warner
LOCATION:Anderson Hgh School
CATEGORIES:QuickScores; Football Game
TRANSP:0
DALARM:20250830T070000;PT10M;2;Trojans - 12U Gold vs. 4PPW - 12U Black
END:VEVENT
BEGIN:VEVENT
DTSTART:20250913T110000
DTEND:20250913T130000
SUMMARY:Trojans - 12U Gold vs. LTYA - 12U Black
DESCRIPTION:12U HCPW (A-Bracket) - Hill Country Pop Warner
LOCATION:Anderson Hgh School
CATEGORIES:QuickScores; Football Game
TRANSP:0
DALARM:20250913T090000;PT10M;2;Trojans - 12U Gold vs. LTYA - 12U Black
END:VEVENT
BEGIN:VEVENT
DTSTART:20250920T110000
DTEND:20250920T130000
SUMMARY:Westlake - 12U Red vs. Trojans - 12U Gold
DESCRIPTION:12U HCPW (A-Bracket) - Hill Country Pop Warner
LOCATION:Westlake High School
CATEGORIES:QuickScores; Football Game
TRANSP:0
DALARM:20250920T090000;PT10M;2;Westlake - 12U Red vs. Trojans - 12U Gold
END:VEVENT
BEGIN:VEVENT
DTSTART:20250927T110000
DTEND:20250927T130000
SUMMARY:Trojans - 12U Gold vs. VRYS - 12U Red
DESCRIPTION:12U HCPW (A-Bracket) - Hill Country Pop Warner
LOCATION:Anderson Hgh School
CATEGORIES:QuickScores; Football Game
TRANSP:0
DALARM:20250927T090000;PT10M;2;Trojans - 12U Gold vs. VRYS - 12U Red
END:VEVENT
BEGIN:VEVENT
DTSTART:20251004T110000
DTEND:20251004T130000
SUMMARY:Trojans - 12U Gold vs. DSYSA - 12U Maroon
DESCRIPTION:12U HCPW (A-Bracket) - Hill Country Pop Warner
LOCATION:Anderson Hgh School
CATEGORIES:QuickScores; Football Game
TRANSP:0
DALARM:20251004T090000;PT10M;2;Trojans - 12U Gold vs. DSYSA - 12U Maroon
END:VEVENT
BEGIN:VEVENT
DTSTART:20251011T090000
DTEND:20251011T110000
SUMMARY:SWA - 12U Red vs. Trojans - 12U Gold
DESCRIPTION:12U HCPW (A-Bracket) - Hill Country Pop Warner
LOCATION:St Andrews High School (Southwest Pkwy)
CATEGORIES:QuickScores; Football Game
TRANSP:0
DALARM:20251011T070000;PT10M;2;SWA - 12U Red vs. Trojans - 12U Gold
END:VEVENT
BEGIN:VEVENT
DTSTART:20251018T110000
DTEND:20251018T130000
SUMMARY:Trojans - 12U Gold vs. SWA - 12U Red
DESCRIPTION:12U HCPW (A-Bracket) - Hill Country Pop Warner
LOCATION:Anderson Hgh School
CATEGORIES:QuickScores; Football Game
TRANSP:0
DALARM:20251018T090000;PT10M;2;Trojans - 12U Gold vs. SWA - 12U Red
END:VEVENT
BEGIN:VEVENT
DTSTART:20251025T110000
DTEND:20251025T130000
SUMMARY:DSYSA - 12U Maroon vs. Trojans - 12U Gold
DESCRIPTION:12U HCPW (A-Bracket) - Hill Country Pop Warner
LOCATION:Sycamore Springs MS
CATEGORIES:QuickScores; Football Game
TRANSP:0
DALARM:20251025T090000;PT10M;2;DSYSA - 12U Maroon vs. Trojans - 12U Gold
END:VEVENT
END:VCALENDAR
