BEGIN:VCALENDAR
VERSION:1.0
BEGIN:VEVENT
DTSTART:20250830T170000
DTEND:20250830T190000
SUMMARY:Westlake - 10U White vs. 4PPW - 10U
DESCRIPTION:Called for lightning --- 10U HCPW (B-Bracket) - Hill Country Pop Warner
LOCATION:Westlake High School
CATEGORIES:QuickScores; Football Game
TRANSP:0
DALARM:20250830T150000;PT10M;2;Westlake - 10U White vs. 4PPW - 10U
END:VEVENT
BEGIN:VEVENT
DTSTART:20250920T130000
DTEND:20250920T150000
SUMMARY:DSYSA - 10U Gold vs. Westlake - 10U White
DESCRIPTION:10U HCPW (B-Bracket) - Hill Country Pop Warner
LOCATION:Sycamore Springs MS
CATEGORIES:QuickScores; Football Game
TRANSP:0
DALARM:20250920T110000;PT10M;2;DSYSA - 10U Gold vs. Westlake - 10U White
END:VEVENT
BEGIN:VEVENT
DTSTART:20250927T130000
DTEND:20250927T150000
SUMMARY:LTYA - 10U White vs. Westlake - 10U White
DESCRIPTION:10U HCPW (B-Bracket) - Hill Country Pop Warner
LOCATION:Lake Travis High School Track Field (Behind Stadium)
CATEGORIES:QuickScores; Football Game
TRANSP:0
DALARM:20250927T110000;PT10M;2;LTYA - 10U White vs. Westlake - 10U White
END:VEVENT
BEGIN:VEVENT
DTSTART:20251004T130000
DTEND:20251004T150000
SUMMARY:Westlake - 10U White vs. Trojans - 10U
DESCRIPTION:10U HCPW (B-Bracket) - Hill Country Pop Warner
LOCATION:Anderson Hgh School
CATEGORIES:QuickScores; Football Game
TRANSP:0
DALARM:20251004T110000;PT10M;2;Westlake - 10U White vs. Trojans - 10U
END:VEVENT
BEGIN:VEVENT
DTSTART:20251011T130000
DTEND:20251011T150000
SUMMARY:West Austin - 10U vs. Westlake - 10U White
DESCRIPTION:10U HCPW (B-Bracket) - Hill Country Pop Warner
LOCATION:St Andrews High School (Southwest Pkwy)
CATEGORIES:QuickScores; Football Game
TRANSP:0
DALARM:20251011T110000;PT10M;2;West Austin - 10U vs. Westlake - 10U White
END:VEVENT
BEGIN:VEVENT
DTSTART:20251018T170000
DTEND:20251018T190000
SUMMARY:Westlake - 10U White vs. SWA - 10U
DESCRIPTION:10U HCPW (B-Bracket) - Hill Country Pop Warner
LOCATION:Westlake High School
CATEGORIES:QuickScores; Football Game
TRANSP:0
DALARM:20251018T150000;PT10M;2;Westlake - 10U White vs. SWA - 10U
END:VEVENT
BEGIN:VEVENT
DTSTART:20251025T173000
DTEND:20251025T193000
SUMMARY:Westlake - 10U White vs. LTYA - 10U Red
DESCRIPTION:10U HCPW (B-Bracket) - Hill Country Pop Warner
LOCATION:Westlake High School
CATEGORIES:QuickScores; Football Game
TRANSP:0
DALARM:20251025T153000;PT10M;2;Westlake - 10U White vs. LTYA - 10U Red
END:VEVENT
END:VCALENDAR
