BEGIN:VCALENDAR
VERSION:1.0
BEGIN:VEVENT
DTSTART:20260228T101500
DTEND:20260228T113000
SUMMARY:Mustangs vs. Mountain View
DESCRIPTION:18u Boys - Gwinnett Parks Foundation
LOCATION:Lucky Shoals Court 1
CATEGORIES:QuickScores; Basketball - Youth Game
TRANSP:0
DALARM:20260228T081500;PT10M;2;Mustangs vs. Mountain View
END:VEVENT
BEGIN:VEVENT
DTSTART:20260228T140000
DTEND:20260228T151500
SUMMARY:Mountain View vs. Brookwood
DESCRIPTION:18u Boys - Gwinnett Parks Foundation
LOCATION:Lucky Shoals Court 2
CATEGORIES:QuickScores; Basketball - Youth Game
TRANSP:0
DALARM:20260228T120000;PT10M;2;Mountain View vs. Brookwood
END:VEVENT
BEGIN:VEVENT
DTSTART:20260301T151500
DTEND:20260301T163000
SUMMARY:[1] Mountain View vs. [4] Mustangs
DESCRIPTION:18u Boys - Gwinnett Parks Foundation
LOCATION:Lucky Shoals Court 1
CATEGORIES:QuickScores; Basketball - Youth Game
TRANSP:0
DALARM:20260301T131500;PT10M;2;[1] Mountain View vs. [4] Mustangs
END:VEVENT
END:VCALENDAR
