BEGIN:VCALENDAR
VERSION:1.0
BEGIN:VEVENT
DTSTART:20260226T200000
DTEND:20260226T210000
SUMMARY:Berkmar vs. Brookwood
DESCRIPTION:14u Boys - Gwinnett Parks Foundation
LOCATION:Lucky Shoals Court 2
CATEGORIES:QuickScores; Basketball - Youth Game
TRANSP:0
DALARM:20260226T180000;PT10M;2;Berkmar vs. Brookwood
END:VEVENT
BEGIN:VEVENT
DTSTART:20260227T200000
DTEND:20260227T210000
SUMMARY:Brookwood vs. Mustangs
DESCRIPTION:14u Boys - Gwinnett Parks Foundation
LOCATION:Best Friend Gym
CATEGORIES:QuickScores; Basketball - Youth Game
TRANSP:0
DALARM:20260227T180000;PT10M;2;Brookwood vs. Mustangs
END:VEVENT
BEGIN:VEVENT
DTSTART:20260301T101500
DTEND:20260301T113000
SUMMARY:[A2] Brookwood vs. [B2] Lanier
DESCRIPTION:14u Boys - Gwinnett Parks Foundation
LOCATION:Bogan Court 2
CATEGORIES:QuickScores; Basketball - Youth Game
TRANSP:0
DALARM:20260301T081500;PT10M;2;[A2] Brookwood vs. [B2] Lanier
END:VEVENT
BEGIN:VEVENT
DTSTART:20260301T140000
DTEND:20260301T151500
SUMMARY:[C3] Lawrenceville vs. [A2] Brookwood
DESCRIPTION:14u Boys - Gwinnett Parks Foundation
LOCATION:Bogan Court 1
CATEGORIES:QuickScores; Basketball - Youth Game
TRANSP:0
DALARM:20260301T120000;PT10M;2;[C3] Lawrenceville vs. [A2] Brookwood
END:VEVENT
END:VCALENDAR
