BEGIN:VCALENDAR
VERSION:1.0
BEGIN:VEVENT
DTSTART:20220402T000000
DTEND:20220402T000000
SUMMARY:Emmanuel vs. Norwich
DESCRIPTION:2022 Softball ADDING ELMS (4/29/21) - Great Northeast Athletic Conference
LOCATION:Roberto Clemente Field
CATEGORIES:QuickScores; Softball Game
TRANSP:0
DALARM:20220402T000000;PT10M;2;Emmanuel vs. Norwich
END:VEVENT
BEGIN:VEVENT
DTSTART:20220403T000000
DTEND:20220403T000000
SUMMARY:Norwich vs. Rivier
DESCRIPTION:2022 Softball ADDING ELMS (4/29/21) - Great Northeast Athletic Conference
LOCATION:Northfield, VT
CATEGORIES:QuickScores; Softball Game
TRANSP:0
DALARM:20220403T000000;PT10M;2;Norwich vs. Rivier
END:VEVENT
BEGIN:VEVENT
DTSTART:20220409T000000
DTEND:20220409T000000
SUMMARY:Saint Joseph's ME vs. Norwich
DESCRIPTION:2022 Softball ADDING ELMS (4/29/21) - Great Northeast Athletic Conference
LOCATION:Standish ME
CATEGORIES:QuickScores; Softball Game
TRANSP:0
DALARM:20220409T000000;PT10M;2;Saint Joseph's ME vs. Norwich
END:VEVENT
BEGIN:VEVENT
DTSTART:20220410T000000
DTEND:20220410T000000
SUMMARY:Norwich vs. Anna Maria
DESCRIPTION:2022 Softball ADDING ELMS (4/29/21) - Great Northeast Athletic Conference
LOCATION:Northfield, VT
CATEGORIES:QuickScores; Softball Game
TRANSP:0
DALARM:20220410T000000;PT10M;2;Norwich vs. Anna Maria
END:VEVENT
BEGIN:VEVENT
DTSTART:20220416T000000
DTEND:20220416T000000
SUMMARY:Norwich vs. Simmons
DESCRIPTION:2022 Softball ADDING ELMS (4/29/21) - Great Northeast Athletic Conference
LOCATION:Northfield, VT
CATEGORIES:QuickScores; Softball Game
TRANSP:0
DALARM:20220416T000000;PT10M;2;Norwich vs. Simmons
END:VEVENT
BEGIN:VEVENT
DTSTART:20220423T000000
DTEND:20220423T000000
SUMMARY:Albertus Magnus vs. Norwich
DESCRIPTION:2022 NOR can  share a bus with MLAX --- 2022 Softball ADDING ELMS (4/29/21) - Great Northeast Athletic Conference
LOCATION:New Haven, CT
CATEGORIES:QuickScores; Softball Game
TRANSP:0
DALARM:20220423T000000;PT10M;2;Albertus Magnus vs. Norwich
END:VEVENT
BEGIN:VEVENT
DTSTART:20220424T000000
DTEND:20220424T000000
SUMMARY:Saint Joseph CT vs. Norwich
DESCRIPTION:2022 Norwich can share a bus with Men's Tennis --- 2022 Softball ADDING ELMS (4/29/21) - Great Northeast Athletic Conference
LOCATION:W. Hartford, CT
CATEGORIES:QuickScores; Softball Game
TRANSP:0
DALARM:20220424T000000;PT10M;2;Saint Joseph CT vs. Norwich
END:VEVENT
BEGIN:VEVENT
DTSTART:20220430T000000
DTEND:20220430T000000
SUMMARY:Norwich vs. Johnson & Wales
DESCRIPTION:2022 Softball ADDING ELMS (4/29/21) - Great Northeast Athletic Conference
LOCATION:Northfield, VT
CATEGORIES:QuickScores; Softball Game
TRANSP:0
DALARM:20220430T000000;PT10M;2;Norwich vs. Johnson & Wales
END:VEVENT
END:VCALENDAR
