BEGIN:VCALENDAR
VERSION:1.0
BEGIN:VEVENT
DTSTART:20220329T000000
DTEND:20220329T000000
SUMMARY:Dean vs. Johnson & Wales
DESCRIPTION:2022 Softball ADDING ELMS (4/29/21) - Great Northeast Athletic Conference
LOCATION:Franklin MA
CATEGORIES:QuickScores; Softball Game
TRANSP:0
DALARM:20220329T000000;PT10M;2;Dean vs. Johnson & Wales
END:VEVENT
BEGIN:VEVENT
DTSTART:20220402T000000
DTEND:20220402T000000
SUMMARY:Lasell vs. Johnson & Wales
DESCRIPTION:2022 Softball ADDING ELMS (4/29/21) - Great Northeast Athletic Conference
LOCATION:Taylor Field at Lasell College
CATEGORIES:QuickScores; Softball Game
TRANSP:0
DALARM:20220402T000000;PT10M;2;Lasell vs. Johnson & Wales
END:VEVENT
BEGIN:VEVENT
DTSTART:20220403T000000
DTEND:20220403T000000
SUMMARY:Albertus Magnus vs. Johnson & Wales
DESCRIPTION:2022 Softball ADDING ELMS (4/29/21) - Great Northeast Athletic Conference
LOCATION:New Haven, CT
CATEGORIES:QuickScores; Softball Game
TRANSP:0
DALARM:20220403T000000;PT10M;2;Albertus Magnus vs. Johnson & Wales
END:VEVENT
BEGIN:VEVENT
DTSTART:20220409T000000
DTEND:20220409T000000
SUMMARY:Johnson & Wales vs. Elms
DESCRIPTION:2022 Elms can share a bus with women’s lacrosse --- 2022 Softball ADDING ELMS (4/29/21) - Great Northeast Athletic Conference
LOCATION:Scotts Miracle Gro Athletic Complex
CATEGORIES:QuickScores; Softball Game
TRANSP:0
DALARM:20220409T000000;PT10M;2;Johnson & Wales vs. Elms
END:VEVENT
BEGIN:VEVENT
DTSTART:20220410T000000
DTEND:20220410T000000
SUMMARY:Johnson & Wales vs. Saint Joseph's ME
DESCRIPTION:2022 Softball ADDING ELMS (4/29/21) - Great Northeast Athletic Conference
LOCATION:Scotts Miracle Gro Athletic Complex
CATEGORIES:QuickScores; Softball Game
TRANSP:0
DALARM:20220410T000000;PT10M;2;Johnson & Wales vs. Saint Joseph's ME
END:VEVENT
BEGIN:VEVENT
DTSTART:20220416T000000
DTEND:20220416T000000
SUMMARY:Johnson & Wales vs. Saint Joseph CT
DESCRIPTION:2022 Softball ADDING ELMS (4/29/21) - Great Northeast Athletic Conference
LOCATION:Scotts Miracle Gro Athletic Complex
CATEGORIES:QuickScores; Softball Game
TRANSP:0
DALARM:20220416T000000;PT10M;2;Johnson & Wales vs. Saint Joseph CT
END:VEVENT
BEGIN:VEVENT
DTSTART:20220424T000000
DTEND:20220424T000000
SUMMARY:Johnson & Wales vs. Regis
DESCRIPTION:2022 Softball ADDING ELMS (4/29/21) - Great Northeast Athletic Conference
LOCATION:Scotts Miracle Gro Athletic Complex
CATEGORIES:QuickScores; Softball Game
TRANSP:0
DALARM:20220424T000000;PT10M;2;Johnson & Wales vs. Regis
END:VEVENT
BEGIN:VEVENT
DTSTART:20220430T000000
DTEND:20220430T000000
SUMMARY:Norwich vs. Johnson & Wales
DESCRIPTION:2022 Softball ADDING ELMS (4/29/21) - Great Northeast Athletic Conference
LOCATION:Northfield, VT
CATEGORIES:QuickScores; Softball Game
TRANSP:0
DALARM:20220430T000000;PT10M;2;Norwich vs. Johnson & Wales
END:VEVENT
END:VCALENDAR
