BEGIN:VCALENDAR
VERSION:1.0
BEGIN:VEVENT
DTSTART:20220329T000000
DTEND:20220329T000000
SUMMARY:Anna Maria vs. Saint Joseph CT
DESCRIPTION:2022 Softball ADDING ELMS (4/29/21) - Great Northeast Athletic Conference
LOCATION:Paxton MA
CATEGORIES:QuickScores; Softball Game
TRANSP:0
DALARM:20220329T000000;PT10M;2;Anna Maria vs. Saint Joseph CT
END:VEVENT
BEGIN:VEVENT
DTSTART:20220402T000000
DTEND:20220402T000000
SUMMARY:Regis vs. Anna Maria
DESCRIPTION:2022 Softball ADDING ELMS (4/29/21) - Great Northeast Athletic Conference
LOCATION:Regis Weston MA
CATEGORIES:QuickScores; Softball Game
TRANSP:0
DALARM:20220402T000000;PT10M;2;Regis vs. Anna Maria
END:VEVENT
BEGIN:VEVENT
DTSTART:20220403T000000
DTEND:20220403T000000
SUMMARY:Anna Maria vs. Dean
DESCRIPTION:2022 Softball ADDING ELMS (4/29/21) - Great Northeast Athletic Conference
LOCATION:Paxton MA
CATEGORIES:QuickScores; Softball Game
TRANSP:0
DALARM:20220403T000000;PT10M;2;Anna Maria vs. Dean
END:VEVENT
BEGIN:VEVENT
DTSTART:20220406T000000
DTEND:20220406T000000
SUMMARY:Rivier vs. Anna Maria
DESCRIPTION:2022 Softball ADDING ELMS (4/29/21) - Great Northeast Athletic Conference
LOCATION:Nashua, NH
CATEGORIES:QuickScores; Softball Game
TRANSP:0
DALARM:20220406T000000;PT10M;2;Rivier vs. Anna Maria
END:VEVENT
BEGIN:VEVENT
DTSTART:20220409T000000
DTEND:20220409T000000
SUMMARY:Anna Maria vs. Simmons
DESCRIPTION:2022 Softball ADDING ELMS (4/29/21) - Great Northeast Athletic Conference
LOCATION:Paxton MA
CATEGORIES:QuickScores; Softball Game
TRANSP:0
DALARM:20220409T000000;PT10M;2;Anna Maria vs. Simmons
END:VEVENT
BEGIN:VEVENT
DTSTART:20220410T000000
DTEND:20220410T000000
SUMMARY:Norwich vs. Anna Maria
DESCRIPTION:2022 Softball ADDING ELMS (4/29/21) - Great Northeast Athletic Conference
LOCATION:Northfield, VT
CATEGORIES:QuickScores; Softball Game
TRANSP:0
DALARM:20220410T000000;PT10M;2;Norwich vs. Anna Maria
END:VEVENT
BEGIN:VEVENT
DTSTART:20220423T000000
DTEND:20220423T000000
SUMMARY:Anna Maria vs. Saint Joseph's ME
DESCRIPTION:2022 Softball ADDING ELMS (4/29/21) - Great Northeast Athletic Conference
LOCATION:Paxton MA
CATEGORIES:QuickScores; Softball Game
TRANSP:0
DALARM:20220423T000000;PT10M;2;Anna Maria vs. Saint Joseph's ME
END:VEVENT
BEGIN:VEVENT
DTSTART:20220424T000000
DTEND:20220424T000000
SUMMARY:Emmanuel vs. Anna Maria
DESCRIPTION:2022 Softball ADDING ELMS (4/29/21) - Great Northeast Athletic Conference
LOCATION:Roberto Clemente Field
CATEGORIES:QuickScores; Softball Game
TRANSP:0
DALARM:20220424T000000;PT10M;2;Emmanuel vs. Anna Maria
END:VEVENT
END:VCALENDAR
