BEGIN:VCALENDAR
VERSION:1.0
BEGIN:VEVENT
DTSTART:20211118T000000
DTEND:20211118T000000
SUMMARY:Johnson & Wales vs. Elms
DESCRIPTION:2021-2022 Doubleheader --- 2021-2022 Men's Basketball ADDING ELMS (4/16/21) - Great Northeast Athletic Conference
LOCATION:Harborside Athletic Center
CATEGORIES:QuickScores; Basketball Game
TRANSP:0
DALARM:20211118T000000;PT10M;2;Johnson & Wales vs. Elms
END:VEVENT
BEGIN:VEVENT
DTSTART:20211123T000000
DTEND:20211123T000000
SUMMARY:Saint Joseph CT vs. Elms
DESCRIPTION:2021-2022 Doubleheader --- 2021-2022 Men's Basketball ADDING ELMS (4/16/21) - Great Northeast Athletic Conference
LOCATION:W. Hartford, CT
CATEGORIES:QuickScores; Basketball Game
TRANSP:0
DALARM:20211123T000000;PT10M;2;Saint Joseph CT vs. Elms
END:VEVENT
BEGIN:VEVENT
DTSTART:20211201T000000
DTEND:20211201T000000
SUMMARY:Colby Sawyer vs. Elms
DESCRIPTION:2021-2022 Doubleheader --- 2021-2022 Men's Basketball ADDING ELMS (4/16/21) - Great Northeast Athletic Conference
LOCATION:New London NH
CATEGORIES:QuickScores; Basketball Game
TRANSP:0
DALARM:20211201T000000;PT10M;2;Colby Sawyer vs. Elms
END:VEVENT
BEGIN:VEVENT
DTSTART:20211204T000000
DTEND:20211204T000000
SUMMARY:Regis vs. Elms
DESCRIPTION:2021-2022 Doubleheader --- 2021-2022 Men's Basketball ADDING ELMS (4/16/21) - Great Northeast Athletic Conference
LOCATION:Regis Weston MA
CATEGORIES:QuickScores; Basketball Game
TRANSP:0
DALARM:20211204T000000;PT10M;2;Regis vs. Elms
END:VEVENT
BEGIN:VEVENT
DTSTART:20211211T000000
DTEND:20211211T000000
SUMMARY:Elms vs. Saint Joseph's ME
DESCRIPTION:2021-2022 Doubleheader --- 2021-2022 Men's Basketball ADDING ELMS (4/16/21) - Great Northeast Athletic Conference
LOCATION:Maguire Center
CATEGORIES:QuickScores; Basketball Game
TRANSP:0
DALARM:20211211T000000;PT10M;2;Elms vs. Saint Joseph's ME
END:VEVENT
BEGIN:VEVENT
DTSTART:20211213T000000
DTEND:20211213T000000
SUMMARY:Elms vs. Emmanuel
DESCRIPTION:2021-2022 Doubleheader --- 2021-2022 Men's Basketball ADDING ELMS (4/16/21) - Great Northeast Athletic Conference
LOCATION:Maguire Center
CATEGORIES:QuickScores; Basketball Game
TRANSP:0
DALARM:20211213T000000;PT10M;2;Elms vs. Emmanuel
END:VEVENT
BEGIN:VEVENT
DTSTART:20220104T000000
DTEND:20220104T000000
SUMMARY:Norwich vs. Elms
DESCRIPTION:2021-2022 Doubleheader --- 2021-2022 Men's Basketball ADDING ELMS (4/16/21) - Great Northeast Athletic Conference
LOCATION:Northfield, VT
CATEGORIES:QuickScores; Basketball Game
TRANSP:0
DALARM:20220104T000000;PT10M;2;Norwich vs. Elms
END:VEVENT
BEGIN:VEVENT
DTSTART:20220106T000000
DTEND:20220106T000000
SUMMARY:Elms vs. Dean
DESCRIPTION:2021-2022 Doubleheader --- 2021-2022 Men's Basketball ADDING ELMS (4/16/21) - Great Northeast Athletic Conference
LOCATION:Maguire Center
CATEGORIES:QuickScores; Basketball Game
TRANSP:0
DALARM:20220106T000000;PT10M;2;Elms vs. Dean
END:VEVENT
BEGIN:VEVENT
DTSTART:20220108T000000
DTEND:20220108T000000
SUMMARY:Albertus Magnus vs. Elms
DESCRIPTION:2021-2022 Doubleheader --- 2021-2022 Men's Basketball ADDING ELMS (4/16/21) - Great Northeast Athletic Conference
LOCATION:New Haven, CT
CATEGORIES:QuickScores; Basketball Game
TRANSP:0
DALARM:20220108T000000;PT10M;2;Albertus Magnus vs. Elms
END:VEVENT
BEGIN:VEVENT
DTSTART:20220112T000000
DTEND:20220112T000000
SUMMARY:Elms vs. Saint Joseph CT
DESCRIPTION:2021-2022 Doubleheader --- 2021-2022 Men's Basketball ADDING ELMS (4/16/21) - Great Northeast Athletic Conference
LOCATION:Maguire Center
CATEGORIES:QuickScores; Basketball Game
TRANSP:0
DALARM:20220112T000000;PT10M;2;Elms vs. Saint Joseph CT
END:VEVENT
BEGIN:VEVENT
DTSTART:20220115T000000
DTEND:20220115T000000
SUMMARY:Dean vs. Elms
DESCRIPTION:2021-2022 Doubleheader --- 2021-2022 Men's Basketball ADDING ELMS (4/16/21) - Great Northeast Athletic Conference
LOCATION:Franklin MA
CATEGORIES:QuickScores; Basketball Game
TRANSP:0
DALARM:20220115T000000;PT10M;2;Dean vs. Elms
END:VEVENT
BEGIN:VEVENT
DTSTART:20220118T000000
DTEND:20220118T000000
SUMMARY:Elms vs. Albertus Magnus
DESCRIPTION:2021-2022 Doubleheader --- 2021-2022 Men's Basketball ADDING ELMS (4/16/21) - Great Northeast Athletic Conference
LOCATION:Maguire Center
CATEGORIES:QuickScores; Basketball Game
TRANSP:0
DALARM:20220118T000000;PT10M;2;Elms vs. Albertus Magnus
END:VEVENT
BEGIN:VEVENT
DTSTART:20220120T000000
DTEND:20220120T000000
SUMMARY:Lasell vs. Elms
DESCRIPTION:2021-2022 Doubleheader --- 2021-2022 Men's Basketball ADDING ELMS (4/16/21) - Great Northeast Athletic Conference
LOCATION:Lasell Newton
CATEGORIES:QuickScores; Basketball Game
TRANSP:0
DALARM:20220120T000000;PT10M;2;Lasell vs. Elms
END:VEVENT
BEGIN:VEVENT
DTSTART:20220122T000000
DTEND:20220122T000000
SUMMARY:Elms vs. Regis
DESCRIPTION:2021-2022 Doubleheader --- 2021-2022 Men's Basketball ADDING ELMS (4/16/21) - Great Northeast Athletic Conference
LOCATION:Maguire Center
CATEGORIES:QuickScores; Basketball Game
TRANSP:0
DALARM:20220122T000000;PT10M;2;Elms vs. Regis
END:VEVENT
BEGIN:VEVENT
DTSTART:20220203T000000
DTEND:20220203T000000
SUMMARY:Elms vs. Lasell
DESCRIPTION:2021-2022 Doubleheader --- 2021-2022 Men's Basketball ADDING ELMS (4/16/21) - Great Northeast Athletic Conference
LOCATION:Maguire Center
CATEGORIES:QuickScores; Basketball Game
TRANSP:0
DALARM:20220203T000000;PT10M;2;Elms vs. Lasell
END:VEVENT
BEGIN:VEVENT
DTSTART:20220209T000000
DTEND:20220209T000000
SUMMARY:Elms vs. Johnson & Wales
DESCRIPTION:2021-2022 Doubleheader --- 2021-2022 Men's Basketball ADDING ELMS (4/16/21) - Great Northeast Athletic Conference
LOCATION:Maguire Center
CATEGORIES:QuickScores; Basketball Game
TRANSP:0
DALARM:20220209T000000;PT10M;2;Elms vs. Johnson & Wales
END:VEVENT
BEGIN:VEVENT
DTSTART:20220212T000000
DTEND:20220212T000000
SUMMARY:Elms vs. Rivier
DESCRIPTION:2021-2022 Doubleheader --- 2021-2022 Men's Basketball ADDING ELMS (4/16/21) - Great Northeast Athletic Conference
LOCATION:Maguire Center
CATEGORIES:QuickScores; Basketball Game
TRANSP:0
DALARM:20220212T000000;PT10M;2;Elms vs. Rivier
END:VEVENT
BEGIN:VEVENT
DTSTART:20220219T000000
DTEND:20220219T000000
SUMMARY:Anna Maria vs. Elms
DESCRIPTION:2021-2022 Doubleheader --- 2021-2022 Men's Basketball ADDING ELMS (4/16/21) - Great Northeast Athletic Conference
LOCATION:Paxton MA
CATEGORIES:QuickScores; Basketball Game
TRANSP:0
DALARM:20220219T000000;PT10M;2;Anna Maria vs. Elms
END:VEVENT
END:VCALENDAR
