BEGIN:VCALENDAR
VERSION:1.0
BEGIN:VEVENT
DTSTART:20211204T000000
DTEND:20211204T000000
SUMMARY:Rivier vs. Lasell
DESCRIPTION:2021-2022 Doubleheader --- 2021-2022 Men's Basketball ADDING ELMS (4/16/21) - Great Northeast Athletic Conference
LOCATION:Nashua, NH
CATEGORIES:QuickScores; Basketball Game
TRANSP:0
DALARM:20211204T000000;PT10M;2;Rivier vs. Lasell
END:VEVENT
BEGIN:VEVENT
DTSTART:20211211T000000
DTEND:20211211T000000
SUMMARY:Albertus Magnus vs. Rivier
DESCRIPTION:2021-2022 Doubleheader --- 2021-2022 Men's Basketball ADDING ELMS (4/16/21) - Great Northeast Athletic Conference
LOCATION:New Haven, CT
CATEGORIES:QuickScores; Basketball Game
TRANSP:0
DALARM:20211211T000000;PT10M;2;Albertus Magnus vs. Rivier
END:VEVENT
BEGIN:VEVENT
DTSTART:20220104T000000
DTEND:20220104T000000
SUMMARY:Regis vs. Rivier
DESCRIPTION:2021-2022 Doubleheader --- 2021-2022 Men's Basketball ADDING ELMS (4/16/21) - Great Northeast Athletic Conference
LOCATION:Regis Weston MA
CATEGORIES:QuickScores; Basketball Game
TRANSP:0
DALARM:20220104T000000;PT10M;2;Regis vs. Rivier
END:VEVENT
BEGIN:VEVENT
DTSTART:20220106T000000
DTEND:20220106T000000
SUMMARY:Rivier vs. Saint Joseph's ME
DESCRIPTION:2021-2022 Doubleheader --- 2021-2022 Men's Basketball ADDING ELMS (4/16/21) - Great Northeast Athletic Conference
LOCATION:Nashua, NH
CATEGORIES:QuickScores; Basketball Game
TRANSP:0
DALARM:20220106T000000;PT10M;2;Rivier vs. Saint Joseph's ME
END:VEVENT
BEGIN:VEVENT
DTSTART:20220108T000000
DTEND:20220108T000000
SUMMARY:Dean vs. Rivier
DESCRIPTION:2021-2022 Doubleheader --- 2021-2022 Men's Basketball ADDING ELMS (4/16/21) - Great Northeast Athletic Conference
LOCATION:Franklin MA
CATEGORIES:QuickScores; Basketball Game
TRANSP:0
DALARM:20220108T000000;PT10M;2;Dean vs. Rivier
END:VEVENT
BEGIN:VEVENT
DTSTART:20220112T000000
DTEND:20220112T000000
SUMMARY:Emmanuel vs. Rivier
DESCRIPTION:2021-2022 Doubleheader --- 2021-2022 Men's Basketball ADDING ELMS (4/16/21) - Great Northeast Athletic Conference
LOCATION:Jean Yawkey Center
CATEGORIES:QuickScores; Basketball Game
TRANSP:0
DALARM:20220112T000000;PT10M;2;Emmanuel vs. Rivier
END:VEVENT
BEGIN:VEVENT
DTSTART:20220115T000000
DTEND:20220115T000000
SUMMARY:Anna Maria vs. Rivier
DESCRIPTION:2021-2022 Doubleheader --- 2021-2022 Men's Basketball ADDING ELMS (4/16/21) - Great Northeast Athletic Conference
LOCATION:Paxton MA
CATEGORIES:QuickScores; Basketball Game
TRANSP:0
DALARM:20220115T000000;PT10M;2;Anna Maria vs. Rivier
END:VEVENT
BEGIN:VEVENT
DTSTART:20220118T000000
DTEND:20220118T000000
SUMMARY:Colby Sawyer vs. Rivier
DESCRIPTION:2021-2022 Doubleheader --- 2021-2022 Men's Basketball ADDING ELMS (4/16/21) - Great Northeast Athletic Conference
LOCATION:New London NH
CATEGORIES:QuickScores; Basketball Game
TRANSP:0
DALARM:20220118T000000;PT10M;2;Colby Sawyer vs. Rivier
END:VEVENT
BEGIN:VEVENT
DTSTART:20220122T000000
DTEND:20220122T000000
SUMMARY:Rivier vs. Saint Joseph CT
DESCRIPTION:2021-2022 Doubleheader --- 2021-2022 Men's Basketball ADDING ELMS (4/16/21) - Great Northeast Athletic Conference
LOCATION:Nashua, NH
CATEGORIES:QuickScores; Basketball Game
TRANSP:0
DALARM:20220122T000000;PT10M;2;Rivier vs. Saint Joseph CT
END:VEVENT
BEGIN:VEVENT
DTSTART:20220126T000000
DTEND:20220126T000000
SUMMARY:Rivier vs. Emmanuel
DESCRIPTION:2021-2022 Doubleheader --- 2021-2022 Men's Basketball ADDING ELMS (4/16/21) - Great Northeast Athletic Conference
LOCATION:Nashua, NH
CATEGORIES:QuickScores; Basketball Game
TRANSP:0
DALARM:20220126T000000;PT10M;2;Rivier vs. Emmanuel
END:VEVENT
BEGIN:VEVENT
DTSTART:20220129T000000
DTEND:20220129T000000
SUMMARY:Rivier vs. Norwich
DESCRIPTION:2021-2022 Doubleheader --- 2021-2022 Men's Basketball ADDING ELMS (4/16/21) - Great Northeast Athletic Conference
LOCATION:Nashua, NH
CATEGORIES:QuickScores; Basketball Game
TRANSP:0
DALARM:20220129T000000;PT10M;2;Rivier vs. Norwich
END:VEVENT
BEGIN:VEVENT
DTSTART:20220201T000000
DTEND:20220201T000000
SUMMARY:Saint Joseph's ME vs. Rivier
DESCRIPTION:2021-2022 Doubleheader --- 2021-2022 Men's Basketball ADDING ELMS (4/16/21) - Great Northeast Athletic Conference
LOCATION:Standish ME
CATEGORIES:QuickScores; Basketball Game
TRANSP:0
DALARM:20220201T000000;PT10M;2;Saint Joseph's ME vs. Rivier
END:VEVENT
BEGIN:VEVENT
DTSTART:20220205T000000
DTEND:20220205T000000
SUMMARY:Rivier vs. Anna Maria
DESCRIPTION:2021-2022 Doubleheader --- 2021-2022 Men's Basketball ADDING ELMS (4/16/21) - Great Northeast Athletic Conference
LOCATION:Nashua, NH
CATEGORIES:QuickScores; Basketball Game
TRANSP:0
DALARM:20220205T000000;PT10M;2;Rivier vs. Anna Maria
END:VEVENT
BEGIN:VEVENT
DTSTART:20220209T000000
DTEND:20220209T000000
SUMMARY:Rivier vs. Colby Sawyer
DESCRIPTION:2021-2022 Doubleheader --- 2021-2022 Men's Basketball ADDING ELMS (4/16/21) - Great Northeast Athletic Conference
LOCATION:Nashua, NH
CATEGORIES:QuickScores; Basketball Game
TRANSP:0
DALARM:20220209T000000;PT10M;2;Rivier vs. Colby Sawyer
END:VEVENT
BEGIN:VEVENT
DTSTART:20220212T000000
DTEND:20220212T000000
SUMMARY:Elms vs. Rivier
DESCRIPTION:2021-2022 Doubleheader --- 2021-2022 Men's Basketball ADDING ELMS (4/16/21) - Great Northeast Athletic Conference
LOCATION:Maguire Center
CATEGORIES:QuickScores; Basketball Game
TRANSP:0
DALARM:20220212T000000;PT10M;2;Elms vs. Rivier
END:VEVENT
BEGIN:VEVENT
DTSTART:20220215T000000
DTEND:20220215T000000
SUMMARY:Norwich vs. Rivier
DESCRIPTION:2021-2022 Doubleheader --- 2021-2022 Men's Basketball ADDING ELMS (4/16/21) - Great Northeast Athletic Conference
LOCATION:Northfield, VT
CATEGORIES:QuickScores; Basketball Game
TRANSP:0
DALARM:20220215T000000;PT10M;2;Norwich vs. Rivier
END:VEVENT
BEGIN:VEVENT
DTSTART:20220219T000000
DTEND:20220219T000000
SUMMARY:Rivier vs. Johnson & Wales
DESCRIPTION:2021-2022 Doubleheader --- 2021-2022 Men's Basketball ADDING ELMS (4/16/21) - Great Northeast Athletic Conference
LOCATION:Nashua, NH
CATEGORIES:QuickScores; Basketball Game
TRANSP:0
DALARM:20220219T000000;PT10M;2;Rivier vs. Johnson & Wales
END:VEVENT
END:VCALENDAR
