BEGIN:VCALENDAR
VERSION:1.0
BEGIN:VEVENT
DTSTART:20211118T000000
DTEND:20211118T000000
SUMMARY:Johnson & Wales vs. Elms
DESCRIPTION:2021-2022 Doubleheader --- 2021-2022 Men's Basketball ADDING ELMS (4/16/21) - Great Northeast Athletic Conference
LOCATION:Harborside Athletic Center
CATEGORIES:QuickScores; Basketball Game
TRANSP:0
DALARM:20211118T000000;PT10M;2;Johnson & Wales vs. Elms
END:VEVENT
BEGIN:VEVENT
DTSTART:20211204T000000
DTEND:20211204T000000
SUMMARY:Anna Maria vs. Johnson & Wales
DESCRIPTION:2021-2022 Doubleheader --- 2021-2022 Men's Basketball ADDING ELMS (4/16/21) - Great Northeast Athletic Conference
LOCATION:Paxton MA
CATEGORIES:QuickScores; Basketball Game
TRANSP:0
DALARM:20211204T000000;PT10M;2;Anna Maria vs. Johnson & Wales
END:VEVENT
BEGIN:VEVENT
DTSTART:20211211T000000
DTEND:20211211T000000
SUMMARY:Johnson & Wales vs. Norwich
DESCRIPTION:2021-2022 Doubleheader --- 2021-2022 Men's Basketball ADDING ELMS (4/16/21) - Great Northeast Athletic Conference
LOCATION:Harborside Athletic Center
CATEGORIES:QuickScores; Basketball Game
TRANSP:0
DALARM:20211211T000000;PT10M;2;Johnson & Wales vs. Norwich
END:VEVENT
BEGIN:VEVENT
DTSTART:20220104T000000
DTEND:20220104T000000
SUMMARY:Johnson & Wales vs. Albertus Magnus
DESCRIPTION:2021-2022 Doubleheader --- 2021-2022 Men's Basketball ADDING ELMS (4/16/21) - Great Northeast Athletic Conference
LOCATION:Harborside Athletic Center
CATEGORIES:QuickScores; Basketball Game
TRANSP:0
DALARM:20220104T000000;PT10M;2;Johnson & Wales vs. Albertus Magnus
END:VEVENT
BEGIN:VEVENT
DTSTART:20220106T000000
DTEND:20220106T000000
SUMMARY:Johnson & Wales vs. Colby Sawyer
DESCRIPTION:2021-2022 Doubleheader --- 2021-2022 Men's Basketball ADDING ELMS (4/16/21) - Great Northeast Athletic Conference
LOCATION:Harborside Athletic Center
CATEGORIES:QuickScores; Basketball Game
TRANSP:0
DALARM:20220106T000000;PT10M;2;Johnson & Wales vs. Colby Sawyer
END:VEVENT
BEGIN:VEVENT
DTSTART:20220112T000000
DTEND:20220112T000000
SUMMARY:Regis vs. Johnson & Wales
DESCRIPTION:2021-2022 Doubleheader --- 2021-2022 Men's Basketball ADDING ELMS (4/16/21) - Great Northeast Athletic Conference
LOCATION:Regis Weston MA
CATEGORIES:QuickScores; Basketball Game
TRANSP:0
DALARM:20220112T000000;PT10M;2;Regis vs. Johnson & Wales
END:VEVENT
BEGIN:VEVENT
DTSTART:20220115T000000
DTEND:20220115T000000
SUMMARY:Johnson & Wales vs. Lasell
DESCRIPTION:2021-2022 Doubleheader --- 2021-2022 Men's Basketball ADDING ELMS (4/16/21) - Great Northeast Athletic Conference
LOCATION:Harborside Athletic Center
CATEGORIES:QuickScores; Basketball Game
TRANSP:0
DALARM:20220115T000000;PT10M;2;Johnson & Wales vs. Lasell
END:VEVENT
BEGIN:VEVENT
DTSTART:20220118T000000
DTEND:20220118T000000
SUMMARY:Dean vs. Johnson & Wales
DESCRIPTION:2021-2022 Doubleheader --- 2021-2022 Men's Basketball ADDING ELMS (4/16/21) - Great Northeast Athletic Conference
LOCATION:Franklin MA
CATEGORIES:QuickScores; Basketball Game
TRANSP:0
DALARM:20220118T000000;PT10M;2;Dean vs. Johnson & Wales
END:VEVENT
BEGIN:VEVENT
DTSTART:20220122T000000
DTEND:20220122T000000
SUMMARY:Emmanuel vs. Johnson & Wales
DESCRIPTION:2021-2022 Doubleheader --- 2021-2022 Men's Basketball ADDING ELMS (4/16/21) - Great Northeast Athletic Conference
LOCATION:Jean Yawkey Center
CATEGORIES:QuickScores; Basketball Game
TRANSP:0
DALARM:20220122T000000;PT10M;2;Emmanuel vs. Johnson & Wales
END:VEVENT
BEGIN:VEVENT
DTSTART:20220126T000000
DTEND:20220126T000000
SUMMARY:Johnson & Wales vs. Saint Joseph CT
DESCRIPTION:2021-2022 Doubleheader --- 2021-2022 Men's Basketball ADDING ELMS (4/16/21) - Great Northeast Athletic Conference
LOCATION:Harborside Athletic Center
CATEGORIES:QuickScores; Basketball Game
TRANSP:0
DALARM:20220126T000000;PT10M;2;Johnson & Wales vs. Saint Joseph CT
END:VEVENT
BEGIN:VEVENT
DTSTART:20220129T000000
DTEND:20220129T000000
SUMMARY:Albertus Magnus vs. Johnson & Wales
DESCRIPTION:2021-2022 Doubleheader --- 2021-2022 Men's Basketball ADDING ELMS (4/16/21) - Great Northeast Athletic Conference
LOCATION:New Haven, CT
CATEGORIES:QuickScores; Basketball Game
TRANSP:0
DALARM:20220129T000000;PT10M;2;Albertus Magnus vs. Johnson & Wales
END:VEVENT
BEGIN:VEVENT
DTSTART:20220201T000000
DTEND:20220201T000000
SUMMARY:Johnson & Wales vs. Regis
DESCRIPTION:2021-2022 Doubleheader --- 2021-2022 Men's Basketball ADDING ELMS (4/16/21) - Great Northeast Athletic Conference
LOCATION:Harborside Athletic Center
CATEGORIES:QuickScores; Basketball Game
TRANSP:0
DALARM:20220201T000000;PT10M;2;Johnson & Wales vs. Regis
END:VEVENT
BEGIN:VEVENT
DTSTART:20220203T000000
DTEND:20220203T000000
SUMMARY:Johnson & Wales vs. Dean
DESCRIPTION:2021-2022 Doubleheader --- 2021-2022 Men's Basketball ADDING ELMS (4/16/21) - Great Northeast Athletic Conference
LOCATION:Harborside Athletic Center
CATEGORIES:QuickScores; Basketball Game
TRANSP:0
DALARM:20220203T000000;PT10M;2;Johnson & Wales vs. Dean
END:VEVENT
BEGIN:VEVENT
DTSTART:20220205T000000
DTEND:20220205T000000
SUMMARY:Lasell vs. Johnson & Wales
DESCRIPTION:2021-2022 Doubleheader --- 2021-2022 Men's Basketball ADDING ELMS (4/16/21) - Great Northeast Athletic Conference
LOCATION:Lasell Newton
CATEGORIES:QuickScores; Basketball Game
TRANSP:0
DALARM:20220205T000000;PT10M;2;Lasell vs. Johnson & Wales
END:VEVENT
BEGIN:VEVENT
DTSTART:20220209T000000
DTEND:20220209T000000
SUMMARY:Elms vs. Johnson & Wales
DESCRIPTION:2021-2022 Doubleheader --- 2021-2022 Men's Basketball ADDING ELMS (4/16/21) - Great Northeast Athletic Conference
LOCATION:Maguire Center
CATEGORIES:QuickScores; Basketball Game
TRANSP:0
DALARM:20220209T000000;PT10M;2;Elms vs. Johnson & Wales
END:VEVENT
BEGIN:VEVENT
DTSTART:20220212T000000
DTEND:20220212T000000
SUMMARY:Johnson & Wales vs. Saint Joseph's ME
DESCRIPTION:2021-2022 Doubleheader --- 2021-2022 Men's Basketball ADDING ELMS (4/16/21) - Great Northeast Athletic Conference
LOCATION:Harborside Athletic Center
CATEGORIES:QuickScores; Basketball Game
TRANSP:0
DALARM:20220212T000000;PT10M;2;Johnson & Wales vs. Saint Joseph's ME
END:VEVENT
BEGIN:VEVENT
DTSTART:20220215T000000
DTEND:20220215T000000
SUMMARY:Saint Joseph CT vs. Johnson & Wales
DESCRIPTION:2021-2022 Doubleheader --- 2021-2022 Men's Basketball ADDING ELMS (4/16/21) - Great Northeast Athletic Conference
LOCATION:W. Hartford, CT
CATEGORIES:QuickScores; Basketball Game
TRANSP:0
DALARM:20220215T000000;PT10M;2;Saint Joseph CT vs. Johnson & Wales
END:VEVENT
BEGIN:VEVENT
DTSTART:20220219T000000
DTEND:20220219T000000
SUMMARY:Rivier vs. Johnson & Wales
DESCRIPTION:2021-2022 Doubleheader --- 2021-2022 Men's Basketball ADDING ELMS (4/16/21) - Great Northeast Athletic Conference
LOCATION:Nashua, NH
CATEGORIES:QuickScores; Basketball Game
TRANSP:0
DALARM:20220219T000000;PT10M;2;Rivier vs. Johnson & Wales
END:VEVENT
END:VCALENDAR
