BEGIN:VCALENDAR
VERSION:1.0
BEGIN:VEVENT
DTSTART:20211201T000000
DTEND:20211201T000000
SUMMARY:Colby Sawyer vs. Elms
DESCRIPTION:2021-2022 Doubleheader --- 2021-2022 Men's Basketball ADDING ELMS (4/16/21) - Great Northeast Athletic Conference
LOCATION:New London NH
CATEGORIES:QuickScores; Basketball Game
TRANSP:0
DALARM:20211201T000000;PT10M;2;Colby Sawyer vs. Elms
END:VEVENT
BEGIN:VEVENT
DTSTART:20211203T000000
DTEND:20211203T000000
SUMMARY:Norwich vs. Colby Sawyer
DESCRIPTION:2021-2022 Doubleheader --- 2021-2022 Men's Basketball ADDING ELMS (4/16/21) - Great Northeast Athletic Conference
LOCATION:Northfield, VT
CATEGORIES:QuickScores; Basketball Game
TRANSP:0
DALARM:20211203T000000;PT10M;2;Norwich vs. Colby Sawyer
END:VEVENT
BEGIN:VEVENT
DTSTART:20211211T000000
DTEND:20211211T000000
SUMMARY:Colby Sawyer vs. Emmanuel
DESCRIPTION:2021-2022 Doubleheader --- 2021-2022 Men's Basketball ADDING ELMS (4/16/21) - Great Northeast Athletic Conference
LOCATION:New London NH
CATEGORIES:QuickScores; Basketball Game
TRANSP:0
DALARM:20211211T000000;PT10M;2;Colby Sawyer vs. Emmanuel
END:VEVENT
BEGIN:VEVENT
DTSTART:20220106T000000
DTEND:20220106T000000
SUMMARY:Johnson & Wales vs. Colby Sawyer
DESCRIPTION:2021-2022 Doubleheader --- 2021-2022 Men's Basketball ADDING ELMS (4/16/21) - Great Northeast Athletic Conference
LOCATION:Harborside Athletic Center
CATEGORIES:QuickScores; Basketball Game
TRANSP:0
DALARM:20220106T000000;PT10M;2;Johnson & Wales vs. Colby Sawyer
END:VEVENT
BEGIN:VEVENT
DTSTART:20220108T000000
DTEND:20220108T000000
SUMMARY:Colby Sawyer vs. Anna Maria
DESCRIPTION:2021-2022 Doubleheader --- 2021-2022 Men's Basketball ADDING ELMS (4/16/21) - Great Northeast Athletic Conference
LOCATION:New London NH
CATEGORIES:QuickScores; Basketball Game
TRANSP:0
DALARM:20220108T000000;PT10M;2;Colby Sawyer vs. Anna Maria
END:VEVENT
BEGIN:VEVENT
DTSTART:20220112T000000
DTEND:20220112T000000
SUMMARY:Colby Sawyer vs. Dean
DESCRIPTION:2021-2022 Doubleheader --- 2021-2022 Men's Basketball ADDING ELMS (4/16/21) - Great Northeast Athletic Conference
LOCATION:New London NH
CATEGORIES:QuickScores; Basketball Game
TRANSP:0
DALARM:20220112T000000;PT10M;2;Colby Sawyer vs. Dean
END:VEVENT
BEGIN:VEVENT
DTSTART:20220115T000000
DTEND:20220115T000000
SUMMARY:Saint Joseph CT vs. Colby Sawyer
DESCRIPTION:2021-2022 Doubleheader --- 2021-2022 Men's Basketball ADDING ELMS (4/16/21) - Great Northeast Athletic Conference
LOCATION:W. Hartford, CT
CATEGORIES:QuickScores; Basketball Game
TRANSP:0
DALARM:20220115T000000;PT10M;2;Saint Joseph CT vs. Colby Sawyer
END:VEVENT
BEGIN:VEVENT
DTSTART:20220118T000000
DTEND:20220118T000000
SUMMARY:Colby Sawyer vs. Rivier
DESCRIPTION:2021-2022 Doubleheader --- 2021-2022 Men's Basketball ADDING ELMS (4/16/21) - Great Northeast Athletic Conference
LOCATION:New London NH
CATEGORIES:QuickScores; Basketball Game
TRANSP:0
DALARM:20220118T000000;PT10M;2;Colby Sawyer vs. Rivier
END:VEVENT
BEGIN:VEVENT
DTSTART:20220122T000000
DTEND:20220122T000000
SUMMARY:Lasell vs. Colby Sawyer
DESCRIPTION:2021-2022 Doubleheader --- 2021-2022 Men's Basketball ADDING ELMS (4/16/21) - Great Northeast Athletic Conference
LOCATION:Lasell Newton
CATEGORIES:QuickScores; Basketball Game
TRANSP:0
DALARM:20220122T000000;PT10M;2;Lasell vs. Colby Sawyer
END:VEVENT
BEGIN:VEVENT
DTSTART:20220126T000000
DTEND:20220126T000000
SUMMARY:Colby Sawyer vs. Saint Joseph's ME
DESCRIPTION:2021-2022 Doubleheader --- 2021-2022 Men's Basketball ADDING ELMS (4/16/21) - Great Northeast Athletic Conference
LOCATION:New London NH
CATEGORIES:QuickScores; Basketball Game
TRANSP:0
DALARM:20220126T000000;PT10M;2;Colby Sawyer vs. Saint Joseph's ME
END:VEVENT
BEGIN:VEVENT
DTSTART:20220129T000000
DTEND:20220129T000000
SUMMARY:Anna Maria vs. Colby Sawyer
DESCRIPTION:2021-2022 Doubleheader --- 2021-2022 Men's Basketball ADDING ELMS (4/16/21) - Great Northeast Athletic Conference
LOCATION:Paxton MA
CATEGORIES:QuickScores; Basketball Game
TRANSP:0
DALARM:20220129T000000;PT10M;2;Anna Maria vs. Colby Sawyer
END:VEVENT
BEGIN:VEVENT
DTSTART:20220203T000000
DTEND:20220203T000000
SUMMARY:Colby Sawyer vs. Norwich
DESCRIPTION:2021-2022 Doubleheader --- 2021-2022 Men's Basketball ADDING ELMS (4/16/21) - Great Northeast Athletic Conference
LOCATION:New London NH
CATEGORIES:QuickScores; Basketball Game
TRANSP:0
DALARM:20220203T000000;PT10M;2;Colby Sawyer vs. Norwich
END:VEVENT
BEGIN:VEVENT
DTSTART:20220205T000000
DTEND:20220205T000000
SUMMARY:Emmanuel vs. Colby Sawyer
DESCRIPTION:2021-2022 Doubleheader --- 2021-2022 Men's Basketball ADDING ELMS (4/16/21) - Great Northeast Athletic Conference
LOCATION:Jean Yawkey Center
CATEGORIES:QuickScores; Basketball Game
TRANSP:0
DALARM:20220205T000000;PT10M;2;Emmanuel vs. Colby Sawyer
END:VEVENT
BEGIN:VEVENT
DTSTART:20220209T000000
DTEND:20220209T000000
SUMMARY:Rivier vs. Colby Sawyer
DESCRIPTION:2021-2022 Doubleheader --- 2021-2022 Men's Basketball ADDING ELMS (4/16/21) - Great Northeast Athletic Conference
LOCATION:Nashua, NH
CATEGORIES:QuickScores; Basketball Game
TRANSP:0
DALARM:20220209T000000;PT10M;2;Rivier vs. Colby Sawyer
END:VEVENT
BEGIN:VEVENT
DTSTART:20220212T000000
DTEND:20220212T000000
SUMMARY:Colby Sawyer vs. Albertus Magnus
DESCRIPTION:2021-2022 Doubleheader --- 2021-2022 Men's Basketball ADDING ELMS (4/16/21) - Great Northeast Athletic Conference
LOCATION:New London NH
CATEGORIES:QuickScores; Basketball Game
TRANSP:0
DALARM:20220212T000000;PT10M;2;Colby Sawyer vs. Albertus Magnus
END:VEVENT
BEGIN:VEVENT
DTSTART:20220215T000000
DTEND:20220215T000000
SUMMARY:Saint Joseph's ME vs. Colby Sawyer
DESCRIPTION:2021-2022 Doubleheader --- 2021-2022 Men's Basketball ADDING ELMS (4/16/21) - Great Northeast Athletic Conference
LOCATION:Standish ME
CATEGORIES:QuickScores; Basketball Game
TRANSP:0
DALARM:20220215T000000;PT10M;2;Saint Joseph's ME vs. Colby Sawyer
END:VEVENT
BEGIN:VEVENT
DTSTART:20220219T000000
DTEND:20220219T000000
SUMMARY:Colby Sawyer vs. Regis
DESCRIPTION:2021-2022 Doubleheader --- 2021-2022 Men's Basketball ADDING ELMS (4/16/21) - Great Northeast Athletic Conference
LOCATION:New London NH
CATEGORIES:QuickScores; Basketball Game
TRANSP:0
DALARM:20220219T000000;PT10M;2;Colby Sawyer vs. Regis
END:VEVENT
END:VCALENDAR
