BEGIN:VCALENDAR
VERSION:1.0
BEGIN:VEVENT
DTSTART:20211123T000000
DTEND:20211123T000000
SUMMARY:Albertus Magnus vs. Anna Maria
DESCRIPTION:2021-2022 Doubleheader --- 2021-2022 Men's Basketball ADDING ELMS (4/16/21) - Great Northeast Athletic Conference
LOCATION:New Haven, CT
CATEGORIES:QuickScores; Basketball Game
TRANSP:0
DALARM:20211123T000000;PT10M;2;Albertus Magnus vs. Anna Maria
END:VEVENT
BEGIN:VEVENT
DTSTART:20211204T000000
DTEND:20211204T000000
SUMMARY:Anna Maria vs. Johnson & Wales
DESCRIPTION:2021-2022 Doubleheader --- 2021-2022 Men's Basketball ADDING ELMS (4/16/21) - Great Northeast Athletic Conference
LOCATION:Paxton MA
CATEGORIES:QuickScores; Basketball Game
TRANSP:0
DALARM:20211204T000000;PT10M;2;Anna Maria vs. Johnson & Wales
END:VEVENT
BEGIN:VEVENT
DTSTART:20211211T000000
DTEND:20211211T000000
SUMMARY:Saint Joseph CT vs. Anna Maria
DESCRIPTION:2021-2022 Doubleheader --- 2021-2022 Men's Basketball ADDING ELMS (4/16/21) - Great Northeast Athletic Conference
LOCATION:W. Hartford, CT
CATEGORIES:QuickScores; Basketball Game
TRANSP:0
DALARM:20211211T000000;PT10M;2;Saint Joseph CT vs. Anna Maria
END:VEVENT
BEGIN:VEVENT
DTSTART:20220104T000000
DTEND:20220104T000000
SUMMARY:Anna Maria vs. Dean
DESCRIPTION:2021-2022 Doubleheader --- 2021-2022 Men's Basketball ADDING ELMS (4/16/21) - Great Northeast Athletic Conference
LOCATION:Paxton MA
CATEGORIES:QuickScores; Basketball Game
TRANSP:0
DALARM:20220104T000000;PT10M;2;Anna Maria vs. Dean
END:VEVENT
BEGIN:VEVENT
DTSTART:20220108T000000
DTEND:20220108T000000
SUMMARY:Colby Sawyer vs. Anna Maria
DESCRIPTION:2021-2022 Doubleheader --- 2021-2022 Men's Basketball ADDING ELMS (4/16/21) - Great Northeast Athletic Conference
LOCATION:New London NH
CATEGORIES:QuickScores; Basketball Game
TRANSP:0
DALARM:20220108T000000;PT10M;2;Colby Sawyer vs. Anna Maria
END:VEVENT
BEGIN:VEVENT
DTSTART:20220112T000000
DTEND:20220112T000000
SUMMARY:Anna Maria vs. Norwich
DESCRIPTION:2021-2022 Doubleheader --- 2021-2022 Men's Basketball ADDING ELMS (4/16/21) - Great Northeast Athletic Conference
LOCATION:Paxton MA
CATEGORIES:QuickScores; Basketball Game
TRANSP:0
DALARM:20220112T000000;PT10M;2;Anna Maria vs. Norwich
END:VEVENT
BEGIN:VEVENT
DTSTART:20220115T000000
DTEND:20220115T000000
SUMMARY:Anna Maria vs. Rivier
DESCRIPTION:2021-2022 Doubleheader --- 2021-2022 Men's Basketball ADDING ELMS (4/16/21) - Great Northeast Athletic Conference
LOCATION:Paxton MA
CATEGORIES:QuickScores; Basketball Game
TRANSP:0
DALARM:20220115T000000;PT10M;2;Anna Maria vs. Rivier
END:VEVENT
BEGIN:VEVENT
DTSTART:20220118T000000
DTEND:20220118T000000
SUMMARY:Saint Joseph's ME vs. Anna Maria
DESCRIPTION:2021-2022 Doubleheader --- 2021-2022 Men's Basketball ADDING ELMS (4/16/21) - Great Northeast Athletic Conference
LOCATION:Standish ME
CATEGORIES:QuickScores; Basketball Game
TRANSP:0
DALARM:20220118T000000;PT10M;2;Saint Joseph's ME vs. Anna Maria
END:VEVENT
BEGIN:VEVENT
DTSTART:20220120T000000
DTEND:20220120T000000
SUMMARY:Anna Maria vs. Regis
DESCRIPTION:2021-2022 Doubleheader --- 2021-2022 Men's Basketball ADDING ELMS (4/16/21) - Great Northeast Athletic Conference
LOCATION:Paxton MA
CATEGORIES:QuickScores; Basketball Game
TRANSP:0
DALARM:20220120T000000;PT10M;2;Anna Maria vs. Regis
END:VEVENT
BEGIN:VEVENT
DTSTART:20220126T000000
DTEND:20220126T000000
SUMMARY:Norwich vs. Anna Maria
DESCRIPTION:2021-2022 Doubleheader --- 2021-2022 Men's Basketball ADDING ELMS (4/16/21) - Great Northeast Athletic Conference
LOCATION:Northfield, VT
CATEGORIES:QuickScores; Basketball Game
TRANSP:0
DALARM:20220126T000000;PT10M;2;Norwich vs. Anna Maria
END:VEVENT
BEGIN:VEVENT
DTSTART:20220129T000000
DTEND:20220129T000000
SUMMARY:Anna Maria vs. Colby Sawyer
DESCRIPTION:2021-2022 Doubleheader --- 2021-2022 Men's Basketball ADDING ELMS (4/16/21) - Great Northeast Athletic Conference
LOCATION:Paxton MA
CATEGORIES:QuickScores; Basketball Game
TRANSP:0
DALARM:20220129T000000;PT10M;2;Anna Maria vs. Colby Sawyer
END:VEVENT
BEGIN:VEVENT
DTSTART:20220201T000000
DTEND:20220201T000000
SUMMARY:Emmanuel vs. Anna Maria
DESCRIPTION:2021-2022 Doubleheader --- 2021-2022 Men's Basketball ADDING ELMS (4/16/21) - Great Northeast Athletic Conference
LOCATION:Jean Yawkey Center
CATEGORIES:QuickScores; Basketball Game
TRANSP:0
DALARM:20220201T000000;PT10M;2;Emmanuel vs. Anna Maria
END:VEVENT
BEGIN:VEVENT
DTSTART:20220205T000000
DTEND:20220205T000000
SUMMARY:Rivier vs. Anna Maria
DESCRIPTION:2021-2022 Doubleheader --- 2021-2022 Men's Basketball ADDING ELMS (4/16/21) - Great Northeast Athletic Conference
LOCATION:Nashua, NH
CATEGORIES:QuickScores; Basketball Game
TRANSP:0
DALARM:20220205T000000;PT10M;2;Rivier vs. Anna Maria
END:VEVENT
BEGIN:VEVENT
DTSTART:20220209T000000
DTEND:20220209T000000
SUMMARY:Anna Maria vs. Saint Joseph's ME
DESCRIPTION:2021-2022 Doubleheader --- 2021-2022 Men's Basketball ADDING ELMS (4/16/21) - Great Northeast Athletic Conference
LOCATION:Paxton MA
CATEGORIES:QuickScores; Basketball Game
TRANSP:0
DALARM:20220209T000000;PT10M;2;Anna Maria vs. Saint Joseph's ME
END:VEVENT
BEGIN:VEVENT
DTSTART:20220212T000000
DTEND:20220212T000000
SUMMARY:Lasell vs. Anna Maria
DESCRIPTION:2021-2022 Doubleheader --- 2021-2022 Men's Basketball ADDING ELMS (4/16/21) - Great Northeast Athletic Conference
LOCATION:Lasell Newton
CATEGORIES:QuickScores; Basketball Game
TRANSP:0
DALARM:20220212T000000;PT10M;2;Lasell vs. Anna Maria
END:VEVENT
BEGIN:VEVENT
DTSTART:20220215T000000
DTEND:20220215T000000
SUMMARY:Anna Maria vs. Emmanuel
DESCRIPTION:2021-2022 Doubleheader --- 2021-2022 Men's Basketball ADDING ELMS (4/16/21) - Great Northeast Athletic Conference
LOCATION:Paxton MA
CATEGORIES:QuickScores; Basketball Game
TRANSP:0
DALARM:20220215T000000;PT10M;2;Anna Maria vs. Emmanuel
END:VEVENT
BEGIN:VEVENT
DTSTART:20220219T000000
DTEND:20220219T000000
SUMMARY:Anna Maria vs. Elms
DESCRIPTION:2021-2022 Doubleheader --- 2021-2022 Men's Basketball ADDING ELMS (4/16/21) - Great Northeast Athletic Conference
LOCATION:Paxton MA
CATEGORIES:QuickScores; Basketball Game
TRANSP:0
DALARM:20220219T000000;PT10M;2;Anna Maria vs. Elms
END:VEVENT
END:VCALENDAR
