BEGIN:VCALENDAR
VERSION:1.0
BEGIN:VEVENT
DTSTART:20210911T000000
DTEND:20210911T000000
SUMMARY:Albertus Magnus vs. Simmons
DESCRIPTION:2021 Women's Tennis (3/18/21) - Great Northeast Athletic Conference
LOCATION:New Haven, CT
CATEGORIES:QuickScores; Tennis Game
TRANSP:0
DALARM:20210911T000000;PT10M;2;Albertus Magnus vs. Simmons
END:VEVENT
BEGIN:VEVENT
DTSTART:20210918T000000
DTEND:20210918T000000
SUMMARY:Simmons vs. Colby Sawyer
DESCRIPTION:2021 Women's Tennis (3/18/21) - Great Northeast Athletic Conference
LOCATION:Daly Field Brighton
CATEGORIES:QuickScores; Tennis Game
TRANSP:0
DALARM:20210918T000000;PT10M;2;Simmons vs. Colby Sawyer
END:VEVENT
BEGIN:VEVENT
DTSTART:20210922T000000
DTEND:20210922T000000
SUMMARY:Simmons vs. Lesley
DESCRIPTION:2021 Women's Tennis (3/18/21) - Great Northeast Athletic Conference
LOCATION:Daly Field Brighton
CATEGORIES:QuickScores; Tennis Game
TRANSP:0
DALARM:20210922T000000;PT10M;2;Simmons vs. Lesley
END:VEVENT
BEGIN:VEVENT
DTSTART:20210925T000000
DTEND:20210925T000000
SUMMARY:Regis vs. Simmons
DESCRIPTION:2021 Women's Tennis (3/18/21) - Great Northeast Athletic Conference
LOCATION:Regis Weston MA
CATEGORIES:QuickScores; Tennis Game
TRANSP:0
DALARM:20210925T000000;PT10M;2;Regis vs. Simmons
END:VEVENT
BEGIN:VEVENT
DTSTART:20211002T000000
DTEND:20211002T000000
SUMMARY:Saint Joseph CT vs. Simmons
DESCRIPTION:2021 SIM can share a bus with Women’s Soccer --- 2021 Women's Tennis (3/18/21) - Great Northeast Athletic Conference
LOCATION:W. Hartford, CT
CATEGORIES:QuickScores; Tennis Game
TRANSP:0
DALARM:20211002T000000;PT10M;2;Saint Joseph CT vs. Simmons
END:VEVENT
BEGIN:VEVENT
DTSTART:20211006T000000
DTEND:20211006T000000
SUMMARY:Simmons vs. Eastern Nazarene
DESCRIPTION:2021 Women's Tennis (3/18/21) - Great Northeast Athletic Conference
LOCATION:Daly Field Brighton
CATEGORIES:QuickScores; Tennis Game
TRANSP:0
DALARM:20211006T000000;PT10M;2;Simmons vs. Eastern Nazarene
END:VEVENT
END:VCALENDAR
