BEGIN:VCALENDAR
VERSION:1.0
BEGIN:VEVENT
DTSTART:20210911T000000
DTEND:20210911T000000
SUMMARY:Colby Sawyer vs. Lesley
DESCRIPTION:2021 Women's Tennis (3/18/21) - Great Northeast Athletic Conference
LOCATION:New London NH
CATEGORIES:QuickScores; Tennis Game
TRANSP:0
DALARM:20210911T000000;PT10M;2;Colby Sawyer vs. Lesley
END:VEVENT
BEGIN:VEVENT
DTSTART:20210915T000000
DTEND:20210915T000000
SUMMARY:Eastern Nazarene vs. Lesley
DESCRIPTION:2021 Women's Tennis (3/18/21) - Great Northeast Athletic Conference
LOCATION:Eastern Nazarene
CATEGORIES:QuickScores; Tennis Game
TRANSP:0
DALARM:20210915T000000;PT10M;2;Eastern Nazarene vs. Lesley
END:VEVENT
BEGIN:VEVENT
DTSTART:20210918T000000
DTEND:20210918T000000
SUMMARY:Lesley vs. Saint Joseph CT
DESCRIPTION:2021 Women's Tennis (3/18/21) - Great Northeast Athletic Conference
LOCATION:Lesley
CATEGORIES:QuickScores; Tennis Game
TRANSP:0
DALARM:20210918T000000;PT10M;2;Lesley vs. Saint Joseph CT
END:VEVENT
BEGIN:VEVENT
DTSTART:20210922T000000
DTEND:20210922T000000
SUMMARY:Simmons vs. Lesley
DESCRIPTION:2021 Women's Tennis (3/18/21) - Great Northeast Athletic Conference
LOCATION:Daly Field Brighton
CATEGORIES:QuickScores; Tennis Game
TRANSP:0
DALARM:20210922T000000;PT10M;2;Simmons vs. Lesley
END:VEVENT
BEGIN:VEVENT
DTSTART:20211002T000000
DTEND:20211002T000000
SUMMARY:Lesley vs. Albertus Magnus
DESCRIPTION:2021 Women's Tennis (3/18/21) - Great Northeast Athletic Conference
LOCATION:Lesley
CATEGORIES:QuickScores; Tennis Game
TRANSP:0
DALARM:20211002T000000;PT10M;2;Lesley vs. Albertus Magnus
END:VEVENT
BEGIN:VEVENT
DTSTART:20211009T000000
DTEND:20211009T000000
SUMMARY:Lesley vs. Regis
DESCRIPTION:2021 Women's Tennis (3/18/21) - Great Northeast Athletic Conference
LOCATION:Lesley
CATEGORIES:QuickScores; Tennis Game
TRANSP:0
DALARM:20211009T000000;PT10M;2;Lesley vs. Regis
END:VEVENT
END:VCALENDAR
