BEGIN:VCALENDAR
VERSION:1.0
BEGIN:VEVENT
DTSTART:20071201T000000
DTEND:20071201T000000
SUMMARY:Daniel Webster vs. Johnson & Wales
DESCRIPTION:Men's Basketball - Great Northeast Athletic Conference
LOCATION:Daniel Webster
CATEGORIES:QuickScores; Basketball Game
TRANSP:0
DALARM:20071201T000000;PT10M;2;Daniel Webster vs. Johnson & Wales
END:VEVENT
BEGIN:VEVENT
DTSTART:20071208T000000
DTEND:20071208T000000
SUMMARY:Saint Joseph's ME vs. Daniel Webster
DESCRIPTION:Men's Basketball - Great Northeast Athletic Conference
LOCATION:Standish ME
CATEGORIES:QuickScores; Basketball Game
TRANSP:0
DALARM:20071208T000000;PT10M;2;Saint Joseph's ME vs. Daniel Webster
END:VEVENT
BEGIN:VEVENT
DTSTART:20080108T000000
DTEND:20080108T000000
SUMMARY:Daniel Webster vs. Emmanuel
DESCRIPTION:Men's Basketball - Great Northeast Athletic Conference
LOCATION:Daniel Webster
CATEGORIES:QuickScores; Basketball Game
TRANSP:0
DALARM:20080108T000000;PT10M;2;Daniel Webster vs. Emmanuel
END:VEVENT
BEGIN:VEVENT
DTSTART:20080110T000000
DTEND:20080110T000000
SUMMARY:Daniel Webster vs. Mount Ida
DESCRIPTION:Men's Basketball - Great Northeast Athletic Conference
LOCATION:Daniel Webster
CATEGORIES:QuickScores; Basketball Game
TRANSP:0
DALARM:20080110T000000;PT10M;2;Daniel Webster vs. Mount Ida
END:VEVENT
BEGIN:VEVENT
DTSTART:20080112T000000
DTEND:20080112T000000
SUMMARY:Albertus Magnus vs. Daniel Webster
DESCRIPTION:Men's Basketball - Great Northeast Athletic Conference
LOCATION:New Haven, CT
CATEGORIES:QuickScores; Basketball Game
TRANSP:0
DALARM:20080112T000000;PT10M;2;Albertus Magnus vs. Daniel Webster
END:VEVENT
BEGIN:VEVENT
DTSTART:20080115T000000
DTEND:20080115T000000
SUMMARY:Daniel Webster vs. Rivier
DESCRIPTION:Men's Basketball - Great Northeast Athletic Conference
LOCATION:Daniel Webster
CATEGORIES:QuickScores; Basketball Game
TRANSP:0
DALARM:20080115T000000;PT10M;2;Daniel Webster vs. Rivier
END:VEVENT
BEGIN:VEVENT
DTSTART:20080119T000000
DTEND:20080119T000000
SUMMARY:Daniel Webster vs. Emerson
DESCRIPTION:Men's Basketball - Great Northeast Athletic Conference
LOCATION:Daniel Webster
CATEGORIES:QuickScores; Basketball Game
TRANSP:0
DALARM:20080119T000000;PT10M;2;Daniel Webster vs. Emerson
END:VEVENT
BEGIN:VEVENT
DTSTART:20080121T000000
DTEND:20080121T000000
SUMMARY:Norwich vs. Daniel Webster
DESCRIPTION:MLK Day --- Men's Basketball - Great Northeast Athletic Conference
LOCATION:Northfield, VT
CATEGORIES:QuickScores; Basketball Game
TRANSP:0
DALARM:20080121T000000;PT10M;2;Norwich vs. Daniel Webster
END:VEVENT
BEGIN:VEVENT
DTSTART:20080126T000000
DTEND:20080126T000000
SUMMARY:Johnson & Wales vs. Daniel Webster
DESCRIPTION:DH w WBB --- Men's Basketball - Great Northeast Athletic Conference
LOCATION:Providence, RI
CATEGORIES:QuickScores; Basketball Game
TRANSP:0
DALARM:20080126T000000;PT10M;2;Johnson & Wales vs. Daniel Webster
END:VEVENT
BEGIN:VEVENT
DTSTART:20080129T000000
DTEND:20080129T000000
SUMMARY:Emerson vs. Daniel Webster
DESCRIPTION:Men's Basketball - Great Northeast Athletic Conference
LOCATION:Piano Row Gymnasium
CATEGORIES:QuickScores; Basketball Game
TRANSP:0
DALARM:20080129T000000;PT10M;2;Emerson vs. Daniel Webster
END:VEVENT
BEGIN:VEVENT
DTSTART:20080131T000000
DTEND:20080131T000000
SUMMARY:Daniel Webster vs. Lasell
DESCRIPTION:Men's Basketball - Great Northeast Athletic Conference
LOCATION:Daniel Webster
CATEGORIES:QuickScores; Basketball Game
TRANSP:0
DALARM:20080131T000000;PT10M;2;Daniel Webster vs. Lasell
END:VEVENT
BEGIN:VEVENT
DTSTART:20080202T000000
DTEND:20080202T000000
SUMMARY:Daniel Webster vs. Albertus Magnus
DESCRIPTION:DH w WBB --- Men's Basketball - Great Northeast Athletic Conference
LOCATION:Daniel Webster
CATEGORIES:QuickScores; Basketball Game
TRANSP:0
DALARM:20080202T000000;PT10M;2;Daniel Webster vs. Albertus Magnus
END:VEVENT
BEGIN:VEVENT
DTSTART:20080204T000000
DTEND:20080204T000000
SUMMARY:Mount Ida vs. Daniel Webster
DESCRIPTION:Men's Basketball - Great Northeast Athletic Conference
LOCATION:Mount Ida
CATEGORIES:QuickScores; Basketball Game
TRANSP:0
DALARM:20080204T000000;PT10M;2;Mount Ida vs. Daniel Webster
END:VEVENT
BEGIN:VEVENT
DTSTART:20080206T000000
DTEND:20080206T000000
SUMMARY:Suffolk vs. Daniel Webster
DESCRIPTION:Men's Basketball - Great Northeast Athletic Conference
LOCATION:Suffolk
CATEGORIES:QuickScores; Basketball Game
TRANSP:0
DALARM:20080206T000000;PT10M;2;Suffolk vs. Daniel Webster
END:VEVENT
BEGIN:VEVENT
DTSTART:20080209T000000
DTEND:20080209T000000
SUMMARY:Daniel Webster vs. Norwich
DESCRIPTION:DH w WBB --- Men's Basketball - Great Northeast Athletic Conference
LOCATION:Daniel Webster
CATEGORIES:QuickScores; Basketball Game
TRANSP:0
DALARM:20080209T000000;PT10M;2;Daniel Webster vs. Norwich
END:VEVENT
BEGIN:VEVENT
DTSTART:20080212T000000
DTEND:20080212T000000
SUMMARY:Daniel Webster vs. Saint Joseph's ME
DESCRIPTION:Men's Basketball - Great Northeast Athletic Conference
LOCATION:Daniel Webster
CATEGORIES:QuickScores; Basketball Game
TRANSP:0
DALARM:20080212T000000;PT10M;2;Daniel Webster vs. Saint Joseph's ME
END:VEVENT
BEGIN:VEVENT
DTSTART:20080219T000000
DTEND:20080219T000000
SUMMARY:Lasell vs. Daniel Webster
DESCRIPTION:Men's Basketball - Great Northeast Athletic Conference
LOCATION:Lasell Newton
CATEGORIES:QuickScores; Basketball Game
TRANSP:0
DALARM:20080219T000000;PT10M;2;Lasell vs. Daniel Webster
END:VEVENT
BEGIN:VEVENT
DTSTART:20080223T000000
DTEND:20080223T000000
SUMMARY:Rivier vs. Daniel Webster
DESCRIPTION:Men's Basketball - Great Northeast Athletic Conference
LOCATION:Rivier
CATEGORIES:QuickScores; Basketball Game
TRANSP:0
DALARM:20080223T000000;PT10M;2;Rivier vs. Daniel Webster
END:VEVENT
END:VCALENDAR
