BEGIN:VCALENDAR
VERSION:1.0
BEGIN:VEVENT
DTSTART:20071201T000000
DTEND:20071201T000000
SUMMARY:Emerson vs. Mount Ida
DESCRIPTION:Men's Basketball - Great Northeast Athletic Conference
LOCATION:Piano Row Gymnasium
CATEGORIES:QuickScores; Basketball Game
TRANSP:0
DALARM:20071201T000000;PT10M;2;Emerson vs. Mount Ida
END:VEVENT
BEGIN:VEVENT
DTSTART:20071208T000000
DTEND:20071208T000000
SUMMARY:Mount Ida vs. Norwich
DESCRIPTION:Men's Basketball - Great Northeast Athletic Conference
LOCATION:Mount Ida
CATEGORIES:QuickScores; Basketball Game
TRANSP:0
DALARM:20071208T000000;PT10M;2;Mount Ida vs. Norwich
END:VEVENT
BEGIN:VEVENT
DTSTART:20080110T000000
DTEND:20080110T000000
SUMMARY:Daniel Webster vs. Mount Ida
DESCRIPTION:Men's Basketball - Great Northeast Athletic Conference
LOCATION:Daniel Webster
CATEGORIES:QuickScores; Basketball Game
TRANSP:0
DALARM:20080110T000000;PT10M;2;Daniel Webster vs. Mount Ida
END:VEVENT
BEGIN:VEVENT
DTSTART:20080112T000000
DTEND:20080112T000000
SUMMARY:Emmanuel vs. Mount Ida
DESCRIPTION:Men's Basketball - Great Northeast Athletic Conference
LOCATION:Jean Yawkey Center
CATEGORIES:QuickScores; Basketball Game
TRANSP:0
DALARM:20080112T000000;PT10M;2;Emmanuel vs. Mount Ida
END:VEVENT
BEGIN:VEVENT
DTSTART:20080115T000000
DTEND:20080115T000000
SUMMARY:Mount Ida vs. Johnson & Wales
DESCRIPTION:Men's Basketball - Great Northeast Athletic Conference
LOCATION:Mount Ida
CATEGORIES:QuickScores; Basketball Game
TRANSP:0
DALARM:20080115T000000;PT10M;2;Mount Ida vs. Johnson & Wales
END:VEVENT
BEGIN:VEVENT
DTSTART:20080117T000000
DTEND:20080117T000000
SUMMARY:Mount Ida vs. Suffolk
DESCRIPTION:Men's Basketball - Great Northeast Athletic Conference
LOCATION:Mount Ida
CATEGORIES:QuickScores; Basketball Game
TRANSP:0
DALARM:20080117T000000;PT10M;2;Mount Ida vs. Suffolk
END:VEVENT
BEGIN:VEVENT
DTSTART:20080119T000000
DTEND:20080119T000000
SUMMARY:Saint Joseph's ME vs. Mount Ida
DESCRIPTION:DH w WBB --- Men's Basketball - Great Northeast Athletic Conference
LOCATION:Standish ME
CATEGORIES:QuickScores; Basketball Game
TRANSP:0
DALARM:20080119T000000;PT10M;2;Saint Joseph's ME vs. Mount Ida
END:VEVENT
BEGIN:VEVENT
DTSTART:20080121T000000
DTEND:20080121T000000
SUMMARY:Mount Ida vs. Lasell
DESCRIPTION:MLK Day --- Men's Basketball - Great Northeast Athletic Conference
LOCATION:Mount Ida
CATEGORIES:QuickScores; Basketball Game
TRANSP:0
DALARM:20080121T000000;PT10M;2;Mount Ida vs. Lasell
END:VEVENT
BEGIN:VEVENT
DTSTART:20080124T000000
DTEND:20080124T000000
SUMMARY:Johnson & Wales vs. Mount Ida
DESCRIPTION:Men's Basketball - Great Northeast Athletic Conference
LOCATION:Providence, RI
CATEGORIES:QuickScores; Basketball Game
TRANSP:0
DALARM:20080124T000000;PT10M;2;Johnson & Wales vs. Mount Ida
END:VEVENT
BEGIN:VEVENT
DTSTART:20080126T000000
DTEND:20080126T000000
SUMMARY:Mount Ida vs. Rivier
DESCRIPTION:Men's Basketball - Great Northeast Athletic Conference
LOCATION:Mount Ida
CATEGORIES:QuickScores; Basketball Game
TRANSP:0
DALARM:20080126T000000;PT10M;2;Mount Ida vs. Rivier
END:VEVENT
BEGIN:VEVENT
DTSTART:20080131T000000
DTEND:20080131T000000
SUMMARY:Norwich vs. Mount Ida
DESCRIPTION:Men's Basketball - Great Northeast Athletic Conference
LOCATION:Northfield, VT
CATEGORIES:QuickScores; Basketball Game
TRANSP:0
DALARM:20080131T000000;PT10M;2;Norwich vs. Mount Ida
END:VEVENT
BEGIN:VEVENT
DTSTART:20080204T000000
DTEND:20080204T000000
SUMMARY:Mount Ida vs. Daniel Webster
DESCRIPTION:Men's Basketball - Great Northeast Athletic Conference
LOCATION:Mount Ida
CATEGORIES:QuickScores; Basketball Game
TRANSP:0
DALARM:20080204T000000;PT10M;2;Mount Ida vs. Daniel Webster
END:VEVENT
BEGIN:VEVENT
DTSTART:20080206T000000
DTEND:20080206T000000
SUMMARY:Mount Ida vs. Emmanuel
DESCRIPTION:Men's Basketball - Great Northeast Athletic Conference
LOCATION:Mount Ida
CATEGORIES:QuickScores; Basketball Game
TRANSP:0
DALARM:20080206T000000;PT10M;2;Mount Ida vs. Emmanuel
END:VEVENT
BEGIN:VEVENT
DTSTART:20080209T000000
DTEND:20080209T000000
SUMMARY:Rivier vs. Mount Ida
DESCRIPTION:Men's Basketball - Great Northeast Athletic Conference
LOCATION:Rivier
CATEGORIES:QuickScores; Basketball Game
TRANSP:0
DALARM:20080209T000000;PT10M;2;Rivier vs. Mount Ida
END:VEVENT
BEGIN:VEVENT
DTSTART:20080212T000000
DTEND:20080212T000000
SUMMARY:Mount Ida vs. Emerson
DESCRIPTION:Men's Basketball - Great Northeast Athletic Conference
LOCATION:Mount Ida
CATEGORIES:QuickScores; Basketball Game
TRANSP:0
DALARM:20080212T000000;PT10M;2;Mount Ida vs. Emerson
END:VEVENT
BEGIN:VEVENT
DTSTART:20080216T000000
DTEND:20080216T000000
SUMMARY:Albertus Magnus vs. Mount Ida
DESCRIPTION:DH w WBB --- Men's Basketball - Great Northeast Athletic Conference
LOCATION:New Haven, CT
CATEGORIES:QuickScores; Basketball Game
TRANSP:0
DALARM:20080216T000000;PT10M;2;Albertus Magnus vs. Mount Ida
END:VEVENT
BEGIN:VEVENT
DTSTART:20080219T000000
DTEND:20080219T000000
SUMMARY:Mount Ida vs. Saint Joseph's ME
DESCRIPTION:Men's Basketball - Great Northeast Athletic Conference
LOCATION:Mount Ida
CATEGORIES:QuickScores; Basketball Game
TRANSP:0
DALARM:20080219T000000;PT10M;2;Mount Ida vs. Saint Joseph's ME
END:VEVENT
BEGIN:VEVENT
DTSTART:20080223T000000
DTEND:20080223T000000
SUMMARY:Lasell vs. Mount Ida
DESCRIPTION:Men's Basketball - Great Northeast Athletic Conference
LOCATION:Lasell Newton
CATEGORIES:QuickScores; Basketball Game
TRANSP:0
DALARM:20080223T000000;PT10M;2;Lasell vs. Mount Ida
END:VEVENT
END:VCALENDAR
