BEGIN:VCALENDAR
VERSION:1.0
BEGIN:VEVENT
DTSTART:20200404T000000
DTEND:20200404T000000
SUMMARY:Saint Joseph CT vs. Lasell
DESCRIPTION:2020 LAS can share a bus w WLAX --- 2020 Softball - Great Northeast Athletic Conference
LOCATION:W. Hartford, CT
CATEGORIES:QuickScores; Softball Game
TRANSP:0
DALARM:20200404T000000;PT10M;2;Saint Joseph CT vs. Lasell
END:VEVENT
BEGIN:VEVENT
DTSTART:20200405T000000
DTEND:20200405T000000
SUMMARY:Saint Joseph CT vs. Albertus Magnus
DESCRIPTION:2020 Softball - Great Northeast Athletic Conference
LOCATION:W. Hartford, CT
CATEGORIES:QuickScores; Softball Game
TRANSP:0
DALARM:20200405T000000;PT10M;2;Saint Joseph CT vs. Albertus Magnus
END:VEVENT
BEGIN:VEVENT
DTSTART:20200409T000000
DTEND:20200409T000000
SUMMARY:Saint Joseph's ME vs. Saint Joseph CT
DESCRIPTION:2020 Softball - Great Northeast Athletic Conference
LOCATION:Standish ME
CATEGORIES:QuickScores; Softball Game
TRANSP:0
DALARM:20200409T000000;PT10M;2;Saint Joseph's ME vs. Saint Joseph CT
END:VEVENT
BEGIN:VEVENT
DTSTART:20200411T000000
DTEND:20200411T000000
SUMMARY:Rivier vs. Saint Joseph CT
DESCRIPTION:2020 USJ can share a bus w WLAX --- 2020 Softball - Great Northeast Athletic Conference
LOCATION:Nashua, NH
CATEGORIES:QuickScores; Softball Game
TRANSP:0
DALARM:20200411T000000;PT10M;2;Rivier vs. Saint Joseph CT
END:VEVENT
BEGIN:VEVENT
DTSTART:20200418T000000
DTEND:20200418T000000
SUMMARY:Saint Joseph CT vs. Simmons
DESCRIPTION:2020 SIM can share a bus w WLAX --- 2020 Softball - Great Northeast Athletic Conference
LOCATION:W. Hartford, CT
CATEGORIES:QuickScores; Softball Game
TRANSP:0
DALARM:20200418T000000;PT10M;2;Saint Joseph CT vs. Simmons
END:VEVENT
BEGIN:VEVENT
DTSTART:20200419T000000
DTEND:20200419T000000
SUMMARY:Saint Joseph CT vs. Regis
DESCRIPTION:2020 Softball - Great Northeast Athletic Conference
LOCATION:W. Hartford, CT
CATEGORIES:QuickScores; Softball Game
TRANSP:0
DALARM:20200419T000000;PT10M;2;Saint Joseph CT vs. Regis
END:VEVENT
BEGIN:VEVENT
DTSTART:20200424T000000
DTEND:20200424T000000
SUMMARY:Johnson & Wales vs. Saint Joseph CT
DESCRIPTION:2020 Softball - Great Northeast Athletic Conference
LOCATION:Scotts Miracle Gro Athletic Complex
CATEGORIES:QuickScores; Softball Game
TRANSP:0
DALARM:20200424T000000;PT10M;2;Johnson & Wales vs. Saint Joseph CT
END:VEVENT
BEGIN:VEVENT
DTSTART:20200425T000000
DTEND:20200425T000000
SUMMARY:Suffolk vs. Saint Joseph CT
DESCRIPTION:2020 Softball - Great Northeast Athletic Conference
LOCATION:East Boston Memorial Field
CATEGORIES:QuickScores; Softball Game
TRANSP:0
DALARM:20200425T000000;PT10M;2;Suffolk vs. Saint Joseph CT
END:VEVENT
END:VCALENDAR
