BEGIN:VCALENDAR
VERSION:1.0
BEGIN:VEVENT
DTSTART:20200404T000000
DTEND:20200404T000000
SUMMARY:Rivier vs. Saint Joseph's ME
DESCRIPTION:2020 STJME can share a bus w WLAX --- 2020 Softball - Great Northeast Athletic Conference
LOCATION:Nashua, NH
CATEGORIES:QuickScores; Softball Game
TRANSP:0
DALARM:20200404T000000;PT10M;2;Rivier vs. Saint Joseph's ME
END:VEVENT
BEGIN:VEVENT
DTSTART:20200405T000000
DTEND:20200405T000000
SUMMARY:Suffolk vs. Rivier
DESCRIPTION:2020 Softball - Great Northeast Athletic Conference
LOCATION:East Boston Memorial Field
CATEGORIES:QuickScores; Softball Game
TRANSP:0
DALARM:20200405T000000;PT10M;2;Suffolk vs. Rivier
END:VEVENT
BEGIN:VEVENT
DTSTART:20200409T000000
DTEND:20200409T000000
SUMMARY:Simmons vs. Rivier
DESCRIPTION:2020 Softball - Great Northeast Athletic Conference
LOCATION:Daly Field Brighton
CATEGORIES:QuickScores; Softball Game
TRANSP:0
DALARM:20200409T000000;PT10M;2;Simmons vs. Rivier
END:VEVENT
BEGIN:VEVENT
DTSTART:20200411T000000
DTEND:20200411T000000
SUMMARY:Rivier vs. Saint Joseph CT
DESCRIPTION:2020 USJ can share a bus w WLAX --- 2020 Softball - Great Northeast Athletic Conference
LOCATION:Nashua, NH
CATEGORIES:QuickScores; Softball Game
TRANSP:0
DALARM:20200411T000000;PT10M;2;Rivier vs. Saint Joseph CT
END:VEVENT
BEGIN:VEVENT
DTSTART:20200418T000000
DTEND:20200418T000000
SUMMARY:Norwich vs. Rivier
DESCRIPTION:2020 RIV can share a bus with WLAX. 2020 NOR Jr. Ring Day --- 2020 Softball - Great Northeast Athletic Conference
LOCATION:Northfield, VT
CATEGORIES:QuickScores; Softball Game
TRANSP:0
DALARM:20200418T000000;PT10M;2;Norwich vs. Rivier
END:VEVENT
BEGIN:VEVENT
DTSTART:20200419T000000
DTEND:20200419T000000
SUMMARY:Rivier vs. Anna Maria
DESCRIPTION:2020 Softball - Great Northeast Athletic Conference
LOCATION:Nashua, NH
CATEGORIES:QuickScores; Softball Game
TRANSP:0
DALARM:20200419T000000;PT10M;2;Rivier vs. Anna Maria
END:VEVENT
BEGIN:VEVENT
DTSTART:20200424T000000
DTEND:20200424T000000
SUMMARY:Rivier vs. Emmanuel
DESCRIPTION:2020 Softball - Great Northeast Athletic Conference
LOCATION:Nashua, NH
CATEGORIES:QuickScores; Softball Game
TRANSP:0
DALARM:20200424T000000;PT10M;2;Rivier vs. Emmanuel
END:VEVENT
BEGIN:VEVENT
DTSTART:20200425T000000
DTEND:20200425T000000
SUMMARY:Regis vs. Rivier
DESCRIPTION:2020 Softball - Great Northeast Athletic Conference
LOCATION:Regis Weston MA
CATEGORIES:QuickScores; Softball Game
TRANSP:0
DALARM:20200425T000000;PT10M;2;Regis vs. Rivier
END:VEVENT
END:VCALENDAR
