BEGIN:VCALENDAR
VERSION:1.0
BEGIN:VEVENT
DTSTART:20200404T000000
DTEND:20200404T000000
SUMMARY:Albertus Magnus vs. Regis
DESCRIPTION:2020 Regis can share a bus w WLAX --- 2020 Softball - Great Northeast Athletic Conference
LOCATION:New Haven, CT
CATEGORIES:QuickScores; Softball Game
TRANSP:0
DALARM:20200404T000000;PT10M;2;Albertus Magnus vs. Regis
END:VEVENT
BEGIN:VEVENT
DTSTART:20200405T000000
DTEND:20200405T000000
SUMMARY:Regis vs. Simmons
DESCRIPTION:2020 Softball - Great Northeast Athletic Conference
LOCATION:Regis Weston MA
CATEGORIES:QuickScores; Softball Game
TRANSP:0
DALARM:20200405T000000;PT10M;2;Regis vs. Simmons
END:VEVENT
BEGIN:VEVENT
DTSTART:20200409T000000
DTEND:20200409T000000
SUMMARY:Regis vs. Lasell
DESCRIPTION:2020 Softball - Great Northeast Athletic Conference
LOCATION:Regis Weston MA
CATEGORIES:QuickScores; Softball Game
TRANSP:0
DALARM:20200409T000000;PT10M;2;Regis vs. Lasell
END:VEVENT
BEGIN:VEVENT
DTSTART:20200411T000000
DTEND:20200411T000000
SUMMARY:Emmanuel vs. Regis
DESCRIPTION:2020 Softball - Great Northeast Athletic Conference
LOCATION:Roberto Clemente Field
CATEGORIES:QuickScores; Softball Game
TRANSP:0
DALARM:20200411T000000;PT10M;2;Emmanuel vs. Regis
END:VEVENT
BEGIN:VEVENT
DTSTART:20200418T000000
DTEND:20200418T000000
SUMMARY:Johnson & Wales vs. Regis
DESCRIPTION:2020 Regis can share a bus with WLAX --- 2020 Softball - Great Northeast Athletic Conference
LOCATION:Scotts Miracle Gro Athletic Complex
CATEGORIES:QuickScores; Softball Game
TRANSP:0
DALARM:20200418T000000;PT10M;2;Johnson & Wales vs. Regis
END:VEVENT
BEGIN:VEVENT
DTSTART:20200419T000000
DTEND:20200419T000000
SUMMARY:Saint Joseph CT vs. Regis
DESCRIPTION:2020 Softball - Great Northeast Athletic Conference
LOCATION:W. Hartford, CT
CATEGORIES:QuickScores; Softball Game
TRANSP:0
DALARM:20200419T000000;PT10M;2;Saint Joseph CT vs. Regis
END:VEVENT
BEGIN:VEVENT
DTSTART:20200424T000000
DTEND:20200424T000000
SUMMARY:Regis vs. Norwich
DESCRIPTION:2020 Softball - Great Northeast Athletic Conference
LOCATION:Regis Weston MA
CATEGORIES:QuickScores; Softball Game
TRANSP:0
DALARM:20200424T000000;PT10M;2;Regis vs. Norwich
END:VEVENT
BEGIN:VEVENT
DTSTART:20200425T000000
DTEND:20200425T000000
SUMMARY:Regis vs. Rivier
DESCRIPTION:2020 Softball - Great Northeast Athletic Conference
LOCATION:Regis Weston MA
CATEGORIES:QuickScores; Softball Game
TRANSP:0
DALARM:20200425T000000;PT10M;2;Regis vs. Rivier
END:VEVENT
END:VCALENDAR
