BEGIN:VCALENDAR
VERSION:1.0
BEGIN:VEVENT
DTSTART:20200404T000000
DTEND:20200404T000000
SUMMARY:Anna Maria vs. Johnson & Wales
DESCRIPTION:2020 JWU can share a bus w WLAX --- 2020 Softball - Great Northeast Athletic Conference
LOCATION:Paxton MA
CATEGORIES:QuickScores; Softball Game
TRANSP:0
DALARM:20200404T000000;PT10M;2;Anna Maria vs. Johnson & Wales
END:VEVENT
BEGIN:VEVENT
DTSTART:20200405T000000
DTEND:20200405T000000
SUMMARY:Lasell vs. Johnson & Wales
DESCRIPTION:2020 Softball - Great Northeast Athletic Conference
LOCATION:Taylor Field at Lasell College
CATEGORIES:QuickScores; Softball Game
TRANSP:0
DALARM:20200405T000000;PT10M;2;Lasell vs. Johnson & Wales
END:VEVENT
BEGIN:VEVENT
DTSTART:20200409T000000
DTEND:20200409T000000
SUMMARY:Emmanuel vs. Johnson & Wales
DESCRIPTION:2020 Softball - Great Northeast Athletic Conference
LOCATION:Roberto Clemente Field
CATEGORIES:QuickScores; Softball Game
TRANSP:0
DALARM:20200409T000000;PT10M;2;Emmanuel vs. Johnson & Wales
END:VEVENT
BEGIN:VEVENT
DTSTART:20200411T000000
DTEND:20200411T000000
SUMMARY:Johnson & Wales vs. Suffolk
DESCRIPTION:2020 Softball - Great Northeast Athletic Conference
LOCATION:Scotts Miracle Gro Athletic Complex
CATEGORIES:QuickScores; Softball Game
TRANSP:0
DALARM:20200411T000000;PT10M;2;Johnson & Wales vs. Suffolk
END:VEVENT
BEGIN:VEVENT
DTSTART:20200418T000000
DTEND:20200418T000000
SUMMARY:Johnson & Wales vs. Regis
DESCRIPTION:2020 Regis can share a bus with WLAX --- 2020 Softball - Great Northeast Athletic Conference
LOCATION:Scotts Miracle Gro Athletic Complex
CATEGORIES:QuickScores; Softball Game
TRANSP:0
DALARM:20200418T000000;PT10M;2;Johnson & Wales vs. Regis
END:VEVENT
BEGIN:VEVENT
DTSTART:20200419T000000
DTEND:20200419T000000
SUMMARY:Albertus Magnus vs. Johnson & Wales
DESCRIPTION:2020 Softball - Great Northeast Athletic Conference
LOCATION:New Haven, CT
CATEGORIES:QuickScores; Softball Game
TRANSP:0
DALARM:20200419T000000;PT10M;2;Albertus Magnus vs. Johnson & Wales
END:VEVENT
BEGIN:VEVENT
DTSTART:20200424T000000
DTEND:20200424T000000
SUMMARY:Johnson & Wales vs. Saint Joseph CT
DESCRIPTION:2020 Softball - Great Northeast Athletic Conference
LOCATION:Scotts Miracle Gro Athletic Complex
CATEGORIES:QuickScores; Softball Game
TRANSP:0
DALARM:20200424T000000;PT10M;2;Johnson & Wales vs. Saint Joseph CT
END:VEVENT
BEGIN:VEVENT
DTSTART:20200425T000000
DTEND:20200425T000000
SUMMARY:Johnson & Wales vs. Simmons
DESCRIPTION:2020 Softball - Great Northeast Athletic Conference
LOCATION:Scotts Miracle Gro Athletic Complex
CATEGORIES:QuickScores; Softball Game
TRANSP:0
DALARM:20200425T000000;PT10M;2;Johnson & Wales vs. Simmons
END:VEVENT
END:VCALENDAR
