BEGIN:VCALENDAR
VERSION:1.0
BEGIN:VEVENT
DTSTART:20200404T000000
DTEND:20200404T000000
SUMMARY:Albertus Magnus vs. Regis
DESCRIPTION:2020 Regis can share a bus w WLAX --- 2020 Softball - Great Northeast Athletic Conference
LOCATION:New Haven, CT
CATEGORIES:QuickScores; Softball Game
TRANSP:0
DALARM:20200404T000000;PT10M;2;Albertus Magnus vs. Regis
END:VEVENT
BEGIN:VEVENT
DTSTART:20200405T000000
DTEND:20200405T000000
SUMMARY:Saint Joseph CT vs. Albertus Magnus
DESCRIPTION:2020 Softball - Great Northeast Athletic Conference
LOCATION:W. Hartford, CT
CATEGORIES:QuickScores; Softball Game
TRANSP:0
DALARM:20200405T000000;PT10M;2;Saint Joseph CT vs. Albertus Magnus
END:VEVENT
BEGIN:VEVENT
DTSTART:20200409T000000
DTEND:20200409T000000
SUMMARY:Albertus Magnus vs. Anna Maria
DESCRIPTION:2020 Softball - Great Northeast Athletic Conference
LOCATION:New Haven, CT
CATEGORIES:QuickScores; Softball Game
TRANSP:0
DALARM:20200409T000000;PT10M;2;Albertus Magnus vs. Anna Maria
END:VEVENT
BEGIN:VEVENT
DTSTART:20200411T000000
DTEND:20200411T000000
SUMMARY:Simmons vs. Albertus Magnus
DESCRIPTION:2020 ALB can share a bus w WLAX --- 2020 Softball - Great Northeast Athletic Conference
LOCATION:Daly Field Brighton
CATEGORIES:QuickScores; Softball Game
TRANSP:0
DALARM:20200411T000000;PT10M;2;Simmons vs. Albertus Magnus
END:VEVENT
BEGIN:VEVENT
DTSTART:20200418T000000
DTEND:20200418T000000
SUMMARY:Lasell vs. Albertus Magnus
DESCRIPTION:2020 Albertus can share a bus with WLAX --- 2020 Softball - Great Northeast Athletic Conference
LOCATION:Taylor Field at Lasell College
CATEGORIES:QuickScores; Softball Game
TRANSP:0
DALARM:20200418T000000;PT10M;2;Lasell vs. Albertus Magnus
END:VEVENT
BEGIN:VEVENT
DTSTART:20200419T000000
DTEND:20200419T000000
SUMMARY:Albertus Magnus vs. Johnson & Wales
DESCRIPTION:2020 Softball - Great Northeast Athletic Conference
LOCATION:New Haven, CT
CATEGORIES:QuickScores; Softball Game
TRANSP:0
DALARM:20200419T000000;PT10M;2;Albertus Magnus vs. Johnson & Wales
END:VEVENT
BEGIN:VEVENT
DTSTART:20200424T000000
DTEND:20200424T000000
SUMMARY:Albertus Magnus vs. Suffolk
DESCRIPTION:2020 Softball - Great Northeast Athletic Conference
LOCATION:New Haven, CT
CATEGORIES:QuickScores; Softball Game
TRANSP:0
DALARM:20200424T000000;PT10M;2;Albertus Magnus vs. Suffolk
END:VEVENT
BEGIN:VEVENT
DTSTART:20200425T000000
DTEND:20200425T000000
SUMMARY:Saint Joseph's ME vs. Albertus Magnus
DESCRIPTION:2020 Softball - Great Northeast Athletic Conference
LOCATION:Standish ME
CATEGORIES:QuickScores; Softball Game
TRANSP:0
DALARM:20200425T000000;PT10M;2;Saint Joseph's ME vs. Albertus Magnus
END:VEVENT
END:VCALENDAR
