BEGIN:VCALENDAR
VERSION:1.0
BEGIN:VEVENT
DTSTART:20190914T000000
DTEND:20190914T000000
SUMMARY:Saint Joseph's ME vs. Regis
DESCRIPTION:2019 Field Hockey - Great Northeast Athletic Conference
LOCATION:Standish ME
CATEGORIES:QuickScores; Field Hockey Game
TRANSP:0
DALARM:20190914T000000;PT10M;2;Saint Joseph's ME vs. Regis
END:VEVENT
BEGIN:VEVENT
DTSTART:20190928T000000
DTEND:20190928T000000
SUMMARY:Regis vs. Simmons
DESCRIPTION:2019 Regis Homecoming and Parents Weekend --- 2019 Field Hockey - Great Northeast Athletic Conference
LOCATION:Regis Weston MA
CATEGORIES:QuickScores; Field Hockey Game
TRANSP:0
DALARM:20190928T000000;PT10M;2;Regis vs. Simmons
END:VEVENT
BEGIN:VEVENT
DTSTART:20191005T000000
DTEND:20191005T000000
SUMMARY:Anna Maria vs. Regis
DESCRIPTION:2019 Regis can share a bus with Men's Soccer --- 2019 Field Hockey - Great Northeast Athletic Conference
LOCATION:Paxton MA
CATEGORIES:QuickScores; Field Hockey Game
TRANSP:0
DALARM:20191005T000000;PT10M;2;Anna Maria vs. Regis
END:VEVENT
BEGIN:VEVENT
DTSTART:20191012T000000
DTEND:20191012T000000
SUMMARY:Lasell vs. Regis
DESCRIPTION:2019 Field Hockey - Great Northeast Athletic Conference
LOCATION:Lasell Newton
CATEGORIES:QuickScores; Field Hockey Game
TRANSP:0
DALARM:20191012T000000;PT10M;2;Lasell vs. Regis
END:VEVENT
BEGIN:VEVENT
DTSTART:20191019T000000
DTEND:20191019T000000
SUMMARY:Regis vs. Colby Sawyer
DESCRIPTION:2019 CS can share a bus w WSOC playing at EMM --- 2019 Field Hockey - Great Northeast Athletic Conference
LOCATION:Regis Weston MA
CATEGORIES:QuickScores; Field Hockey Game
TRANSP:0
DALARM:20191019T000000;PT10M;2;Regis vs. Colby Sawyer
END:VEVENT
BEGIN:VEVENT
DTSTART:20191023T000000
DTEND:20191023T000000
SUMMARY:Regis vs. Rivier
DESCRIPTION:2019 Field Hockey - Great Northeast Athletic Conference
LOCATION:Regis Weston MA
CATEGORIES:QuickScores; Field Hockey Game
TRANSP:0
DALARM:20191023T000000;PT10M;2;Regis vs. Rivier
END:VEVENT
BEGIN:VEVENT
DTSTART:20191026T000000
DTEND:20191026T000000
SUMMARY:Regis vs. Albertus Magnus
DESCRIPTION:2019 Field Hockey - Great Northeast Athletic Conference
LOCATION:Regis Weston MA
CATEGORIES:QuickScores; Field Hockey Game
TRANSP:0
DALARM:20191026T000000;PT10M;2;Regis vs. Albertus Magnus
END:VEVENT
BEGIN:VEVENT
DTSTART:20191030T000000
DTEND:20191030T000000
SUMMARY:Johnson and Wales vs. Regis
DESCRIPTION:2019 Field Hockey - Great Northeast Athletic Conference
LOCATION:Scotts Miracle Gro Athletic Complex
CATEGORIES:QuickScores; Field Hockey Game
TRANSP:0
DALARM:20191030T000000;PT10M;2;Johnson and Wales vs. Regis
END:VEVENT
END:VCALENDAR
