BEGIN:VCALENDAR
VERSION:1.0
BEGIN:VEVENT
DTSTART:20190914T000000
DTEND:20190914T000000
SUMMARY:Simmons vs. Anna Maria
DESCRIPTION:2019 Field Hockey - Great Northeast Athletic Conference
LOCATION:Daly Field Brighton
CATEGORIES:QuickScores; Field Hockey Game
TRANSP:0
DALARM:20190914T000000;PT10M;2;Simmons vs. Anna Maria
END:VEVENT
BEGIN:VEVENT
DTSTART:20190921T000000
DTEND:20190921T000000
SUMMARY:Anna Maria vs. Johnson and Wales
DESCRIPTION:2019 Field Hockey - Great Northeast Athletic Conference
LOCATION:Paxton MA
CATEGORIES:QuickScores; Field Hockey Game
TRANSP:0
DALARM:20190921T000000;PT10M;2;Anna Maria vs. Johnson and Wales
END:VEVENT
BEGIN:VEVENT
DTSTART:20190928T000000
DTEND:20190928T000000
SUMMARY:Lasell vs. Anna Maria
DESCRIPTION:2019 DH AMC can share a bus w WS --- 2019 Field Hockey - Great Northeast Athletic Conference
LOCATION:Lasell Newton
CATEGORIES:QuickScores; Field Hockey Game
TRANSP:0
DALARM:20190928T000000;PT10M;2;Lasell vs. Anna Maria
END:VEVENT
BEGIN:VEVENT
DTSTART:20191005T000000
DTEND:20191005T000000
SUMMARY:Anna Maria vs. Regis
DESCRIPTION:2019 Regis can share a bus with Men's Soccer --- 2019 Field Hockey - Great Northeast Athletic Conference
LOCATION:Paxton MA
CATEGORIES:QuickScores; Field Hockey Game
TRANSP:0
DALARM:20191005T000000;PT10M;2;Anna Maria vs. Regis
END:VEVENT
BEGIN:VEVENT
DTSTART:20191012T000000
DTEND:20191012T000000
SUMMARY:Albertus Magnus vs. Anna Maria
DESCRIPTION:2019 Field Hockey - Great Northeast Athletic Conference
LOCATION:New Haven, CT
CATEGORIES:QuickScores; Field Hockey Game
TRANSP:0
DALARM:20191012T000000;PT10M;2;Albertus Magnus vs. Anna Maria
END:VEVENT
BEGIN:VEVENT
DTSTART:20191023T000000
DTEND:20191023T000000
SUMMARY:Anna Maria vs. Saint Joseph's ME
DESCRIPTION:2019 Field Hockey - Great Northeast Athletic Conference
LOCATION:Paxton MA
CATEGORIES:QuickScores; Field Hockey Game
TRANSP:0
DALARM:20191023T000000;PT10M;2;Anna Maria vs. Saint Joseph's ME
END:VEVENT
BEGIN:VEVENT
DTSTART:20191026T000000
DTEND:20191026T000000
SUMMARY:Colby Sawyer vs. Anna Maria
DESCRIPTION:2019 Anna Maria can share a bus with WVB --- 2019 Field Hockey - Great Northeast Athletic Conference
LOCATION:New London NH
CATEGORIES:QuickScores; Field Hockey Game
TRANSP:0
DALARM:20191026T000000;PT10M;2;Colby Sawyer vs. Anna Maria
END:VEVENT
BEGIN:VEVENT
DTSTART:20191030T000000
DTEND:20191030T000000
SUMMARY:Anna Maria vs. Rivier
DESCRIPTION:2019 Field Hockey - Great Northeast Athletic Conference
LOCATION:Paxton MA
CATEGORIES:QuickScores; Field Hockey Game
TRANSP:0
DALARM:20191030T000000;PT10M;2;Anna Maria vs. Rivier
END:VEVENT
END:VCALENDAR
