BEGIN:VCALENDAR
VERSION:1.0
BEGIN:VEVENT
DTSTART:20180908T000000
DTEND:20180908T000000
SUMMARY:Suffolk vs. Regis
DESCRIPTION:2018 Women's Soccer REMOVING MOUNT IDA - Great Northeast Athletic Conference
LOCATION:East Boston Memorial Field
CATEGORIES:QuickScores; Soccer Game
TRANSP:0
DALARM:20180908T000000;PT10M;2;Suffolk vs. Regis
END:VEVENT
BEGIN:VEVENT
DTSTART:20180912T000000
DTEND:20180912T000000
SUMMARY:Suffolk vs. Anna Maria
DESCRIPTION:2018 Women's Soccer REMOVING MOUNT IDA - Great Northeast Athletic Conference
LOCATION:East Boston Memorial Field
CATEGORIES:QuickScores; Soccer Game
TRANSP:0
DALARM:20180912T000000;PT10M;2;Suffolk vs. Anna Maria
END:VEVENT
BEGIN:VEVENT
DTSTART:20180915T000000
DTEND:20180915T000000
SUMMARY:Suffolk vs. Colby Sawyer
DESCRIPTION:2018 Women's Soccer REMOVING MOUNT IDA - Great Northeast Athletic Conference
LOCATION:East Boston Memorial Field
CATEGORIES:QuickScores; Soccer Game
TRANSP:0
DALARM:20180915T000000;PT10M;2;Suffolk vs. Colby Sawyer
END:VEVENT
BEGIN:VEVENT
DTSTART:20180919T000000
DTEND:20180919T000000
SUMMARY:Albertus Magnus vs. Suffolk
DESCRIPTION:2018 Women's Soccer REMOVING MOUNT IDA - Great Northeast Athletic Conference
LOCATION:New Haven, CT
CATEGORIES:QuickScores; Soccer Game
TRANSP:0
DALARM:20180919T000000;PT10M;2;Albertus Magnus vs. Suffolk
END:VEVENT
BEGIN:VEVENT
DTSTART:20180922T000000
DTEND:20180922T000000
SUMMARY:Suffolk vs. Saint Joseph CT
DESCRIPTION:2018 Women's Soccer REMOVING MOUNT IDA - Great Northeast Athletic Conference
LOCATION:East Boston Memorial Field
CATEGORIES:QuickScores; Soccer Game
TRANSP:0
DALARM:20180922T000000;PT10M;2;Suffolk vs. Saint Joseph CT
END:VEVENT
BEGIN:VEVENT
DTSTART:20180929T000000
DTEND:20180929T000000
SUMMARY:Lasell vs. Suffolk
DESCRIPTION:Coaches from LAS and SUF will agree to a new date for this game. --- 2018 Women's Soccer REMOVING MOUNT IDA - Great Northeast Athletic Conference
LOCATION:Taylor Field at Lasell College
CATEGORIES:QuickScores; Soccer Game
TRANSP:0
DALARM:20180929T000000;PT10M;2;Lasell vs. Suffolk
END:VEVENT
BEGIN:VEVENT
DTSTART:20180929T000000
DTEND:20180929T000000
SUMMARY:Rivier vs. Suffolk
DESCRIPTION:2018 RIV Homecoming. Because of Mount Ida closing this game was moved from original date to Sat 9/29/18 --- 2018 Women's Soccer REMOVING MOUNT IDA - Great Northeast Athletic Conference
LOCATION:Nashua, NH
CATEGORIES:QuickScores; Soccer Game
TRANSP:0
DALARM:20180929T000000;PT10M;2;Rivier vs. Suffolk
END:VEVENT
BEGIN:VEVENT
DTSTART:20181003T000000
DTEND:20181003T000000
SUMMARY:Simmons vs. Suffolk
DESCRIPTION:2018 Women's Soccer REMOVING MOUNT IDA - Great Northeast Athletic Conference
LOCATION:Daly Field Brighton
CATEGORIES:QuickScores; Soccer Game
TRANSP:0
DALARM:20181003T000000;PT10M;2;Simmons vs. Suffolk
END:VEVENT
BEGIN:VEVENT
DTSTART:20181006T000000
DTEND:20181006T000000
SUMMARY:Suffolk vs. Saint Joseph's ME
DESCRIPTION:2018 Women's Soccer REMOVING MOUNT IDA - Great Northeast Athletic Conference
LOCATION:East Boston Memorial Field
CATEGORIES:QuickScores; Soccer Game
TRANSP:0
DALARM:20181006T000000;PT10M;2;Suffolk vs. Saint Joseph's ME
END:VEVENT
BEGIN:VEVENT
DTSTART:20181010T000000
DTEND:20181010T000000
SUMMARY:Johnson & Wales vs. Suffolk
DESCRIPTION:2018 Women's Soccer REMOVING MOUNT IDA - Great Northeast Athletic Conference
LOCATION:Scotts Miracle Gro Athletic Complex
CATEGORIES:QuickScores; Soccer Game
TRANSP:0
DALARM:20181010T000000;PT10M;2;Johnson & Wales vs. Suffolk
END:VEVENT
BEGIN:VEVENT
DTSTART:20181017T000000
DTEND:20181017T000000
SUMMARY:Suffolk vs. Emmanuel
DESCRIPTION:2018 Women's Soccer REMOVING MOUNT IDA - Great Northeast Athletic Conference
LOCATION:East Boston Memorial Field
CATEGORIES:QuickScores; Soccer Game
TRANSP:0
DALARM:20181017T000000;PT10M;2;Suffolk vs. Emmanuel
END:VEVENT
BEGIN:VEVENT
DTSTART:20181020T000000
DTEND:20181020T000000
SUMMARY:Norwich vs. Suffolk
DESCRIPTION:2018 Women's Soccer REMOVING MOUNT IDA - Great Northeast Athletic Conference
LOCATION:Northfield, VT
CATEGORIES:QuickScores; Soccer Game
TRANSP:0
DALARM:20181020T000000;PT10M;2;Norwich vs. Suffolk
END:VEVENT
END:VCALENDAR
