BEGIN:VCALENDAR
VERSION:1.0
BEGIN:VEVENT
DTSTART:20180908T000000
DTEND:20180908T000000
SUMMARY:Colby Sawyer vs. Simmons
DESCRIPTION:2018 Women's Soccer REMOVING MOUNT IDA - Great Northeast Athletic Conference
LOCATION:New London NH
CATEGORIES:QuickScores; Soccer Game
TRANSP:0
DALARM:20180908T000000;PT10M;2;Colby Sawyer vs. Simmons
END:VEVENT
BEGIN:VEVENT
DTSTART:20180912T000000
DTEND:20180912T000000
SUMMARY:Simmons vs. Rivier
DESCRIPTION:2018 Women's Soccer REMOVING MOUNT IDA - Great Northeast Athletic Conference
LOCATION:Daly Field Brighton
CATEGORIES:QuickScores; Soccer Game
TRANSP:0
DALARM:20180912T000000;PT10M;2;Simmons vs. Rivier
END:VEVENT
BEGIN:VEVENT
DTSTART:20180919T000000
DTEND:20180919T000000
SUMMARY:Saint Joseph CT vs. Simmons
DESCRIPTION:2018 Women's Soccer REMOVING MOUNT IDA - Great Northeast Athletic Conference
LOCATION:W. Hartford, CT
CATEGORIES:QuickScores; Soccer Game
TRANSP:0
DALARM:20180919T000000;PT10M;2;Saint Joseph CT vs. Simmons
END:VEVENT
BEGIN:VEVENT
DTSTART:20180922T000000
DTEND:20180922T000000
SUMMARY:Saint Joseph's ME vs. Simmons
DESCRIPTION:2018 STJME Homecoming and parents weekend --- 2018 Women's Soccer REMOVING MOUNT IDA - Great Northeast Athletic Conference
LOCATION:Standish ME
CATEGORIES:QuickScores; Soccer Game
TRANSP:0
DALARM:20180922T000000;PT10M;2;Saint Joseph's ME vs. Simmons
END:VEVENT
BEGIN:VEVENT
DTSTART:20180926T000000
DTEND:20180926T000000
SUMMARY:Simmons vs. Anna Maria
DESCRIPTION:2018 Women's Soccer REMOVING MOUNT IDA - Great Northeast Athletic Conference
LOCATION:Daly Field Brighton
CATEGORIES:QuickScores; Soccer Game
TRANSP:0
DALARM:20180926T000000;PT10M;2;Simmons vs. Anna Maria
END:VEVENT
BEGIN:VEVENT
DTSTART:20180929T000000
DTEND:20180929T000000
SUMMARY:Regis vs. Simmons
DESCRIPTION:2018 Regis homecoming and parents weekend --- 2018 Women's Soccer REMOVING MOUNT IDA - Great Northeast Athletic Conference
LOCATION:Regis Weston MA
CATEGORIES:QuickScores; Soccer Game
TRANSP:0
DALARM:20180929T000000;PT10M;2;Regis vs. Simmons
END:VEVENT
BEGIN:VEVENT
DTSTART:20181003T000000
DTEND:20181003T000000
SUMMARY:Simmons vs. Suffolk
DESCRIPTION:2018 Women's Soccer REMOVING MOUNT IDA - Great Northeast Athletic Conference
LOCATION:Daly Field Brighton
CATEGORIES:QuickScores; Soccer Game
TRANSP:0
DALARM:20181003T000000;PT10M;2;Simmons vs. Suffolk
END:VEVENT
BEGIN:VEVENT
DTSTART:20181006T000000
DTEND:20181006T000000
SUMMARY:Simmons vs. Lasell
DESCRIPTION:2018 Women's Soccer REMOVING MOUNT IDA - Great Northeast Athletic Conference
LOCATION:Daly Field Brighton
CATEGORIES:QuickScores; Soccer Game
TRANSP:0
DALARM:20181006T000000;PT10M;2;Simmons vs. Lasell
END:VEVENT
BEGIN:VEVENT
DTSTART:20181010T000000
DTEND:20181010T000000
SUMMARY:Albertus Magnus vs. Simmons
DESCRIPTION:2018 Women's Soccer REMOVING MOUNT IDA - Great Northeast Athletic Conference
LOCATION:New Haven, CT
CATEGORIES:QuickScores; Soccer Game
TRANSP:0
DALARM:20181010T000000;PT10M;2;Albertus Magnus vs. Simmons
END:VEVENT
BEGIN:VEVENT
DTSTART:20181013T000000
DTEND:20181013T000000
SUMMARY:Simmons vs. Norwich
DESCRIPTION:2018 Women's Soccer REMOVING MOUNT IDA - Great Northeast Athletic Conference
LOCATION:Daly Field Brighton
CATEGORIES:QuickScores; Soccer Game
TRANSP:0
DALARM:20181013T000000;PT10M;2;Simmons vs. Norwich
END:VEVENT
BEGIN:VEVENT
DTSTART:20181017T000000
DTEND:20181017T000000
SUMMARY:Simmons vs. Johnson & Wales
DESCRIPTION:2018 Women's Soccer REMOVING MOUNT IDA - Great Northeast Athletic Conference
LOCATION:Daly Field Brighton
CATEGORIES:QuickScores; Soccer Game
TRANSP:0
DALARM:20181017T000000;PT10M;2;Simmons vs. Johnson & Wales
END:VEVENT
BEGIN:VEVENT
DTSTART:20181020T000000
DTEND:20181020T000000
SUMMARY:Emmanuel vs. Simmons
DESCRIPTION:2018 Women's Soccer REMOVING MOUNT IDA - Great Northeast Athletic Conference
LOCATION:Roberto Clemente Field
CATEGORIES:QuickScores; Soccer Game
TRANSP:0
DALARM:20181020T000000;PT10M;2;Emmanuel vs. Simmons
END:VEVENT
END:VCALENDAR
