BEGIN:VCALENDAR
VERSION:1.0
BEGIN:VEVENT
DTSTART:20180910T000000
DTEND:20180910T000000
SUMMARY:Rivier vs. Norwich
DESCRIPTION:Original date changed after Mount Ida closed. 9/10/18 is the new agreed upon date --- 2018 Women's Soccer REMOVING MOUNT IDA - Great Northeast Athletic Conference
LOCATION:Nashua, NH
CATEGORIES:QuickScores; Soccer Game
TRANSP:0
DALARM:20180910T000000;PT10M;2;Rivier vs. Norwich
END:VEVENT
BEGIN:VEVENT
DTSTART:20180912T000000
DTEND:20180912T000000
SUMMARY:Simmons vs. Rivier
DESCRIPTION:2018 Women's Soccer REMOVING MOUNT IDA - Great Northeast Athletic Conference
LOCATION:Daly Field Brighton
CATEGORIES:QuickScores; Soccer Game
TRANSP:0
DALARM:20180912T000000;PT10M;2;Simmons vs. Rivier
END:VEVENT
BEGIN:VEVENT
DTSTART:20180915T000000
DTEND:20180915T000000
SUMMARY:Rivier vs. Saint Joseph's ME
DESCRIPTION:2018 Women's Soccer REMOVING MOUNT IDA - Great Northeast Athletic Conference
LOCATION:Nashua, NH
CATEGORIES:QuickScores; Soccer Game
TRANSP:0
DALARM:20180915T000000;PT10M;2;Rivier vs. Saint Joseph's ME
END:VEVENT
BEGIN:VEVENT
DTSTART:20180919T000000
DTEND:20180919T000000
SUMMARY:Emmanuel vs. Rivier
DESCRIPTION:2018 Women's Soccer REMOVING MOUNT IDA - Great Northeast Athletic Conference
LOCATION:Roberto Clemente Field
CATEGORIES:QuickScores; Soccer Game
TRANSP:0
DALARM:20180919T000000;PT10M;2;Emmanuel vs. Rivier
END:VEVENT
BEGIN:VEVENT
DTSTART:20180922T000000
DTEND:20180922T000000
SUMMARY:Lasell vs. Rivier
DESCRIPTION:2018 Women's Soccer REMOVING MOUNT IDA - Great Northeast Athletic Conference
LOCATION:Taylor Field at Lasell College
CATEGORIES:QuickScores; Soccer Game
TRANSP:0
DALARM:20180922T000000;PT10M;2;Lasell vs. Rivier
END:VEVENT
BEGIN:VEVENT
DTSTART:20180929T000000
DTEND:20180929T000000
SUMMARY:Rivier vs. Suffolk
DESCRIPTION:2018 RIV Homecoming. Because of Mount Ida closing this game was moved from original date to Sat 9/29/18 --- 2018 Women's Soccer REMOVING MOUNT IDA - Great Northeast Athletic Conference
LOCATION:Nashua, NH
CATEGORIES:QuickScores; Soccer Game
TRANSP:0
DALARM:20180929T000000;PT10M;2;Rivier vs. Suffolk
END:VEVENT
BEGIN:VEVENT
DTSTART:20181003T000000
DTEND:20181003T000000
SUMMARY:Anna Maria vs. Rivier
DESCRIPTION:2018 Women's Soccer REMOVING MOUNT IDA - Great Northeast Athletic Conference
LOCATION:Paxton MA
CATEGORIES:QuickScores; Soccer Game
TRANSP:0
DALARM:20181003T000000;PT10M;2;Anna Maria vs. Rivier
END:VEVENT
BEGIN:VEVENT
DTSTART:20181006T000000
DTEND:20181006T000000
SUMMARY:Saint Joseph CT vs. Rivier
DESCRIPTION:2018 Women's Soccer REMOVING MOUNT IDA - Great Northeast Athletic Conference
LOCATION:W. Hartford, CT
CATEGORIES:QuickScores; Soccer Game
TRANSP:0
DALARM:20181006T000000;PT10M;2;Saint Joseph CT vs. Rivier
END:VEVENT
BEGIN:VEVENT
DTSTART:20181010T000000
DTEND:20181010T000000
SUMMARY:Rivier vs. Colby Sawyer
DESCRIPTION:2018 Women's Soccer REMOVING MOUNT IDA - Great Northeast Athletic Conference
LOCATION:Nashua, NH
CATEGORIES:QuickScores; Soccer Game
TRANSP:0
DALARM:20181010T000000;PT10M;2;Rivier vs. Colby Sawyer
END:VEVENT
BEGIN:VEVENT
DTSTART:20181013T000000
DTEND:20181013T000000
SUMMARY:Albertus Magnus vs. Rivier
DESCRIPTION:2018 Women's Soccer REMOVING MOUNT IDA - Great Northeast Athletic Conference
LOCATION:New Haven, CT
CATEGORIES:QuickScores; Soccer Game
TRANSP:0
DALARM:20181013T000000;PT10M;2;Albertus Magnus vs. Rivier
END:VEVENT
BEGIN:VEVENT
DTSTART:20181017T000000
DTEND:20181017T000000
SUMMARY:Rivier vs. Regis
DESCRIPTION:2018 Women's Soccer REMOVING MOUNT IDA - Great Northeast Athletic Conference
LOCATION:Nashua, NH
CATEGORIES:QuickScores; Soccer Game
TRANSP:0
DALARM:20181017T000000;PT10M;2;Rivier vs. Regis
END:VEVENT
BEGIN:VEVENT
DTSTART:20181020T000000
DTEND:20181020T000000
SUMMARY:Rivier vs. Johnson & Wales
DESCRIPTION:2018 Women's Soccer REMOVING MOUNT IDA - Great Northeast Athletic Conference
LOCATION:Nashua, NH
CATEGORIES:QuickScores; Soccer Game
TRANSP:0
DALARM:20181020T000000;PT10M;2;Rivier vs. Johnson & Wales
END:VEVENT
END:VCALENDAR
