BEGIN:VCALENDAR
VERSION:1.0
BEGIN:VEVENT
DTSTART:20180908T000000
DTEND:20180908T000000
SUMMARY:Suffolk vs. Regis
DESCRIPTION:2018 Women's Soccer REMOVING MOUNT IDA - Great Northeast Athletic Conference
LOCATION:East Boston Memorial Field
CATEGORIES:QuickScores; Soccer Game
TRANSP:0
DALARM:20180908T000000;PT10M;2;Suffolk vs. Regis
END:VEVENT
BEGIN:VEVENT
DTSTART:20180912T000000
DTEND:20180912T000000
SUMMARY:Regis vs. Saint Joseph's ME
DESCRIPTION:2018 Women's Soccer REMOVING MOUNT IDA - Great Northeast Athletic Conference
LOCATION:Regis Weston MA
CATEGORIES:QuickScores; Soccer Game
TRANSP:0
DALARM:20180912T000000;PT10M;2;Regis vs. Saint Joseph's ME
END:VEVENT
BEGIN:VEVENT
DTSTART:20180915T000000
DTEND:20180915T000000
SUMMARY:Regis vs. Saint Joseph CT
DESCRIPTION:2018 Women's Soccer REMOVING MOUNT IDA - Great Northeast Athletic Conference
LOCATION:Regis Weston MA
CATEGORIES:QuickScores; Soccer Game
TRANSP:0
DALARM:20180915T000000;PT10M;2;Regis vs. Saint Joseph CT
END:VEVENT
BEGIN:VEVENT
DTSTART:20180919T000000
DTEND:20180919T000000
SUMMARY:Johnson & Wales vs. Regis
DESCRIPTION:2018 Women's Soccer REMOVING MOUNT IDA - Great Northeast Athletic Conference
LOCATION:Scotts Miracle Gro Athletic Complex
CATEGORIES:QuickScores; Soccer Game
TRANSP:0
DALARM:20180919T000000;PT10M;2;Johnson & Wales vs. Regis
END:VEVENT
BEGIN:VEVENT
DTSTART:20180922T000000
DTEND:20180922T000000
SUMMARY:Colby Sawyer vs. Regis
DESCRIPTION:2018 Women's Soccer REMOVING MOUNT IDA - Great Northeast Athletic Conference
LOCATION:New London NH
CATEGORIES:QuickScores; Soccer Game
TRANSP:0
DALARM:20180922T000000;PT10M;2;Colby Sawyer vs. Regis
END:VEVENT
BEGIN:VEVENT
DTSTART:20180926T000000
DTEND:20180926T000000
SUMMARY:Regis vs. Emmanuel
DESCRIPTION:2018 Women's Soccer REMOVING MOUNT IDA - Great Northeast Athletic Conference
LOCATION:Regis Weston MA
CATEGORIES:QuickScores; Soccer Game
TRANSP:0
DALARM:20180926T000000;PT10M;2;Regis vs. Emmanuel
END:VEVENT
BEGIN:VEVENT
DTSTART:20180929T000000
DTEND:20180929T000000
SUMMARY:Regis vs. Simmons
DESCRIPTION:2018 Regis homecoming and parents weekend --- 2018 Women's Soccer REMOVING MOUNT IDA - Great Northeast Athletic Conference
LOCATION:Regis Weston MA
CATEGORIES:QuickScores; Soccer Game
TRANSP:0
DALARM:20180929T000000;PT10M;2;Regis vs. Simmons
END:VEVENT
BEGIN:VEVENT
DTSTART:20181003T000000
DTEND:20181003T000000
SUMMARY:Regis vs. Albertus Magnus
DESCRIPTION:4/10/18 The home/away for this game was reversed after the departure of Mount Ida to provide a competitive equity. WIith this change all GNAC WS teams will play 6 home and 6 away conference games in 2018 --- 2018 Women's Soccer REMOVING MOUNT IDA - Great Northeast Athletic Conference
LOCATION:Regis Weston MA
CATEGORIES:QuickScores; Soccer Game
TRANSP:0
DALARM:20181003T000000;PT10M;2;Regis vs. Albertus Magnus
END:VEVENT
BEGIN:VEVENT
DTSTART:20181006T000000
DTEND:20181006T000000
SUMMARY:Anna Maria vs. Regis
DESCRIPTION:2018 Women's Soccer REMOVING MOUNT IDA - Great Northeast Athletic Conference
LOCATION:Paxton MA
CATEGORIES:QuickScores; Soccer Game
TRANSP:0
DALARM:20181006T000000;PT10M;2;Anna Maria vs. Regis
END:VEVENT
BEGIN:VEVENT
DTSTART:20181010T000000
DTEND:20181010T000000
SUMMARY:Regis vs. Norwich
DESCRIPTION:2018 Women's Soccer REMOVING MOUNT IDA - Great Northeast Athletic Conference
LOCATION:Regis Weston MA
CATEGORIES:QuickScores; Soccer Game
TRANSP:0
DALARM:20181010T000000;PT10M;2;Regis vs. Norwich
END:VEVENT
BEGIN:VEVENT
DTSTART:20181013T000000
DTEND:20181013T000000
SUMMARY:Lasell vs. Regis
DESCRIPTION:2018 Women's Soccer REMOVING MOUNT IDA - Great Northeast Athletic Conference
LOCATION:Taylor Field at Lasell College
CATEGORIES:QuickScores; Soccer Game
TRANSP:0
DALARM:20181013T000000;PT10M;2;Lasell vs. Regis
END:VEVENT
BEGIN:VEVENT
DTSTART:20181017T000000
DTEND:20181017T000000
SUMMARY:Rivier vs. Regis
DESCRIPTION:2018 Women's Soccer REMOVING MOUNT IDA - Great Northeast Athletic Conference
LOCATION:Nashua, NH
CATEGORIES:QuickScores; Soccer Game
TRANSP:0
DALARM:20181017T000000;PT10M;2;Rivier vs. Regis
END:VEVENT
END:VCALENDAR
