BEGIN:VCALENDAR
VERSION:1.0
BEGIN:VEVENT
DTSTART:20190323T000000
DTEND:20190323T000000
SUMMARY:Saint Joseph's ME vs. Johnson & Wales
DESCRIPTION:2019 Men's Lacrosse REMOVING MOUNT IDA May 2018 - Great Northeast Athletic Conference
LOCATION:Standish ME
CATEGORIES:QuickScores; Lacrosse Game
TRANSP:0
DALARM:20190323T000000;PT10M;2;Saint Joseph's ME vs. Johnson & Wales
END:VEVENT
BEGIN:VEVENT
DTSTART:20190326T000000
DTEND:20190326T000000
SUMMARY:Rivier vs. Saint Joseph's ME
DESCRIPTION:2019 Men's Lacrosse REMOVING MOUNT IDA May 2018 - Great Northeast Athletic Conference
LOCATION:Nashua, NH
CATEGORIES:QuickScores; Lacrosse Game
TRANSP:0
DALARM:20190326T000000;PT10M;2;Rivier vs. Saint Joseph's ME
END:VEVENT
BEGIN:VEVENT
DTSTART:20190330T000000
DTEND:20190330T000000
SUMMARY:Regis vs. Saint Joseph's ME
DESCRIPTION:2019 Men's Lacrosse REMOVING MOUNT IDA May 2018 - Great Northeast Athletic Conference
LOCATION:Regis Weston MA
CATEGORIES:QuickScores; Lacrosse Game
TRANSP:0
DALARM:20190330T000000;PT10M;2;Regis vs. Saint Joseph's ME
END:VEVENT
BEGIN:VEVENT
DTSTART:20190406T000000
DTEND:20190406T000000
SUMMARY:Saint Joseph's ME vs. Anna Maria
DESCRIPTION:2019 Anna Maria can share a bus with Softball --- 2019 Men's Lacrosse REMOVING MOUNT IDA May 2018 - Great Northeast Athletic Conference
LOCATION:Standish ME
CATEGORIES:QuickScores; Lacrosse Game
TRANSP:0
DALARM:20190406T000000;PT10M;2;Saint Joseph's ME vs. Anna Maria
END:VEVENT
BEGIN:VEVENT
DTSTART:20190413T000000
DTEND:20190413T000000
SUMMARY:Emmanuel vs. Saint Joseph's ME
DESCRIPTION:2019 Men's Lacrosse REMOVING MOUNT IDA May 2018 - Great Northeast Athletic Conference
LOCATION:Roberto Clemente Field
CATEGORIES:QuickScores; Lacrosse Game
TRANSP:0
DALARM:20190413T000000;PT10M;2;Emmanuel vs. Saint Joseph's ME
END:VEVENT
BEGIN:VEVENT
DTSTART:20190416T000000
DTEND:20190416T000000
SUMMARY:Saint Joseph's ME vs. Lasell
DESCRIPTION:2019 Men's Lacrosse REMOVING MOUNT IDA May 2018 - Great Northeast Athletic Conference
LOCATION:Standish ME
CATEGORIES:QuickScores; Lacrosse Game
TRANSP:0
DALARM:20190416T000000;PT10M;2;Saint Joseph's ME vs. Lasell
END:VEVENT
BEGIN:VEVENT
DTSTART:20190420T000000
DTEND:20190420T000000
SUMMARY:Albertus Magnus vs. Saint Joseph's ME
DESCRIPTION:2019 Men's Lacrosse REMOVING MOUNT IDA May 2018 - Great Northeast Athletic Conference
LOCATION:New Haven, CT
CATEGORIES:QuickScores; Lacrosse Game
TRANSP:0
DALARM:20190420T000000;PT10M;2;Albertus Magnus vs. Saint Joseph's ME
END:VEVENT
BEGIN:VEVENT
DTSTART:20190423T000000
DTEND:20190423T000000
SUMMARY:Saint Joseph's ME vs. Norwich
DESCRIPTION:2019 Men's Lacrosse REMOVING MOUNT IDA May 2018 - Great Northeast Athletic Conference
LOCATION:Standish ME
CATEGORIES:QuickScores; Lacrosse Game
TRANSP:0
DALARM:20190423T000000;PT10M;2;Saint Joseph's ME vs. Norwich
END:VEVENT
END:VCALENDAR
