BEGIN:VCALENDAR
VERSION:1.0
BEGIN:VEVENT
DTSTART:20190406T000000
DTEND:20190406T000000
SUMMARY:Saint Joseph CT vs. Johnson & Wales
DESCRIPTION:2019 Softball updated to divisional play 5/23/18 - Great Northeast Athletic Conference
LOCATION:W. Hartford, CT
CATEGORIES:QuickScores; Softball Game
TRANSP:0
DALARM:20190406T000000;PT10M;2;Saint Joseph CT vs. Johnson & Wales
END:VEVENT
BEGIN:VEVENT
DTSTART:20190407T000000
DTEND:20190407T000000
SUMMARY:Regis vs. Saint Joseph CT
DESCRIPTION:2019 Softball updated to divisional play 5/23/18 - Great Northeast Athletic Conference
LOCATION:Regis Weston MA
CATEGORIES:QuickScores; Softball Game
TRANSP:0
DALARM:20190407T000000;PT10M;2;Regis vs. Saint Joseph CT
END:VEVENT
BEGIN:VEVENT
DTSTART:20190413T000000
DTEND:20190413T000000
SUMMARY:Lasell vs. Saint Joseph CT
DESCRIPTION:2019 Softball updated to divisional play 5/23/18 - Great Northeast Athletic Conference
LOCATION:Taylor Field at Lasell College
CATEGORIES:QuickScores; Softball Game
TRANSP:0
DALARM:20190413T000000;PT10M;2;Lasell vs. Saint Joseph CT
END:VEVENT
BEGIN:VEVENT
DTSTART:20190414T000000
DTEND:20190414T000000
SUMMARY:Saint Joseph CT vs. Suffolk
DESCRIPTION:2019 Softball updated to divisional play 5/23/18 - Great Northeast Athletic Conference
LOCATION:W. Hartford, CT
CATEGORIES:QuickScores; Softball Game
TRANSP:0
DALARM:20190414T000000;PT10M;2;Saint Joseph CT vs. Suffolk
END:VEVENT
BEGIN:VEVENT
DTSTART:20190418T000000
DTEND:20190418T000000
SUMMARY:Albertus Magnus vs. Saint Joseph CT
DESCRIPTION:2019 Softball updated to divisional play 5/23/18 - Great Northeast Athletic Conference
LOCATION:New Haven, CT
CATEGORIES:QuickScores; Softball Game
TRANSP:0
DALARM:20190418T000000;PT10M;2;Albertus Magnus vs. Saint Joseph CT
END:VEVENT
BEGIN:VEVENT
DTSTART:20190420T000000
DTEND:20190420T000000
SUMMARY:Saint Joseph CT vs. Rivier
DESCRIPTION:2019 Softball updated to divisional play 5/23/18 - Great Northeast Athletic Conference
LOCATION:W. Hartford, CT
CATEGORIES:QuickScores; Softball Game
TRANSP:0
DALARM:20190420T000000;PT10M;2;Saint Joseph CT vs. Rivier
END:VEVENT
BEGIN:VEVENT
DTSTART:20190426T000000
DTEND:20190426T000000
SUMMARY:Saint Joseph CT vs. Saint Joseph's ME
DESCRIPTION:2019 Softball updated to divisional play 5/23/18 - Great Northeast Athletic Conference
LOCATION:W. Hartford, CT
CATEGORIES:QuickScores; Softball Game
TRANSP:0
DALARM:20190426T000000;PT10M;2;Saint Joseph CT vs. Saint Joseph's ME
END:VEVENT
BEGIN:VEVENT
DTSTART:20190427T000000
DTEND:20190427T000000
SUMMARY:Simmons vs. Saint Joseph CT
DESCRIPTION:2019 Softball updated to divisional play 5/23/18 - Great Northeast Athletic Conference
LOCATION:Daly Field Brighton
CATEGORIES:QuickScores; Softball Game
TRANSP:0
DALARM:20190427T000000;PT10M;2;Simmons vs. Saint Joseph CT
END:VEVENT
END:VCALENDAR
