BEGIN:VCALENDAR
VERSION:1.0
BEGIN:VEVENT
DTSTART:20190406T000000
DTEND:20190406T000000
SUMMARY:Anna Maria vs. Norwich
DESCRIPTION:2019 Softball updated to divisional play 5/23/18 - Great Northeast Athletic Conference
LOCATION:Paxton MA
CATEGORIES:QuickScores; Softball Game
TRANSP:0
DALARM:20190406T000000;PT10M;2;Anna Maria vs. Norwich
END:VEVENT
BEGIN:VEVENT
DTSTART:20190407T000000
DTEND:20190407T000000
SUMMARY:Norwich vs. Saint Joseph's ME
DESCRIPTION:2019 Softball updated to divisional play 5/23/18 - Great Northeast Athletic Conference
LOCATION:Northfield, VT
CATEGORIES:QuickScores; Softball Game
TRANSP:0
DALARM:20190407T000000;PT10M;2;Norwich vs. Saint Joseph's ME
END:VEVENT
BEGIN:VEVENT
DTSTART:20190413T000000
DTEND:20190413T000000
SUMMARY:Suffolk vs. Norwich
DESCRIPTION:2019 Softball updated to divisional play 5/23/18 - Great Northeast Athletic Conference
LOCATION:East Boston Memorial Field
CATEGORIES:QuickScores; Softball Game
TRANSP:0
DALARM:20190413T000000;PT10M;2;Suffolk vs. Norwich
END:VEVENT
BEGIN:VEVENT
DTSTART:20190414T000000
DTEND:20190414T000000
SUMMARY:Norwich vs. Emmanuel
DESCRIPTION:2019 Softball updated to divisional play 5/23/18 - Great Northeast Athletic Conference
LOCATION:Northfield, VT
CATEGORIES:QuickScores; Softball Game
TRANSP:0
DALARM:20190414T000000;PT10M;2;Norwich vs. Emmanuel
END:VEVENT
BEGIN:VEVENT
DTSTART:20190418T000000
DTEND:20190418T000000
SUMMARY:Lasell vs. Norwich
DESCRIPTION:2019 Softball updated to divisional play 5/23/18 - Great Northeast Athletic Conference
LOCATION:Taylor Field at Lasell College
CATEGORIES:QuickScores; Softball Game
TRANSP:0
DALARM:20190418T000000;PT10M;2;Lasell vs. Norwich
END:VEVENT
BEGIN:VEVENT
DTSTART:20190420T000000
DTEND:20190420T000000
SUMMARY:Norwich vs. Regis
DESCRIPTION:2019 Softball updated to divisional play 5/23/18 - Great Northeast Athletic Conference
LOCATION:Northfield, VT
CATEGORIES:QuickScores; Softball Game
TRANSP:0
DALARM:20190420T000000;PT10M;2;Norwich vs. Regis
END:VEVENT
BEGIN:VEVENT
DTSTART:20190426T000000
DTEND:20190426T000000
SUMMARY:Norwich vs. Simmons
DESCRIPTION:2019 Softball updated to divisional play 5/23/18 - Great Northeast Athletic Conference
LOCATION:Northfield, VT
CATEGORIES:QuickScores; Softball Game
TRANSP:0
DALARM:20190426T000000;PT10M;2;Norwich vs. Simmons
END:VEVENT
BEGIN:VEVENT
DTSTART:20190427T000000
DTEND:20190427T000000
SUMMARY:Rivier vs. Norwich
DESCRIPTION:2019 Softball updated to divisional play 5/23/18 - Great Northeast Athletic Conference
LOCATION:Nashua, NH
CATEGORIES:QuickScores; Softball Game
TRANSP:0
DALARM:20190427T000000;PT10M;2;Rivier vs. Norwich
END:VEVENT
END:VCALENDAR
