BEGIN:VCALENDAR
VERSION:1.0
BEGIN:VEVENT
DTSTART:20190406T000000
DTEND:20190406T000000
SUMMARY:Emmanuel vs. Lasell
DESCRIPTION:2019 Softball updated to divisional play 5/23/18 - Great Northeast Athletic Conference
LOCATION:Roberto Clemente Field
CATEGORIES:QuickScores; Softball Game
TRANSP:0
DALARM:20190406T000000;PT10M;2;Emmanuel vs. Lasell
END:VEVENT
BEGIN:VEVENT
DTSTART:20190407T000000
DTEND:20190407T000000
SUMMARY:Johnson & Wales vs. Lasell
DESCRIPTION:2019 Softball updated to divisional play 5/23/18 - Great Northeast Athletic Conference
LOCATION:Scotts Miracle Gro Athletic Complex
CATEGORIES:QuickScores; Softball Game
TRANSP:0
DALARM:20190407T000000;PT10M;2;Johnson & Wales vs. Lasell
END:VEVENT
BEGIN:VEVENT
DTSTART:20190413T000000
DTEND:20190413T000000
SUMMARY:Lasell vs. Saint Joseph CT
DESCRIPTION:2019 Softball updated to divisional play 5/23/18 - Great Northeast Athletic Conference
LOCATION:Taylor Field at Lasell College
CATEGORIES:QuickScores; Softball Game
TRANSP:0
DALARM:20190413T000000;PT10M;2;Lasell vs. Saint Joseph CT
END:VEVENT
BEGIN:VEVENT
DTSTART:20190414T000000
DTEND:20190414T000000
SUMMARY:Lasell vs. Regis
DESCRIPTION:2019 Softball updated to divisional play 5/23/18 - Great Northeast Athletic Conference
LOCATION:Taylor Field at Lasell College
CATEGORIES:QuickScores; Softball Game
TRANSP:0
DALARM:20190414T000000;PT10M;2;Lasell vs. Regis
END:VEVENT
BEGIN:VEVENT
DTSTART:20190418T000000
DTEND:20190418T000000
SUMMARY:Lasell vs. Norwich
DESCRIPTION:2019 Softball updated to divisional play 5/23/18 - Great Northeast Athletic Conference
LOCATION:Taylor Field at Lasell College
CATEGORIES:QuickScores; Softball Game
TRANSP:0
DALARM:20190418T000000;PT10M;2;Lasell vs. Norwich
END:VEVENT
BEGIN:VEVENT
DTSTART:20190420T000000
DTEND:20190420T000000
SUMMARY:Simmons vs. Lasell
DESCRIPTION:2019 Softball updated to divisional play 5/23/18 - Great Northeast Athletic Conference
LOCATION:Daly Field Brighton
CATEGORIES:QuickScores; Softball Game
TRANSP:0
DALARM:20190420T000000;PT10M;2;Simmons vs. Lasell
END:VEVENT
BEGIN:VEVENT
DTSTART:20190426T000000
DTEND:20190426T000000
SUMMARY:Albertus Magnus vs. Lasell
DESCRIPTION:2019 H/A reversed with divisional play --- 2019 Softball updated to divisional play 5/23/18 - Great Northeast Athletic Conference
LOCATION:New Haven, CT
CATEGORIES:QuickScores; Softball Game
TRANSP:0
DALARM:20190426T000000;PT10M;2;Albertus Magnus vs. Lasell
END:VEVENT
BEGIN:VEVENT
DTSTART:20190427T000000
DTEND:20190427T000000
SUMMARY:Lasell vs. Anna Maria
DESCRIPTION:2019 Softball updated to divisional play 5/23/18 - Great Northeast Athletic Conference
LOCATION:Taylor Field at Lasell College
CATEGORIES:QuickScores; Softball Game
TRANSP:0
DALARM:20190427T000000;PT10M;2;Lasell vs. Anna Maria
END:VEVENT
END:VCALENDAR
