BEGIN:VCALENDAR
VERSION:1.0
BEGIN:VEVENT
DTSTART:20100911T000000
DTEND:20100911T000000
SUMMARY:Emerson vs. Suffolk
DESCRIPTION:2010 Women's Tennis - Great Northeast Athletic Conference
LOCATION:Emerson
CATEGORIES:QuickScores; Tennis Game
TRANSP:0
DALARM:20100911T000000;PT10M;2;Emerson vs. Suffolk
END:VEVENT
BEGIN:VEVENT
DTSTART:20100918T000000
DTEND:20100918T000000
SUMMARY:Pine Manor vs. Suffolk
DESCRIPTION:2010 Women's Tennis - Great Northeast Athletic Conference
LOCATION:Chestnut Hill, MA
CATEGORIES:QuickScores; Tennis Game
TRANSP:0
DALARM:20100918T000000;PT10M;2;Pine Manor vs. Suffolk
END:VEVENT
BEGIN:VEVENT
DTSTART:20100922T000000
DTEND:20100922T000000
SUMMARY:Suffolk vs. Emmanuel
DESCRIPTION:2010 Women's Tennis - Great Northeast Athletic Conference
LOCATION:Suffolk
CATEGORIES:QuickScores; Tennis Game
TRANSP:0
DALARM:20100922T000000;PT10M;2;Suffolk vs. Emmanuel
END:VEVENT
BEGIN:VEVENT
DTSTART:20100925T000000
DTEND:20100925T000000
SUMMARY:Suffolk vs. Saint Joseph CT
DESCRIPTION:STCT can share a bus w WS --- 2010 Women's Tennis - Great Northeast Athletic Conference
LOCATION:Suffolk
CATEGORIES:QuickScores; Tennis Game
TRANSP:0
DALARM:20100925T000000;PT10M;2;Suffolk vs. Saint Joseph CT
END:VEVENT
BEGIN:VEVENT
DTSTART:20100928T000000
DTEND:20100928T000000
SUMMARY:Simmons vs. Suffolk
DESCRIPTION:2010 Women's Tennis - Great Northeast Athletic Conference
LOCATION:Winsor
CATEGORIES:QuickScores; Tennis Game
TRANSP:0
DALARM:20100928T000000;PT10M;2;Simmons vs. Suffolk
END:VEVENT
BEGIN:VEVENT
DTSTART:20101002T000000
DTEND:20101002T000000
SUMMARY:Suffolk vs. Albertus Magnus
DESCRIPTION:2010 Women's Tennis - Great Northeast Athletic Conference
LOCATION:Suffolk
CATEGORIES:QuickScores; Tennis Game
TRANSP:0
DALARM:20101002T000000;PT10M;2;Suffolk vs. Albertus Magnus
END:VEVENT
BEGIN:VEVENT
DTSTART:20101006T000000
DTEND:20101006T000000
SUMMARY:Mount Ida vs. Suffolk
DESCRIPTION:2010 Women's Tennis - Great Northeast Athletic Conference
LOCATION:Mount Ida
CATEGORIES:QuickScores; Tennis Game
TRANSP:0
DALARM:20101006T000000;PT10M;2;Mount Ida vs. Suffolk
END:VEVENT
BEGIN:VEVENT
DTSTART:20101016T000000
DTEND:20101016T000000
SUMMARY:Suffolk vs. Johnson & Wales
DESCRIPTION:SUF Parents Weekend --- 2010 Women's Tennis - Great Northeast Athletic Conference
LOCATION:Suffolk
CATEGORIES:QuickScores; Tennis Game
TRANSP:0
DALARM:20101016T000000;PT10M;2;Suffolk vs. Johnson & Wales
END:VEVENT
END:VCALENDAR
