BEGIN:VCALENDAR
VERSION:1.0
BEGIN:VEVENT
DTSTART:20100911T000000
DTEND:20100911T000000
SUMMARY:Emmanuel vs. Saint Joseph CT
DESCRIPTION:2010 Women's Tennis - Great Northeast Athletic Conference
LOCATION:Emmanuel
CATEGORIES:QuickScores; Tennis Game
TRANSP:0
DALARM:20100911T000000;PT10M;2;Emmanuel vs. Saint Joseph CT
END:VEVENT
BEGIN:VEVENT
DTSTART:20100919T000000
DTEND:20100919T000000
SUMMARY:Simmons vs. Emmanuel
DESCRIPTION:2010 Women's Tennis - Great Northeast Athletic Conference
LOCATION:Winsor
CATEGORIES:QuickScores; Tennis Game
TRANSP:0
DALARM:20100919T000000;PT10M;2;Simmons vs. Emmanuel
END:VEVENT
BEGIN:VEVENT
DTSTART:20100922T000000
DTEND:20100922T000000
SUMMARY:Suffolk vs. Emmanuel
DESCRIPTION:2010 Women's Tennis - Great Northeast Athletic Conference
LOCATION:Suffolk
CATEGORIES:QuickScores; Tennis Game
TRANSP:0
DALARM:20100922T000000;PT10M;2;Suffolk vs. Emmanuel
END:VEVENT
BEGIN:VEVENT
DTSTART:20100925T000000
DTEND:20100925T000000
SUMMARY:Emmanuel vs. Pine Manor
DESCRIPTION:2010 Women's Tennis - Great Northeast Athletic Conference
LOCATION:Emmanuel
CATEGORIES:QuickScores; Tennis Game
TRANSP:0
DALARM:20100925T000000;PT10M;2;Emmanuel vs. Pine Manor
END:VEVENT
BEGIN:VEVENT
DTSTART:20100928T000000
DTEND:20100928T000000
SUMMARY:Emerson vs. Emmanuel
DESCRIPTION:2010 Women's Tennis - Great Northeast Athletic Conference
LOCATION:Emerson
CATEGORIES:QuickScores; Tennis Game
TRANSP:0
DALARM:20100928T000000;PT10M;2;Emerson vs. Emmanuel
END:VEVENT
BEGIN:VEVENT
DTSTART:20101002T000000
DTEND:20101002T000000
SUMMARY:Emmanuel vs. Johnson & Wales
DESCRIPTION:2010 Women's Tennis - Great Northeast Athletic Conference
LOCATION:Emmanuel
CATEGORIES:QuickScores; Tennis Game
TRANSP:0
DALARM:20101002T000000;PT10M;2;Emmanuel vs. Johnson & Wales
END:VEVENT
BEGIN:VEVENT
DTSTART:20101009T000000
DTEND:20101009T000000
SUMMARY:Emmanuel vs. Mount Ida
DESCRIPTION:Ida has home football --- 2010 Women's Tennis - Great Northeast Athletic Conference
LOCATION:Emmanuel
CATEGORIES:QuickScores; Tennis Game
TRANSP:0
DALARM:20101009T000000;PT10M;2;Emmanuel vs. Mount Ida
END:VEVENT
BEGIN:VEVENT
DTSTART:20101011T000000
DTEND:20101011T000000
SUMMARY:Albertus Magnus vs. Emmanuel
DESCRIPTION:Columbus Day. EMM MS &WS also at AMC --- 2010 Women's Tennis - Great Northeast Athletic Conference
LOCATION:New Haven, CT
CATEGORIES:QuickScores; Tennis Game
TRANSP:0
DALARM:20101011T000000;PT10M;2;Albertus Magnus vs. Emmanuel
END:VEVENT
END:VCALENDAR
