BEGIN:VCALENDAR
VERSION:1.0
BEGIN:VEVENT
DTSTART:20190108T000000
DTEND:20190108T000000
SUMMARY:Simmons vs. Lasell
DESCRIPTION:REMOVING MOUNT IDA May 2018 - 2018-19 WBB adding Colby Sawyer. - Great Northeast Athletic Conference
LOCATION:Holmes Sports Center
CATEGORIES:QuickScores; Basketball Game
TRANSP:0
DALARM:20190108T000000;PT10M;2;Simmons vs. Lasell
END:VEVENT
BEGIN:VEVENT
DTSTART:20190110T000000
DTEND:20190110T000000
SUMMARY:Norwich vs. Simmons
DESCRIPTION:REMOVING MOUNT IDA May 2018 - 2018-19 WBB adding Colby Sawyer. - Great Northeast Athletic Conference
LOCATION:Northfield, VT
CATEGORIES:QuickScores; Basketball Game
TRANSP:0
DALARM:20190110T000000;PT10M;2;Norwich vs. Simmons
END:VEVENT
BEGIN:VEVENT
DTSTART:20190117T000000
DTEND:20190117T000000
SUMMARY:Simmons vs. Albertus Magnus
DESCRIPTION:REMOVING MOUNT IDA May 2018 - 2018-19 WBB adding Colby Sawyer. - Great Northeast Athletic Conference
LOCATION:Holmes Sports Center
CATEGORIES:QuickScores; Basketball Game
TRANSP:0
DALARM:20190117T000000;PT10M;2;Simmons vs. Albertus Magnus
END:VEVENT
BEGIN:VEVENT
DTSTART:20190122T000000
DTEND:20190122T000000
SUMMARY:Emmanuel vs. Simmons
DESCRIPTION:REMOVING MOUNT IDA May 2018 - 2018-19 WBB adding Colby Sawyer. - Great Northeast Athletic Conference
LOCATION:Jean Yawkey Center
CATEGORIES:QuickScores; Basketball Game
TRANSP:0
DALARM:20190122T000000;PT10M;2;Emmanuel vs. Simmons
END:VEVENT
BEGIN:VEVENT
DTSTART:20190124T000000
DTEND:20190124T000000
SUMMARY:Simmons vs. Saint Joseph's ME
DESCRIPTION:REMOVING MOUNT IDA May 2018 - 2018-19 WBB adding Colby Sawyer. - Great Northeast Athletic Conference
LOCATION:Holmes Sports Center
CATEGORIES:QuickScores; Basketball Game
TRANSP:0
DALARM:20190124T000000;PT10M;2;Simmons vs. Saint Joseph's ME
END:VEVENT
BEGIN:VEVENT
DTSTART:20190126T000000
DTEND:20190126T000000
SUMMARY:Simmons vs. Colby Sawyer
DESCRIPTION:REMOVING MOUNT IDA May 2018 - 2018-19 WBB adding Colby Sawyer. - Great Northeast Athletic Conference
LOCATION:Holmes Sports Center
CATEGORIES:QuickScores; Basketball Game
TRANSP:0
DALARM:20190126T000000;PT10M;2;Simmons vs. Colby Sawyer
END:VEVENT
BEGIN:VEVENT
DTSTART:20190131T000000
DTEND:20190131T000000
SUMMARY:Saint Joseph CT vs. Simmons
DESCRIPTION:REMOVING MOUNT IDA May 2018 - 2018-19 WBB adding Colby Sawyer. - Great Northeast Athletic Conference
LOCATION:W. Hartford, CT
CATEGORIES:QuickScores; Basketball Game
TRANSP:0
DALARM:20190131T000000;PT10M;2;Saint Joseph CT vs. Simmons
END:VEVENT
BEGIN:VEVENT
DTSTART:20190202T000000
DTEND:20190202T000000
SUMMARY:Simmons vs. Suffolk
DESCRIPTION:REMOVING MOUNT IDA May 2018 - 2018-19 WBB adding Colby Sawyer. - Great Northeast Athletic Conference
LOCATION:Holmes Sports Center
CATEGORIES:QuickScores; Basketball Game
TRANSP:0
DALARM:20190202T000000;PT10M;2;Simmons vs. Suffolk
END:VEVENT
BEGIN:VEVENT
DTSTART:20190205T000000
DTEND:20190205T000000
SUMMARY:Anna Maria vs. Simmons
DESCRIPTION:REMOVING MOUNT IDA May 2018 - 2018-19 WBB adding Colby Sawyer. - Great Northeast Athletic Conference
LOCATION:Paxton MA
CATEGORIES:QuickScores; Basketball Game
TRANSP:0
DALARM:20190205T000000;PT10M;2;Anna Maria vs. Simmons
END:VEVENT
BEGIN:VEVENT
DTSTART:20190209T000000
DTEND:20190209T000000
SUMMARY:Rivier vs. Simmons
DESCRIPTION:REMOVING MOUNT IDA May 2018 - 2018-19 WBB adding Colby Sawyer. - Great Northeast Athletic Conference
LOCATION:Nashua, NH
CATEGORIES:QuickScores; Basketball Game
TRANSP:0
DALARM:20190209T000000;PT10M;2;Rivier vs. Simmons
END:VEVENT
BEGIN:VEVENT
DTSTART:20190212T000000
DTEND:20190212T000000
SUMMARY:Regis vs. Simmons
DESCRIPTION:REMOVING MOUNT IDA May 2018 - 2018-19 WBB adding Colby Sawyer. - Great Northeast Athletic Conference
LOCATION:Regis Weston MA
CATEGORIES:QuickScores; Basketball Game
TRANSP:0
DALARM:20190212T000000;PT10M;2;Regis vs. Simmons
END:VEVENT
BEGIN:VEVENT
DTSTART:20190216T000000
DTEND:20190216T000000
SUMMARY:Simmons vs. Johnson and Wales
DESCRIPTION:2019 can share a bus w MBB going to EMM --- REMOVING MOUNT IDA May 2018 - 2018-19 WBB adding Colby Sawyer. - Great Northeast Athletic Conference
LOCATION:Holmes Sports Center
CATEGORIES:QuickScores; Basketball Game
TRANSP:0
DALARM:20190216T000000;PT10M;2;Simmons vs. Johnson and Wales
END:VEVENT
END:VCALENDAR
