BEGIN:VCALENDAR
VERSION:1.0
BEGIN:VEVENT
DTSTART:20190108T000000
DTEND:20190108T000000
SUMMARY:Johnson and Wales vs. Norwich
DESCRIPTION:2019 DH w MBB --- REMOVING MOUNT IDA May 2018 - 2018-19 WBB adding Colby Sawyer. - Great Northeast Athletic Conference
LOCATION:Harborside Athletic Center
CATEGORIES:QuickScores; Basketball Game
TRANSP:0
DALARM:20190108T000000;PT10M;2;Johnson and Wales vs. Norwich
END:VEVENT
BEGIN:VEVENT
DTSTART:20190110T000000
DTEND:20190110T000000
SUMMARY:Norwich vs. Simmons
DESCRIPTION:REMOVING MOUNT IDA May 2018 - 2018-19 WBB adding Colby Sawyer. - Great Northeast Athletic Conference
LOCATION:Northfield, VT
CATEGORIES:QuickScores; Basketball Game
TRANSP:0
DALARM:20190110T000000;PT10M;2;Norwich vs. Simmons
END:VEVENT
BEGIN:VEVENT
DTSTART:20190112T000000
DTEND:20190112T000000
SUMMARY:Regis vs. Norwich
DESCRIPTION:2019 DH --- REMOVING MOUNT IDA May 2018 - 2018-19 WBB adding Colby Sawyer. - Great Northeast Athletic Conference
LOCATION:Regis Weston MA
CATEGORIES:QuickScores; Basketball Game
TRANSP:0
DALARM:20190112T000000;PT10M;2;Regis vs. Norwich
END:VEVENT
BEGIN:VEVENT
DTSTART:20190117T000000
DTEND:20190117T000000
SUMMARY:Norwich vs. Suffolk
DESCRIPTION:REMOVING MOUNT IDA May 2018 - 2018-19 WBB adding Colby Sawyer. - Great Northeast Athletic Conference
LOCATION:Northfield, VT
CATEGORIES:QuickScores; Basketball Game
TRANSP:0
DALARM:20190117T000000;PT10M;2;Norwich vs. Suffolk
END:VEVENT
BEGIN:VEVENT
DTSTART:20190119T000000
DTEND:20190119T000000
SUMMARY:Norwich vs. Saint Joseph CT
DESCRIPTION:REMOVING MOUNT IDA May 2018 - 2018-19 WBB adding Colby Sawyer. - Great Northeast Athletic Conference
LOCATION:Northfield, VT
CATEGORIES:QuickScores; Basketball Game
TRANSP:0
DALARM:20190119T000000;PT10M;2;Norwich vs. Saint Joseph CT
END:VEVENT
BEGIN:VEVENT
DTSTART:20190124T000000
DTEND:20190124T000000
SUMMARY:Emmanuel vs. Norwich
DESCRIPTION:REMOVING MOUNT IDA May 2018 - 2018-19 WBB adding Colby Sawyer. - Great Northeast Athletic Conference
LOCATION:Jean Yawkey Center
CATEGORIES:QuickScores; Basketball Game
TRANSP:0
DALARM:20190124T000000;PT10M;2;Emmanuel vs. Norwich
END:VEVENT
BEGIN:VEVENT
DTSTART:20190131T000000
DTEND:20190131T000000
SUMMARY:Anna Maria vs. Norwich
DESCRIPTION:REMOVING MOUNT IDA May 2018 - 2018-19 WBB adding Colby Sawyer. - Great Northeast Athletic Conference
LOCATION:Paxton MA
CATEGORIES:QuickScores; Basketball Game
TRANSP:0
DALARM:20190131T000000;PT10M;2;Anna Maria vs. Norwich
END:VEVENT
BEGIN:VEVENT
DTSTART:20190202T000000
DTEND:20190202T000000
SUMMARY:Albertus Magnus vs. Norwich
DESCRIPTION:REMOVING MOUNT IDA May 2018 - 2018-19 WBB adding Colby Sawyer. - Great Northeast Athletic Conference
LOCATION:New Haven, CT
CATEGORIES:QuickScores; Basketball Game
TRANSP:0
DALARM:20190202T000000;PT10M;2;Albertus Magnus vs. Norwich
END:VEVENT
BEGIN:VEVENT
DTSTART:20190205T000000
DTEND:20190205T000000
SUMMARY:Norwich vs. Colby Sawyer
DESCRIPTION:REMOVING MOUNT IDA May 2018 - 2018-19 WBB adding Colby Sawyer. - Great Northeast Athletic Conference
LOCATION:Northfield, VT
CATEGORIES:QuickScores; Basketball Game
TRANSP:0
DALARM:20190205T000000;PT10M;2;Norwich vs. Colby Sawyer
END:VEVENT
BEGIN:VEVENT
DTSTART:20190209T000000
DTEND:20190209T000000
SUMMARY:Lasell vs. Norwich
DESCRIPTION:REMOVING MOUNT IDA May 2018 - 2018-19 WBB adding Colby Sawyer. - Great Northeast Athletic Conference
LOCATION:Lasell Newton
CATEGORIES:QuickScores; Basketball Game
TRANSP:0
DALARM:20190209T000000;PT10M;2;Lasell vs. Norwich
END:VEVENT
BEGIN:VEVENT
DTSTART:20190212T000000
DTEND:20190212T000000
SUMMARY:Norwich vs. Saint Joseph's ME
DESCRIPTION:REMOVING MOUNT IDA May 2018 - 2018-19 WBB adding Colby Sawyer. - Great Northeast Athletic Conference
LOCATION:Northfield, VT
CATEGORIES:QuickScores; Basketball Game
TRANSP:0
DALARM:20190212T000000;PT10M;2;Norwich vs. Saint Joseph's ME
END:VEVENT
BEGIN:VEVENT
DTSTART:20190216T000000
DTEND:20190216T000000
SUMMARY:Norwich vs. Rivier
DESCRIPTION:2019 DH w MBB --- REMOVING MOUNT IDA May 2018 - 2018-19 WBB adding Colby Sawyer. - Great Northeast Athletic Conference
LOCATION:Northfield, VT
CATEGORIES:QuickScores; Basketball Game
TRANSP:0
DALARM:20190216T000000;PT10M;2;Norwich vs. Rivier
END:VEVENT
END:VCALENDAR
