BEGIN:VCALENDAR
VERSION:1.0
BEGIN:VEVENT
DTSTART:20190108T000000
DTEND:20190108T000000
SUMMARY:Albertus Magnus vs. Anna Maria
DESCRIPTION:REMOVING MOUNT IDA May 2018 - 2018-19 WBB adding Colby Sawyer. - Great Northeast Athletic Conference
LOCATION:New Haven, CT
CATEGORIES:QuickScores; Basketball Game
TRANSP:0
DALARM:20190108T000000;PT10M;2;Albertus Magnus vs. Anna Maria
END:VEVENT
BEGIN:VEVENT
DTSTART:20190110T000000
DTEND:20190110T000000
SUMMARY:Rivier vs. Anna Maria
DESCRIPTION:REMOVING MOUNT IDA May 2018 - 2018-19 WBB adding Colby Sawyer. - Great Northeast Athletic Conference
LOCATION:Nashua, NH
CATEGORIES:QuickScores; Basketball Game
TRANSP:0
DALARM:20190110T000000;PT10M;2;Rivier vs. Anna Maria
END:VEVENT
BEGIN:VEVENT
DTSTART:20190112T000000
DTEND:20190112T000000
SUMMARY:Anna Maria vs. Emmanuel
DESCRIPTION:REMOVING MOUNT IDA May 2018 - 2018-19 WBB adding Colby Sawyer. - Great Northeast Athletic Conference
LOCATION:Paxton MA
CATEGORIES:QuickScores; Basketball Game
TRANSP:0
DALARM:20190112T000000;PT10M;2;Anna Maria vs. Emmanuel
END:VEVENT
BEGIN:VEVENT
DTSTART:20190117T000000
DTEND:20190117T000000
SUMMARY:Anna Maria vs. Regis
DESCRIPTION:REMOVING MOUNT IDA May 2018 - 2018-19 WBB adding Colby Sawyer. - Great Northeast Athletic Conference
LOCATION:Paxton MA
CATEGORIES:QuickScores; Basketball Game
TRANSP:0
DALARM:20190117T000000;PT10M;2;Anna Maria vs. Regis
END:VEVENT
BEGIN:VEVENT
DTSTART:20190119T000000
DTEND:20190119T000000
SUMMARY:Anna Maria vs. Saint Joseph's ME
DESCRIPTION:The home/away for this game was reversed after the departure of Mount Ida to provide a competitive equity. With this adjustment all GNAC WBB teams will play 6 home and 6 away conference games in 2018-2019 --- REMOVING MOUNT IDA May 2018 - 2018-19 WBB adding Colby Sawyer. - Great Northeast Athletic Conference
LOCATION:Paxton MA
CATEGORIES:QuickScores; Basketball Game
TRANSP:0
DALARM:20190119T000000;PT10M;2;Anna Maria vs. Saint Joseph's ME
END:VEVENT
BEGIN:VEVENT
DTSTART:20190124T000000
DTEND:20190124T000000
SUMMARY:Suffolk vs. Anna Maria
DESCRIPTION:REMOVING MOUNT IDA May 2018 - 2018-19 WBB adding Colby Sawyer. - Great Northeast Athletic Conference
LOCATION:Suffolk
CATEGORIES:QuickScores; Basketball Game
TRANSP:0
DALARM:20190124T000000;PT10M;2;Suffolk vs. Anna Maria
END:VEVENT
BEGIN:VEVENT
DTSTART:20190126T000000
DTEND:20190126T000000
SUMMARY:Lasell vs. Anna Maria
DESCRIPTION:REMOVING MOUNT IDA May 2018 - 2018-19 WBB adding Colby Sawyer. - Great Northeast Athletic Conference
LOCATION:Lasell Newton
CATEGORIES:QuickScores; Basketball Game
TRANSP:0
DALARM:20190126T000000;PT10M;2;Lasell vs. Anna Maria
END:VEVENT
BEGIN:VEVENT
DTSTART:20190131T000000
DTEND:20190131T000000
SUMMARY:Anna Maria vs. Norwich
DESCRIPTION:REMOVING MOUNT IDA May 2018 - 2018-19 WBB adding Colby Sawyer. - Great Northeast Athletic Conference
LOCATION:Paxton MA
CATEGORIES:QuickScores; Basketball Game
TRANSP:0
DALARM:20190131T000000;PT10M;2;Anna Maria vs. Norwich
END:VEVENT
BEGIN:VEVENT
DTSTART:20190202T000000
DTEND:20190202T000000
SUMMARY:Anna Maria vs. Saint Joseph CT
DESCRIPTION:REMOVING MOUNT IDA May 2018 - 2018-19 WBB adding Colby Sawyer. - Great Northeast Athletic Conference
LOCATION:Paxton MA
CATEGORIES:QuickScores; Basketball Game
TRANSP:0
DALARM:20190202T000000;PT10M;2;Anna Maria vs. Saint Joseph CT
END:VEVENT
BEGIN:VEVENT
DTSTART:20190205T000000
DTEND:20190205T000000
SUMMARY:Anna Maria vs. Simmons
DESCRIPTION:REMOVING MOUNT IDA May 2018 - 2018-19 WBB adding Colby Sawyer. - Great Northeast Athletic Conference
LOCATION:Paxton MA
CATEGORIES:QuickScores; Basketball Game
TRANSP:0
DALARM:20190205T000000;PT10M;2;Anna Maria vs. Simmons
END:VEVENT
BEGIN:VEVENT
DTSTART:20190209T000000
DTEND:20190209T000000
SUMMARY:Johnson and Wales vs. Anna Maria
DESCRIPTION:2019  DH w MBB --- REMOVING MOUNT IDA May 2018 - 2018-19 WBB adding Colby Sawyer. - Great Northeast Athletic Conference
LOCATION:Harborside Athletic Center
CATEGORIES:QuickScores; Basketball Game
TRANSP:0
DALARM:20190209T000000;PT10M;2;Johnson and Wales vs. Anna Maria
END:VEVENT
BEGIN:VEVENT
DTSTART:20190212T000000
DTEND:20190212T000000
SUMMARY:Colby Sawyer vs. Anna Maria
DESCRIPTION:REMOVING MOUNT IDA May 2018 - 2018-19 WBB adding Colby Sawyer. - Great Northeast Athletic Conference
LOCATION:New London NH
CATEGORIES:QuickScores; Basketball Game
TRANSP:0
DALARM:20190212T000000;PT10M;2;Colby Sawyer vs. Anna Maria
END:VEVENT
END:VCALENDAR
