BEGIN:VCALENDAR
VERSION:1.0
BEGIN:VEVENT
DTSTART:20180324T000000
DTEND:20180324T000000
SUMMARY:Saint Joseph CT vs. Norwich
DESCRIPTION:2018 Softball - Great Northeast Athletic Conference
LOCATION:W. Hartford, CT
CATEGORIES:QuickScores; Softball Game
TRANSP:0
DALARM:20180324T000000;PT10M;2;Saint Joseph CT vs. Norwich
END:VEVENT
BEGIN:VEVENT
DTSTART:20180325T000000
DTEND:20180325T000000
SUMMARY:Saint Joseph CT vs. Regis
DESCRIPTION:2018 Softball - Great Northeast Athletic Conference
LOCATION:W. Hartford, CT
CATEGORIES:QuickScores; Softball Game
TRANSP:0
DALARM:20180325T000000;PT10M;2;Saint Joseph CT vs. Regis
END:VEVENT
BEGIN:VEVENT
DTSTART:20180331T000000
DTEND:20180331T000000
SUMMARY:Saint Joseph CT vs. Emmanuel
DESCRIPTION:2018 EMM can share a bus w WLAX --- 2018 Softball - Great Northeast Athletic Conference
LOCATION:W. Hartford, CT
CATEGORIES:QuickScores; Softball Game
TRANSP:0
DALARM:20180331T000000;PT10M;2;Saint Joseph CT vs. Emmanuel
END:VEVENT
BEGIN:VEVENT
DTSTART:20180407T000000
DTEND:20180407T000000
SUMMARY:Johnson & Wales vs. Saint Joseph CT
DESCRIPTION:2018 USJ can share a bus with WLAX --- 2018 Softball - Great Northeast Athletic Conference
LOCATION:Scotts Miracle Gro Athletic Complex
CATEGORIES:QuickScores; Softball Game
TRANSP:0
DALARM:20180407T000000;PT10M;2;Johnson & Wales vs. Saint Joseph CT
END:VEVENT
BEGIN:VEVENT
DTSTART:20180408T000000
DTEND:20180408T000000
SUMMARY:Mount Ida vs. Saint Joseph CT
DESCRIPTION:2018 Softball - Great Northeast Athletic Conference
LOCATION:Mount Ida
CATEGORIES:QuickScores; Softball Game
TRANSP:0
DALARM:20180408T000000;PT10M;2;Mount Ida vs. Saint Joseph CT
END:VEVENT
BEGIN:VEVENT
DTSTART:20180414T000000
DTEND:20180414T000000
SUMMARY:Rivier vs. Saint Joseph CT
DESCRIPTION:2018 DH w WLAX --- 2018 Softball - Great Northeast Athletic Conference
LOCATION:Nashua, NH
CATEGORIES:QuickScores; Softball Game
TRANSP:0
DALARM:20180414T000000;PT10M;2;Rivier vs. Saint Joseph CT
END:VEVENT
BEGIN:VEVENT
DTSTART:20180415T000000
DTEND:20180415T000000
SUMMARY:Suffolk vs. Saint Joseph CT
DESCRIPTION:2018 Softball - Great Northeast Athletic Conference
LOCATION:East Boston Memorial Field
CATEGORIES:QuickScores; Softball Game
TRANSP:0
DALARM:20180415T000000;PT10M;2;Suffolk vs. Saint Joseph CT
END:VEVENT
BEGIN:VEVENT
DTSTART:20180418T000000
DTEND:20180418T000000
SUMMARY:Anna Maria vs. Saint Joseph CT
DESCRIPTION:2018 Softball - Great Northeast Athletic Conference
LOCATION:Paxton MA
CATEGORIES:QuickScores; Softball Game
TRANSP:0
DALARM:20180418T000000;PT10M;2;Anna Maria vs. Saint Joseph CT
END:VEVENT
BEGIN:VEVENT
DTSTART:20180421T000000
DTEND:20180421T000000
SUMMARY:Saint Joseph CT vs. Lasell
DESCRIPTION:LAS can share a bus w WLAX 2018 --- 2018 Softball - Great Northeast Athletic Conference
LOCATION:W. Hartford, CT
CATEGORIES:QuickScores; Softball Game
TRANSP:0
DALARM:20180421T000000;PT10M;2;Saint Joseph CT vs. Lasell
END:VEVENT
BEGIN:VEVENT
DTSTART:20180422T000000
DTEND:20180422T000000
SUMMARY:Saint Joseph CT vs. Simmons
DESCRIPTION:2018 Softball - Great Northeast Athletic Conference
LOCATION:W. Hartford, CT
CATEGORIES:QuickScores; Softball Game
TRANSP:0
DALARM:20180422T000000;PT10M;2;Saint Joseph CT vs. Simmons
END:VEVENT
BEGIN:VEVENT
DTSTART:20180425T000000
DTEND:20180425T000000
SUMMARY:Saint Joseph CT vs. Albertus Magnus
DESCRIPTION:2018 Softball - Great Northeast Athletic Conference
LOCATION:W. Hartford, CT
CATEGORIES:QuickScores; Softball Game
TRANSP:0
DALARM:20180425T000000;PT10M;2;Saint Joseph CT vs. Albertus Magnus
END:VEVENT
BEGIN:VEVENT
DTSTART:20180428T000000
DTEND:20180428T000000
SUMMARY:Saint Joseph's ME vs. Saint Joseph CT
DESCRIPTION:NODHP --- 2018 Softball - Great Northeast Athletic Conference
LOCATION:Standish ME
CATEGORIES:QuickScores; Softball Game
TRANSP:0
DALARM:20180428T000000;PT10M;2;Saint Joseph's ME vs. Saint Joseph CT
END:VEVENT
END:VCALENDAR
