BEGIN:VCALENDAR
VERSION:1.0
BEGIN:VEVENT
DTSTART:20170909T000000
DTEND:20170909T000000
SUMMARY:Lasell vs. Simmons
DESCRIPTION:2017 Women's Soccer - Great Northeast Athletic Conference
LOCATION:Taylor Field at Lasell College
CATEGORIES:QuickScores; Soccer Game
TRANSP:0
DALARM:20170909T000000;PT10M;2;Lasell vs. Simmons
END:VEVENT
BEGIN:VEVENT
DTSTART:20170913T000000
DTEND:20170913T000000
SUMMARY:Simmons vs. Saint Joseph CT
DESCRIPTION:2017 Women's Soccer - Great Northeast Athletic Conference
LOCATION:Daly Field Brighton
CATEGORIES:QuickScores; Soccer Game
TRANSP:0
DALARM:20170913T000000;PT10M;2;Simmons vs. Saint Joseph CT
END:VEVENT
BEGIN:VEVENT
DTSTART:20170916T000000
DTEND:20170916T000000
SUMMARY:Simmons vs. Emmanuel
DESCRIPTION:2017 Women's Soccer - Great Northeast Athletic Conference
LOCATION:Daly Field Brighton
CATEGORIES:QuickScores; Soccer Game
TRANSP:0
DALARM:20170916T000000;PT10M;2;Simmons vs. Emmanuel
END:VEVENT
BEGIN:VEVENT
DTSTART:20170920T000000
DTEND:20170920T000000
SUMMARY:Suffolk vs. Simmons
DESCRIPTION:2017 Women's Soccer - Great Northeast Athletic Conference
LOCATION:East Boston Memorial Field
CATEGORIES:QuickScores; Soccer Game
TRANSP:0
DALARM:20170920T000000;PT10M;2;Suffolk vs. Simmons
END:VEVENT
BEGIN:VEVENT
DTSTART:20170923T000000
DTEND:20170923T000000
SUMMARY:Simmons vs. Regis
DESCRIPTION:2017 Women's Soccer - Great Northeast Athletic Conference
LOCATION:Daly Field Brighton
CATEGORIES:QuickScores; Soccer Game
TRANSP:0
DALARM:20170923T000000;PT10M;2;Simmons vs. Regis
END:VEVENT
BEGIN:VEVENT
DTSTART:20170927T000000
DTEND:20170927T000000
SUMMARY:Anna Maria vs. Simmons
DESCRIPTION:2017 Women's Soccer - Great Northeast Athletic Conference
LOCATION:Paxton MA
CATEGORIES:QuickScores; Soccer Game
TRANSP:0
DALARM:20170927T000000;PT10M;2;Anna Maria vs. Simmons
END:VEVENT
BEGIN:VEVENT
DTSTART:20170930T000000
DTEND:20170930T000000
SUMMARY:Rivier vs. Simmons
DESCRIPTION:2017 Women's Soccer - Great Northeast Athletic Conference
LOCATION:Nashua, NH
CATEGORIES:QuickScores; Soccer Game
TRANSP:0
DALARM:20170930T000000;PT10M;2;Rivier vs. Simmons
END:VEVENT
BEGIN:VEVENT
DTSTART:20171004T000000
DTEND:20171004T000000
SUMMARY:Simmons vs. Albertus Magnus
DESCRIPTION:2017 ALB can share a bus with MS at EMM --- 2017 Women's Soccer - Great Northeast Athletic Conference
LOCATION:Daly Field Brighton
CATEGORIES:QuickScores; Soccer Game
TRANSP:0
DALARM:20171004T000000;PT10M;2;Simmons vs. Albertus Magnus
END:VEVENT
BEGIN:VEVENT
DTSTART:20171007T000000
DTEND:20171007T000000
SUMMARY:Norwich vs. Simmons
DESCRIPTION:2017 NOR Parents Weekend. SIM WVB can share a bus --- 2017 Women's Soccer - Great Northeast Athletic Conference
LOCATION:Northfield, VT
CATEGORIES:QuickScores; Soccer Game
TRANSP:0
DALARM:20171007T000000;PT10M;2;Norwich vs. Simmons
END:VEVENT
BEGIN:VEVENT
DTSTART:20171011T000000
DTEND:20171011T000000
SUMMARY:Simmons vs. Saint Joseph's ME
DESCRIPTION:2017 STJME could bus with MS going to EMM --- 2017 Women's Soccer - Great Northeast Athletic Conference
LOCATION:Daly Field Brighton
CATEGORIES:QuickScores; Soccer Game
TRANSP:0
DALARM:20171011T000000;PT10M;2;Simmons vs. Saint Joseph's ME
END:VEVENT
BEGIN:VEVENT
DTSTART:20171014T000000
DTEND:20171014T000000
SUMMARY:Johnson & Wales vs. Simmons
DESCRIPTION:2017 JWU Homecoming --- 2017 Women's Soccer - Great Northeast Athletic Conference
LOCATION:Providence, RI
CATEGORIES:QuickScores; Soccer Game
TRANSP:0
DALARM:20171014T000000;PT10M;2;Johnson & Wales vs. Simmons
END:VEVENT
BEGIN:VEVENT
DTSTART:20171021T000000
DTEND:20171021T000000
SUMMARY:Simmons vs. Mount Ida
DESCRIPTION:2017 SIM Family Weekend --- 2017 Women's Soccer - Great Northeast Athletic Conference
LOCATION:Daly Field Brighton
CATEGORIES:QuickScores; Soccer Game
TRANSP:0
DALARM:20171021T000000;PT10M;2;Simmons vs. Mount Ida
END:VEVENT
END:VCALENDAR
