BEGIN:VCALENDAR
VERSION:1.0
BEGIN:VEVENT
DTSTART:20170909T000000
DTEND:20170909T000000
SUMMARY:Saint Joseph CT vs. Regis
DESCRIPTION:2017 Women's Soccer - Great Northeast Athletic Conference
LOCATION:W. Hartford, CT
CATEGORIES:QuickScores; Soccer Game
TRANSP:0
DALARM:20170909T000000;PT10M;2;Saint Joseph CT vs. Regis
END:VEVENT
BEGIN:VEVENT
DTSTART:20170913T000000
DTEND:20170913T000000
SUMMARY:Simmons vs. Saint Joseph CT
DESCRIPTION:2017 Women's Soccer - Great Northeast Athletic Conference
LOCATION:Daly Field Brighton
CATEGORIES:QuickScores; Soccer Game
TRANSP:0
DALARM:20170913T000000;PT10M;2;Simmons vs. Saint Joseph CT
END:VEVENT
BEGIN:VEVENT
DTSTART:20170916T000000
DTEND:20170916T000000
SUMMARY:Saint Joseph CT vs. Norwich
DESCRIPTION:2017 NOR can share a bus with WVB --- 2017 Women's Soccer - Great Northeast Athletic Conference
LOCATION:W. Hartford, CT
CATEGORIES:QuickScores; Soccer Game
TRANSP:0
DALARM:20170916T000000;PT10M;2;Saint Joseph CT vs. Norwich
END:VEVENT
BEGIN:VEVENT
DTSTART:20170920T000000
DTEND:20170920T000000
SUMMARY:Saint Joseph CT vs. Mount Ida
DESCRIPTION:2017 Women's Soccer - Great Northeast Athletic Conference
LOCATION:W. Hartford, CT
CATEGORIES:QuickScores; Soccer Game
TRANSP:0
DALARM:20170920T000000;PT10M;2;Saint Joseph CT vs. Mount Ida
END:VEVENT
BEGIN:VEVENT
DTSTART:20170923T000000
DTEND:20170923T000000
SUMMARY:Johnson & Wales vs. Saint Joseph CT
DESCRIPTION:2017 Women's Soccer - Great Northeast Athletic Conference
LOCATION:Providence, RI
CATEGORIES:QuickScores; Soccer Game
TRANSP:0
DALARM:20170923T000000;PT10M;2;Johnson & Wales vs. Saint Joseph CT
END:VEVENT
BEGIN:VEVENT
DTSTART:20170930T000000
DTEND:20170930T000000
SUMMARY:Saint Joseph's ME vs. Saint Joseph CT
DESCRIPTION:2015 STJME Homecoming. USJCT can share a bus with WVB --- 2017 Women's Soccer - Great Northeast Athletic Conference
LOCATION:Standish ME
CATEGORIES:QuickScores; Soccer Game
TRANSP:0
DALARM:20170930T000000;PT10M;2;Saint Joseph's ME vs. Saint Joseph CT
END:VEVENT
BEGIN:VEVENT
DTSTART:20171004T000000
DTEND:20171004T000000
SUMMARY:Rivier vs. Saint Joseph CT
DESCRIPTION:2017 Women's Soccer - Great Northeast Athletic Conference
LOCATION:Nashua, NH
CATEGORIES:QuickScores; Soccer Game
TRANSP:0
DALARM:20171004T000000;PT10M;2;Rivier vs. Saint Joseph CT
END:VEVENT
BEGIN:VEVENT
DTSTART:20171007T000000
DTEND:20171007T000000
SUMMARY:Saint Joseph CT vs. Suffolk
DESCRIPTION:2017 SUF can share a bus with WT --- 2017 Women's Soccer - Great Northeast Athletic Conference
LOCATION:W. Hartford, CT
CATEGORIES:QuickScores; Soccer Game
TRANSP:0
DALARM:20171007T000000;PT10M;2;Saint Joseph CT vs. Suffolk
END:VEVENT
BEGIN:VEVENT
DTSTART:20171011T000000
DTEND:20171011T000000
SUMMARY:Saint Joseph CT vs. Anna Maria
DESCRIPTION:2017 Women's Soccer - Great Northeast Athletic Conference
LOCATION:W. Hartford, CT
CATEGORIES:QuickScores; Soccer Game
TRANSP:0
DALARM:20171011T000000;PT10M;2;Saint Joseph CT vs. Anna Maria
END:VEVENT
BEGIN:VEVENT
DTSTART:20171014T000000
DTEND:20171014T000000
SUMMARY:Lasell vs. Saint Joseph CT
DESCRIPTION:2017 LAS Family Weekend. 2017 USJ Can share a bus with WVB --- 2017 Women's Soccer - Great Northeast Athletic Conference
LOCATION:Taylor Field at Lasell College
CATEGORIES:QuickScores; Soccer Game
TRANSP:0
DALARM:20171014T000000;PT10M;2;Lasell vs. Saint Joseph CT
END:VEVENT
BEGIN:VEVENT
DTSTART:20171018T000000
DTEND:20171018T000000
SUMMARY:Albertus Magnus vs. Saint Joseph CT
DESCRIPTION:2017 USJCT can share a bus w WVB --- 2017 Women's Soccer - Great Northeast Athletic Conference
LOCATION:New Haven, CT
CATEGORIES:QuickScores; Soccer Game
TRANSP:0
DALARM:20171018T000000;PT10M;2;Albertus Magnus vs. Saint Joseph CT
END:VEVENT
BEGIN:VEVENT
DTSTART:20171021T000000
DTEND:20171021T000000
SUMMARY:Saint Joseph CT vs. Emmanuel
DESCRIPTION:2017 Women's Soccer - Great Northeast Athletic Conference
LOCATION:W. Hartford, CT
CATEGORIES:QuickScores; Soccer Game
TRANSP:0
DALARM:20171021T000000;PT10M;2;Saint Joseph CT vs. Emmanuel
END:VEVENT
END:VCALENDAR
