BEGIN:VCALENDAR
VERSION:1.0
BEGIN:VEVENT
DTSTART:20170909T000000
DTEND:20170909T000000
SUMMARY:Lasell vs. Simmons
DESCRIPTION:2017 Women's Soccer - Great Northeast Athletic Conference
LOCATION:Taylor Field at Lasell College
CATEGORIES:QuickScores; Soccer Game
TRANSP:0
DALARM:20170909T000000;PT10M;2;Lasell vs. Simmons
END:VEVENT
BEGIN:VEVENT
DTSTART:20170913T000000
DTEND:20170913T000000
SUMMARY:Albertus Magnus vs. Lasell
DESCRIPTION:2017 Women's Soccer - Great Northeast Athletic Conference
LOCATION:New Haven, CT
CATEGORIES:QuickScores; Soccer Game
TRANSP:0
DALARM:20170913T000000;PT10M;2;Albertus Magnus vs. Lasell
END:VEVENT
BEGIN:VEVENT
DTSTART:20170916T000000
DTEND:20170916T000000
SUMMARY:Rivier vs. Lasell
DESCRIPTION:2017 LAS WVB & WS could share a bus --- 2017 Women's Soccer - Great Northeast Athletic Conference
LOCATION:Nashua, NH
CATEGORIES:QuickScores; Soccer Game
TRANSP:0
DALARM:20170916T000000;PT10M;2;Rivier vs. Lasell
END:VEVENT
BEGIN:VEVENT
DTSTART:20170920T000000
DTEND:20170920T000000
SUMMARY:Lasell vs. Anna Maria
DESCRIPTION:2017 Women's Soccer - Great Northeast Athletic Conference
LOCATION:Taylor Field at Lasell College
CATEGORIES:QuickScores; Soccer Game
TRANSP:0
DALARM:20170920T000000;PT10M;2;Lasell vs. Anna Maria
END:VEVENT
BEGIN:VEVENT
DTSTART:20170923T000000
DTEND:20170923T000000
SUMMARY:Lasell vs. Saint Joseph's ME
DESCRIPTION:2017 DH STJME MS & WS can share a bus --- 2017 Women's Soccer - Great Northeast Athletic Conference
LOCATION:Taylor Field at Lasell College
CATEGORIES:QuickScores; Soccer Game
TRANSP:0
DALARM:20170923T000000;PT10M;2;Lasell vs. Saint Joseph's ME
END:VEVENT
BEGIN:VEVENT
DTSTART:20170927T000000
DTEND:20170927T000000
SUMMARY:Suffolk vs. Lasell
DESCRIPTION:2017 Women's Soccer - Great Northeast Athletic Conference
LOCATION:East Boston Memorial Field
CATEGORIES:QuickScores; Soccer Game
TRANSP:0
DALARM:20170927T000000;PT10M;2;Suffolk vs. Lasell
END:VEVENT
BEGIN:VEVENT
DTSTART:20170930T000000
DTEND:20170930T000000
SUMMARY:Regis vs. Lasell
DESCRIPTION:2017 Women's Soccer - Great Northeast Athletic Conference
LOCATION:Regis Weston MA
CATEGORIES:QuickScores; Soccer Game
TRANSP:0
DALARM:20170930T000000;PT10M;2;Regis vs. Lasell
END:VEVENT
BEGIN:VEVENT
DTSTART:20171004T000000
DTEND:20171004T000000
SUMMARY:Lasell vs. Emmanuel
DESCRIPTION:2017 Women's Soccer - Great Northeast Athletic Conference
LOCATION:Taylor Field at Lasell College
CATEGORIES:QuickScores; Soccer Game
TRANSP:0
DALARM:20171004T000000;PT10M;2;Lasell vs. Emmanuel
END:VEVENT
BEGIN:VEVENT
DTSTART:20171011T000000
DTEND:20171011T000000
SUMMARY:Mount Ida vs. Lasell
DESCRIPTION:2017 Women's Soccer - Great Northeast Athletic Conference
LOCATION:Mount Ida
CATEGORIES:QuickScores; Soccer Game
TRANSP:0
DALARM:20171011T000000;PT10M;2;Mount Ida vs. Lasell
END:VEVENT
BEGIN:VEVENT
DTSTART:20171014T000000
DTEND:20171014T000000
SUMMARY:Lasell vs. Saint Joseph CT
DESCRIPTION:2017 LAS Family Weekend. 2017 USJ Can share a bus with WVB --- 2017 Women's Soccer - Great Northeast Athletic Conference
LOCATION:Taylor Field at Lasell College
CATEGORIES:QuickScores; Soccer Game
TRANSP:0
DALARM:20171014T000000;PT10M;2;Lasell vs. Saint Joseph CT
END:VEVENT
BEGIN:VEVENT
DTSTART:20171018T000000
DTEND:20171018T000000
SUMMARY:Lasell vs. Norwich
DESCRIPTION:2017 Women's Soccer - Great Northeast Athletic Conference
LOCATION:Taylor Field at Lasell College
CATEGORIES:QuickScores; Soccer Game
TRANSP:0
DALARM:20171018T000000;PT10M;2;Lasell vs. Norwich
END:VEVENT
BEGIN:VEVENT
DTSTART:20171021T000000
DTEND:20171021T000000
SUMMARY:Johnson & Wales vs. Lasell
DESCRIPTION:2017 DH. LAS can share a bus w MS --- 2017 Women's Soccer - Great Northeast Athletic Conference
LOCATION:Providence, RI
CATEGORIES:QuickScores; Soccer Game
TRANSP:0
DALARM:20171021T000000;PT10M;2;Johnson & Wales vs. Lasell
END:VEVENT
END:VCALENDAR
