BEGIN:VCALENDAR
VERSION:1.0
BEGIN:VEVENT
DTSTART:20170906T000000
DTEND:20170906T000000
SUMMARY:Emmanuel vs. Johnson & Wales
DESCRIPTION:2017 Women's Soccer - Great Northeast Athletic Conference
LOCATION:Roberto Clemente Field
CATEGORIES:QuickScores; Soccer Game
TRANSP:0
DALARM:20170906T000000;PT10M;2;Emmanuel vs. Johnson & Wales
END:VEVENT
BEGIN:VEVENT
DTSTART:20170909T000000
DTEND:20170909T000000
SUMMARY:Anna Maria vs. Emmanuel
DESCRIPTION:2017 DH. EMM can share a bus w WVB --- 2017 Women's Soccer - Great Northeast Athletic Conference
LOCATION:Paxton MA
CATEGORIES:QuickScores; Soccer Game
TRANSP:0
DALARM:20170909T000000;PT10M;2;Anna Maria vs. Emmanuel
END:VEVENT
BEGIN:VEVENT
DTSTART:20170913T000000
DTEND:20170913T000000
SUMMARY:Emmanuel vs. Saint Joseph's ME
DESCRIPTION:2017 Women's Soccer - Great Northeast Athletic Conference
LOCATION:Roberto Clemente Field
CATEGORIES:QuickScores; Soccer Game
TRANSP:0
DALARM:20170913T000000;PT10M;2;Emmanuel vs. Saint Joseph's ME
END:VEVENT
BEGIN:VEVENT
DTSTART:20170916T000000
DTEND:20170916T000000
SUMMARY:Simmons vs. Emmanuel
DESCRIPTION:2017 Women's Soccer - Great Northeast Athletic Conference
LOCATION:Daly Field Brighton
CATEGORIES:QuickScores; Soccer Game
TRANSP:0
DALARM:20170916T000000;PT10M;2;Simmons vs. Emmanuel
END:VEVENT
BEGIN:VEVENT
DTSTART:20170923T000000
DTEND:20170923T000000
SUMMARY:Norwich vs. Emmanuel
DESCRIPTION:2017 DH. EMM can bus w MS&WVB. 2017 NOR Homecoiming --- 2017 Women's Soccer - Great Northeast Athletic Conference
LOCATION:Northfield, VT
CATEGORIES:QuickScores; Soccer Game
TRANSP:0
DALARM:20170923T000000;PT10M;2;Norwich vs. Emmanuel
END:VEVENT
BEGIN:VEVENT
DTSTART:20170927T000000
DTEND:20170927T000000
SUMMARY:Emmanuel vs. Albertus Magnus
DESCRIPTION:2017  DH ALB can share a bus w MS --- 2017 Women's Soccer - Great Northeast Athletic Conference
LOCATION:Roberto Clemente Field
CATEGORIES:QuickScores; Soccer Game
TRANSP:0
DALARM:20170927T000000;PT10M;2;Emmanuel vs. Albertus Magnus
END:VEVENT
BEGIN:VEVENT
DTSTART:20171004T000000
DTEND:20171004T000000
SUMMARY:Lasell vs. Emmanuel
DESCRIPTION:2017 Women's Soccer - Great Northeast Athletic Conference
LOCATION:Taylor Field at Lasell College
CATEGORIES:QuickScores; Soccer Game
TRANSP:0
DALARM:20171004T000000;PT10M;2;Lasell vs. Emmanuel
END:VEVENT
BEGIN:VEVENT
DTSTART:20171007T000000
DTEND:20171007T000000
SUMMARY:Emmanuel vs. Mount Ida
DESCRIPTION:2017 Women's Soccer - Great Northeast Athletic Conference
LOCATION:Roberto Clemente Field
CATEGORIES:QuickScores; Soccer Game
TRANSP:0
DALARM:20171007T000000;PT10M;2;Emmanuel vs. Mount Ida
END:VEVENT
BEGIN:VEVENT
DTSTART:20171011T000000
DTEND:20171011T000000
SUMMARY:Rivier vs. Emmanuel
DESCRIPTION:2017 EMM can  bus with WVB --- 2017 Women's Soccer - Great Northeast Athletic Conference
LOCATION:Nashua, NH
CATEGORIES:QuickScores; Soccer Game
TRANSP:0
DALARM:20171011T000000;PT10M;2;Rivier vs. Emmanuel
END:VEVENT
BEGIN:VEVENT
DTSTART:20171014T000000
DTEND:20171014T000000
SUMMARY:Emmanuel vs. Regis
DESCRIPTION:2017 Women's Soccer - Great Northeast Athletic Conference
LOCATION:Roberto Clemente Field
CATEGORIES:QuickScores; Soccer Game
TRANSP:0
DALARM:20171014T000000;PT10M;2;Emmanuel vs. Regis
END:VEVENT
BEGIN:VEVENT
DTSTART:20171018T000000
DTEND:20171018T000000
SUMMARY:Emmanuel vs. Suffolk
DESCRIPTION:2017 Women's Soccer - Great Northeast Athletic Conference
LOCATION:Roberto Clemente Field
CATEGORIES:QuickScores; Soccer Game
TRANSP:0
DALARM:20171018T000000;PT10M;2;Emmanuel vs. Suffolk
END:VEVENT
BEGIN:VEVENT
DTSTART:20171021T000000
DTEND:20171021T000000
SUMMARY:Saint Joseph CT vs. Emmanuel
DESCRIPTION:2017 Women's Soccer - Great Northeast Athletic Conference
LOCATION:W. Hartford, CT
CATEGORIES:QuickScores; Soccer Game
TRANSP:0
DALARM:20171021T000000;PT10M;2;Saint Joseph CT vs. Emmanuel
END:VEVENT
END:VCALENDAR
