BEGIN:VCALENDAR
VERSION:1.0
BEGIN:VEVENT
DTSTART:20170909T000000
DTEND:20170909T000000
SUMMARY:Suffolk vs. Albertus Magnus
DESCRIPTION:2017 ALB  can share a bus with MS --- 2017 Women's Soccer - Great Northeast Athletic Conference
LOCATION:East Boston Memorial Field
CATEGORIES:QuickScores; Soccer Game
TRANSP:0
DALARM:20170909T000000;PT10M;2;Suffolk vs. Albertus Magnus
END:VEVENT
BEGIN:VEVENT
DTSTART:20170913T000000
DTEND:20170913T000000
SUMMARY:Albertus Magnus vs. Lasell
DESCRIPTION:2017 Women's Soccer - Great Northeast Athletic Conference
LOCATION:New Haven, CT
CATEGORIES:QuickScores; Soccer Game
TRANSP:0
DALARM:20170913T000000;PT10M;2;Albertus Magnus vs. Lasell
END:VEVENT
BEGIN:VEVENT
DTSTART:20170916T000000
DTEND:20170916T000000
SUMMARY:Albertus Magnus vs. Mount Ida
DESCRIPTION:Mount Ida could share a bus w WT. 2017 Mount Ida has home football --- 2017 Women's Soccer - Great Northeast Athletic Conference
LOCATION:New Haven, CT
CATEGORIES:QuickScores; Soccer Game
TRANSP:0
DALARM:20170916T000000;PT10M;2;Albertus Magnus vs. Mount Ida
END:VEVENT
BEGIN:VEVENT
DTSTART:20170920T000000
DTEND:20170920T000000
SUMMARY:Albertus Magnus vs. Johnson & Wales
DESCRIPTION:2017 JWU WS & WT can share a bus --- 2017 Women's Soccer - Great Northeast Athletic Conference
LOCATION:New Haven, CT
CATEGORIES:QuickScores; Soccer Game
TRANSP:0
DALARM:20170920T000000;PT10M;2;Albertus Magnus vs. Johnson & Wales
END:VEVENT
BEGIN:VEVENT
DTSTART:20170923T000000
DTEND:20170923T000000
SUMMARY:Rivier vs. Albertus Magnus
DESCRIPTION:2017 RIV Homecoming. 2017 NODHP. --- 2017 Women's Soccer - Great Northeast Athletic Conference
LOCATION:Nashua, NH
CATEGORIES:QuickScores; Soccer Game
TRANSP:0
DALARM:20170923T000000;PT10M;2;Rivier vs. Albertus Magnus
END:VEVENT
BEGIN:VEVENT
DTSTART:20170927T000000
DTEND:20170927T000000
SUMMARY:Emmanuel vs. Albertus Magnus
DESCRIPTION:2017  DH ALB can share a bus w MS --- 2017 Women's Soccer - Great Northeast Athletic Conference
LOCATION:Roberto Clemente Field
CATEGORIES:QuickScores; Soccer Game
TRANSP:0
DALARM:20170927T000000;PT10M;2;Emmanuel vs. Albertus Magnus
END:VEVENT
BEGIN:VEVENT
DTSTART:20170930T000000
DTEND:20170930T000000
SUMMARY:Albertus Magnus vs. Anna Maria
DESCRIPTION:2017 DH. Anna Maria can share a bus with MS --- 2017 Women's Soccer - Great Northeast Athletic Conference
LOCATION:New Haven, CT
CATEGORIES:QuickScores; Soccer Game
TRANSP:0
DALARM:20170930T000000;PT10M;2;Albertus Magnus vs. Anna Maria
END:VEVENT
BEGIN:VEVENT
DTSTART:20171004T000000
DTEND:20171004T000000
SUMMARY:Simmons vs. Albertus Magnus
DESCRIPTION:2017 ALB can share a bus with MS at EMM --- 2017 Women's Soccer - Great Northeast Athletic Conference
LOCATION:Daly Field Brighton
CATEGORIES:QuickScores; Soccer Game
TRANSP:0
DALARM:20171004T000000;PT10M;2;Simmons vs. Albertus Magnus
END:VEVENT
BEGIN:VEVENT
DTSTART:20171007T000000
DTEND:20171007T000000
SUMMARY:Regis vs. Albertus Magnus
DESCRIPTION:2017 Women's Soccer - Great Northeast Athletic Conference
LOCATION:Regis Weston MA
CATEGORIES:QuickScores; Soccer Game
TRANSP:0
DALARM:20171007T000000;PT10M;2;Regis vs. Albertus Magnus
END:VEVENT
BEGIN:VEVENT
DTSTART:20171014T000000
DTEND:20171014T000000
SUMMARY:Albertus Magnus vs. Saint Joseph's ME
DESCRIPTION:2017 STJME  can share a bus with WVB --- 2017 Women's Soccer - Great Northeast Athletic Conference
LOCATION:New Haven, CT
CATEGORIES:QuickScores; Soccer Game
TRANSP:0
DALARM:20171014T000000;PT10M;2;Albertus Magnus vs. Saint Joseph's ME
END:VEVENT
BEGIN:VEVENT
DTSTART:20171018T000000
DTEND:20171018T000000
SUMMARY:Albertus Magnus vs. Saint Joseph CT
DESCRIPTION:2017 USJCT can share a bus w WVB --- 2017 Women's Soccer - Great Northeast Athletic Conference
LOCATION:New Haven, CT
CATEGORIES:QuickScores; Soccer Game
TRANSP:0
DALARM:20171018T000000;PT10M;2;Albertus Magnus vs. Saint Joseph CT
END:VEVENT
BEGIN:VEVENT
DTSTART:20171021T000000
DTEND:20171021T000000
SUMMARY:Norwich vs. Albertus Magnus
DESCRIPTION:2017 DH AMC share bus w MS & WVB --- 2017 Women's Soccer - Great Northeast Athletic Conference
LOCATION:Northfield, VT
CATEGORIES:QuickScores; Soccer Game
TRANSP:0
DALARM:20171021T000000;PT10M;2;Norwich vs. Albertus Magnus
END:VEVENT
END:VCALENDAR
