BEGIN:VCALENDAR
VERSION:1.0
BEGIN:VEVENT
DTSTART:20170923T000000
DTEND:20170923T000000
SUMMARY:Saint Joseph CT vs. Regis
DESCRIPTION:2017 Women's Tennis - Great Northeast Athletic Conference
LOCATION:W. Hartford, CT
CATEGORIES:QuickScores; Tennis Game
TRANSP:0
DALARM:20170923T000000;PT10M;2;Saint Joseph CT vs. Regis
END:VEVENT
BEGIN:VEVENT
DTSTART:20170927T000000
DTEND:20170927T000000
SUMMARY:Regis vs. Suffolk
DESCRIPTION:2017 Women's Tennis - Great Northeast Athletic Conference
LOCATION:Regis Weston MA
CATEGORIES:QuickScores; Tennis Game
TRANSP:0
DALARM:20170927T000000;PT10M;2;Regis vs. Suffolk
END:VEVENT
BEGIN:VEVENT
DTSTART:20170930T000000
DTEND:20170930T000000
SUMMARY:Simmons vs. Regis
DESCRIPTION:2017 Women's Tennis - Great Northeast Athletic Conference
LOCATION:Daly Field Brighton
CATEGORIES:QuickScores; Tennis Game
TRANSP:0
DALARM:20170930T000000;PT10M;2;Simmons vs. Regis
END:VEVENT
BEGIN:VEVENT
DTSTART:20171004T000000
DTEND:20171004T000000
SUMMARY:Regis vs. Johnson & Wales
DESCRIPTION:2017 JWU can share a bus with WS --- 2017 Women's Tennis - Great Northeast Athletic Conference
LOCATION:Regis Weston MA
CATEGORIES:QuickScores; Tennis Game
TRANSP:0
DALARM:20171004T000000;PT10M;2;Regis vs. Johnson & Wales
END:VEVENT
BEGIN:VEVENT
DTSTART:20171007T000000
DTEND:20171007T000000
SUMMARY:Regis vs. Mount Ida
DESCRIPTION:2017 Women's Tennis - Great Northeast Athletic Conference
LOCATION:Regis Weston MA
CATEGORIES:QuickScores; Tennis Game
TRANSP:0
DALARM:20171007T000000;PT10M;2;Regis vs. Mount Ida
END:VEVENT
BEGIN:VEVENT
DTSTART:20171014T000000
DTEND:20171014T000000
SUMMARY:Albertus Magnus vs. Regis
DESCRIPTION:2017 ALB  Fall Fest --- 2017 Women's Tennis - Great Northeast Athletic Conference
LOCATION:New Haven, CT
CATEGORIES:QuickScores; Tennis Game
TRANSP:0
DALARM:20171014T000000;PT10M;2;Albertus Magnus vs. Regis
END:VEVENT
END:VCALENDAR
