BEGIN:VCALENDAR
VERSION:1.0
BEGIN:VEVENT
DTSTART:20170923T000000
DTEND:20170923T000000
SUMMARY:Suffolk vs. Mount Ida
DESCRIPTION:2017 Women's Tennis - Great Northeast Athletic Conference
LOCATION:Suffolk
CATEGORIES:QuickScores; Tennis Game
TRANSP:0
DALARM:20170923T000000;PT10M;2;Suffolk vs. Mount Ida
END:VEVENT
BEGIN:VEVENT
DTSTART:20170927T000000
DTEND:20170927T000000
SUMMARY:Regis vs. Suffolk
DESCRIPTION:2017 Women's Tennis - Great Northeast Athletic Conference
LOCATION:Regis Weston MA
CATEGORIES:QuickScores; Tennis Game
TRANSP:0
DALARM:20170927T000000;PT10M;2;Regis vs. Suffolk
END:VEVENT
BEGIN:VEVENT
DTSTART:20170930T000000
DTEND:20170930T000000
SUMMARY:Albertus Magnus vs. Suffolk
DESCRIPTION:2017 SUF can share a bus w WVB --- 2017 Women's Tennis - Great Northeast Athletic Conference
LOCATION:New Haven, CT
CATEGORIES:QuickScores; Tennis Game
TRANSP:0
DALARM:20170930T000000;PT10M;2;Albertus Magnus vs. Suffolk
END:VEVENT
BEGIN:VEVENT
DTSTART:20171007T000000
DTEND:20171007T000000
SUMMARY:Saint Joseph CT vs. Suffolk
DESCRIPTION:2017 SUF can share a bus w WS --- 2017 Women's Tennis - Great Northeast Athletic Conference
LOCATION:W. Hartford, CT
CATEGORIES:QuickScores; Tennis Game
TRANSP:0
DALARM:20171007T000000;PT10M;2;Saint Joseph CT vs. Suffolk
END:VEVENT
BEGIN:VEVENT
DTSTART:20171011T000000
DTEND:20171011T000000
SUMMARY:Johnson & Wales vs. Suffolk
DESCRIPTION:2017 Women's Tennis - Great Northeast Athletic Conference
LOCATION:Providence, RI
CATEGORIES:QuickScores; Tennis Game
TRANSP:0
DALARM:20171011T000000;PT10M;2;Johnson & Wales vs. Suffolk
END:VEVENT
BEGIN:VEVENT
DTSTART:20171014T000000
DTEND:20171014T000000
SUMMARY:Suffolk vs. Simmons
DESCRIPTION:2017 SUF Homecoming --- 2017 Women's Tennis - Great Northeast Athletic Conference
LOCATION:Suffolk
CATEGORIES:QuickScores; Tennis Game
TRANSP:0
DALARM:20171014T000000;PT10M;2;Suffolk vs. Simmons
END:VEVENT
END:VCALENDAR
