BEGIN:VCALENDAR
VERSION:1.0
BEGIN:VEVENT
DTSTART:20070324T000000
DTEND:20070324T000000
SUMMARY:WNEC vs. Norwich
DESCRIPTION:GNAC Baseball - Great Northeast Athletic Conference
LOCATION:Springfield, MA
CATEGORIES:QuickScores; Baseball Game
TRANSP:0
DALARM:20070324T000000;PT10M;2;WNEC vs. Norwich
END:VEVENT
BEGIN:VEVENT
DTSTART:20070325T000000
DTEND:20070325T000000
SUMMARY:WNEC vs. Suffolk
DESCRIPTION:GNAC Baseball - Great Northeast Athletic Conference
LOCATION:Springfield, MA
CATEGORIES:QuickScores; Baseball Game
TRANSP:0
DALARM:20070325T000000;PT10M;2;WNEC vs. Suffolk
END:VEVENT
BEGIN:VEVENT
DTSTART:20070331T000000
DTEND:20070331T000000
SUMMARY:Albertus Magnus vs. WNEC
DESCRIPTION:GNAC Baseball - Great Northeast Athletic Conference
LOCATION:New Haven, CT
CATEGORIES:QuickScores; Baseball Game
TRANSP:0
DALARM:20070331T000000;PT10M;2;Albertus Magnus vs. WNEC
END:VEVENT
BEGIN:VEVENT
DTSTART:20070407T000000
DTEND:20070407T000000
SUMMARY:Rivier vs. WNEC
DESCRIPTION:GNAC Baseball - Great Northeast Athletic Conference
LOCATION:Nashua, NH
CATEGORIES:QuickScores; Baseball Game
TRANSP:0
DALARM:20070407T000000;PT10M;2;Rivier vs. WNEC
END:VEVENT
BEGIN:VEVENT
DTSTART:20070414T000000
DTEND:20070414T000000
SUMMARY:Johnson & Wales vs. WNEC
DESCRIPTION:GNAC Baseball - Great Northeast Athletic Conference
LOCATION:Providence, RI
CATEGORIES:QuickScores; Baseball Game
TRANSP:0
DALARM:20070414T000000;PT10M;2;Johnson & Wales vs. WNEC
END:VEVENT
BEGIN:VEVENT
DTSTART:20070415T000000
DTEND:20070415T000000
SUMMARY:WNEC vs. Daniel Webster
DESCRIPTION:GNAC Baseball - Great Northeast Athletic Conference
LOCATION:Springfield, MA
CATEGORIES:QuickScores; Baseball Game
TRANSP:0
DALARM:20070415T000000;PT10M;2;WNEC vs. Daniel Webster
END:VEVENT
BEGIN:VEVENT
DTSTART:20070421T000000
DTEND:20070421T000000
SUMMARY:WNEC vs. Emerson
DESCRIPTION:GNAC Baseball - Great Northeast Athletic Conference
LOCATION:Springfield, MA
CATEGORIES:QuickScores; Baseball Game
TRANSP:0
DALARM:20070421T000000;PT10M;2;WNEC vs. Emerson
END:VEVENT
END:VCALENDAR
