BEGIN:VCALENDAR
VERSION:1.0
BEGIN:VEVENT
DTSTART:20070324T000000
DTEND:20070324T000000
SUMMARY:Suffolk vs. Daniel Webster
DESCRIPTION:GNAC Baseball - Great Northeast Athletic Conference
LOCATION:Suffolk
CATEGORIES:QuickScores; Baseball Game
TRANSP:0
DALARM:20070324T000000;PT10M;2;Suffolk vs. Daniel Webster
END:VEVENT
BEGIN:VEVENT
DTSTART:20070325T000000
DTEND:20070325T000000
SUMMARY:WNEC vs. Suffolk
DESCRIPTION:GNAC Baseball - Great Northeast Athletic Conference
LOCATION:Springfield, MA
CATEGORIES:QuickScores; Baseball Game
TRANSP:0
DALARM:20070325T000000;PT10M;2;WNEC vs. Suffolk
END:VEVENT
BEGIN:VEVENT
DTSTART:20070331T000000
DTEND:20070331T000000
SUMMARY:Johnson & Wales vs. Suffolk
DESCRIPTION:GNAC Baseball - Great Northeast Athletic Conference
LOCATION:Providence, RI
CATEGORIES:QuickScores; Baseball Game
TRANSP:0
DALARM:20070331T000000;PT10M;2;Johnson & Wales vs. Suffolk
END:VEVENT
BEGIN:VEVENT
DTSTART:20070401T000000
DTEND:20070401T000000
SUMMARY:Rivier vs. Suffolk
DESCRIPTION:GNAC Baseball - Great Northeast Athletic Conference
LOCATION:Nashua, NH
CATEGORIES:QuickScores; Baseball Game
TRANSP:0
DALARM:20070401T000000;PT10M;2;Rivier vs. Suffolk
END:VEVENT
BEGIN:VEVENT
DTSTART:20070414T000000
DTEND:20070414T000000
SUMMARY:Suffolk vs. Norwich
DESCRIPTION:GNAC Baseball - Great Northeast Athletic Conference
LOCATION:Suffolk
CATEGORIES:QuickScores; Baseball Game
TRANSP:0
DALARM:20070414T000000;PT10M;2;Suffolk vs. Norwich
END:VEVENT
BEGIN:VEVENT
DTSTART:20070415T000000
DTEND:20070415T000000
SUMMARY:Emerson vs. Suffolk
DESCRIPTION:GNAC Baseball - Great Northeast Athletic Conference
LOCATION:Emerson
CATEGORIES:QuickScores; Baseball Game
TRANSP:0
DALARM:20070415T000000;PT10M;2;Emerson vs. Suffolk
END:VEVENT
BEGIN:VEVENT
DTSTART:20070422T000000
DTEND:20070422T000000
SUMMARY:Suffolk vs. Albertus Magnus
DESCRIPTION:GNAC Baseball - Great Northeast Athletic Conference
LOCATION:Suffolk
CATEGORIES:QuickScores; Baseball Game
TRANSP:0
DALARM:20070422T000000;PT10M;2;Suffolk vs. Albertus Magnus
END:VEVENT
END:VCALENDAR
