BEGIN:VCALENDAR
VERSION:1.0
BEGIN:VEVENT
DTSTART:20091205T000000
DTEND:20091205T000000
SUMMARY:Johnson & Wales vs. Suffolk
DESCRIPTION:MBB GNAC 2009-2010 - Great Northeast Athletic Conference
LOCATION:Providence, RI
CATEGORIES:QuickScores; Basketball Game
TRANSP:0
DALARM:20091205T000000;PT10M;2;Johnson & Wales vs. Suffolk
END:VEVENT
BEGIN:VEVENT
DTSTART:20091212T000000
DTEND:20091212T000000
SUMMARY:Rivier vs. Johnson & Wales
DESCRIPTION:MBB GNAC 2009-2010 - Great Northeast Athletic Conference
LOCATION:Nashua, NH
CATEGORIES:QuickScores; Basketball Game
TRANSP:0
DALARM:20091212T000000;PT10M;2;Rivier vs. Johnson & Wales
END:VEVENT
BEGIN:VEVENT
DTSTART:20100109T000000
DTEND:20100109T000000
SUMMARY:Johnson & Wales vs. Mount Ida
DESCRIPTION:MBB GNAC 2009-2010 - Great Northeast Athletic Conference
LOCATION:Providence, RI
CATEGORIES:QuickScores; Basketball Game
TRANSP:0
DALARM:20100109T000000;PT10M;2;Johnson & Wales vs. Mount Ida
END:VEVENT
BEGIN:VEVENT
DTSTART:20100112T000000
DTEND:20100112T000000
SUMMARY:Lasell vs. Johnson & Wales
DESCRIPTION:MBB GNAC 2009-2010 - Great Northeast Athletic Conference
LOCATION:Lasell Newton
CATEGORIES:QuickScores; Basketball Game
TRANSP:0
DALARM:20100112T000000;PT10M;2;Lasell vs. Johnson & Wales
END:VEVENT
BEGIN:VEVENT
DTSTART:20100114T000000
DTEND:20100114T000000
SUMMARY:Johnson & Wales vs. Saint Joseph's Maine
DESCRIPTION:MBB GNAC 2009-2010 - Great Northeast Athletic Conference
LOCATION:Providence, RI
CATEGORIES:QuickScores; Basketball Game
TRANSP:0
DALARM:20100114T000000;PT10M;2;Johnson & Wales vs. Saint Joseph's Maine
END:VEVENT
BEGIN:VEVENT
DTSTART:20100116T000000
DTEND:20100116T000000
SUMMARY:Norwich vs. Johnson & Wales
DESCRIPTION:MBB GNAC 2009-2010 - Great Northeast Athletic Conference
LOCATION:Northfield, VT
CATEGORIES:QuickScores; Basketball Game
TRANSP:0
DALARM:20100116T000000;PT10M;2;Norwich vs. Johnson & Wales
END:VEVENT
BEGIN:VEVENT
DTSTART:20100118T000000
DTEND:20100118T000000
SUMMARY:Johnson & Wales vs. Emerson
DESCRIPTION:MLK Day --- MBB GNAC 2009-2010 - Great Northeast Athletic Conference
LOCATION:Providence, RI
CATEGORIES:QuickScores; Basketball Game
TRANSP:0
DALARM:20100118T000000;PT10M;2;Johnson & Wales vs. Emerson
END:VEVENT
BEGIN:VEVENT
DTSTART:20100123T000000
DTEND:20100123T000000
SUMMARY:Emmanuel vs. Johnson & Wales
DESCRIPTION:MBB GNAC 2009-2010 - Great Northeast Athletic Conference
LOCATION:Jean Yawkey Center
CATEGORIES:QuickScores; Basketball Game
TRANSP:0
DALARM:20100123T000000;PT10M;2;Emmanuel vs. Johnson & Wales
END:VEVENT
BEGIN:VEVENT
DTSTART:20100126T000000
DTEND:20100126T000000
SUMMARY:Johnson & Wales vs. Albertus Magnus
DESCRIPTION:MBB GNAC 2009-2010 - Great Northeast Athletic Conference
LOCATION:Providence, RI
CATEGORIES:QuickScores; Basketball Game
TRANSP:0
DALARM:20100126T000000;PT10M;2;Johnson & Wales vs. Albertus Magnus
END:VEVENT
BEGIN:VEVENT
DTSTART:20100128T000000
DTEND:20100128T000000
SUMMARY:Suffolk vs. Johnson & Wales
DESCRIPTION:MBB GNAC 2009-2010 - Great Northeast Athletic Conference
LOCATION:Suffolk
CATEGORIES:QuickScores; Basketball Game
TRANSP:0
DALARM:20100128T000000;PT10M;2;Suffolk vs. Johnson & Wales
END:VEVENT
BEGIN:VEVENT
DTSTART:20100130T000000
DTEND:20100130T000000
SUMMARY:Emerson vs. Johnson & Wales
DESCRIPTION:MBB GNAC 2009-2010 - Great Northeast Athletic Conference
LOCATION:Piano Row Gymnasium
CATEGORIES:QuickScores; Basketball Game
TRANSP:0
DALARM:20100130T000000;PT10M;2;Emerson vs. Johnson & Wales
END:VEVENT
BEGIN:VEVENT
DTSTART:20100201T000000
DTEND:20100201T000000
SUMMARY:Mount Ida vs. Johnson & Wales
DESCRIPTION:MBB GNAC 2009-2010 - Great Northeast Athletic Conference
LOCATION:Mount Ida
CATEGORIES:QuickScores; Basketball Game
TRANSP:0
DALARM:20100201T000000;PT10M;2;Mount Ida vs. Johnson & Wales
END:VEVENT
BEGIN:VEVENT
DTSTART:20100204T000000
DTEND:20100204T000000
SUMMARY:Johnson & Wales vs. Rivier
DESCRIPTION:MBB GNAC 2009-2010 - Great Northeast Athletic Conference
LOCATION:Providence, RI
CATEGORIES:QuickScores; Basketball Game
TRANSP:0
DALARM:20100204T000000;PT10M;2;Johnson & Wales vs. Rivier
END:VEVENT
BEGIN:VEVENT
DTSTART:20100206T000000
DTEND:20100206T000000
SUMMARY:Johnson & Wales vs. Lasell
DESCRIPTION:MBB GNAC 2009-2010 - Great Northeast Athletic Conference
LOCATION:Providence, RI
CATEGORIES:QuickScores; Basketball Game
TRANSP:0
DALARM:20100206T000000;PT10M;2;Johnson & Wales vs. Lasell
END:VEVENT
BEGIN:VEVENT
DTSTART:20100209T000000
DTEND:20100209T000000
SUMMARY:Saint Joseph's Maine vs. Johnson & Wales
DESCRIPTION:MBB GNAC 2009-2010 - Great Northeast Athletic Conference
LOCATION:Standish ME
CATEGORIES:QuickScores; Basketball Game
TRANSP:0
DALARM:20100209T000000;PT10M;2;Saint Joseph's Maine vs. Johnson & Wales
END:VEVENT
BEGIN:VEVENT
DTSTART:20100213T000000
DTEND:20100213T000000
SUMMARY:Johnson & Wales vs. Norwich
DESCRIPTION:DH w WBB --- MBB GNAC 2009-2010 - Great Northeast Athletic Conference
LOCATION:Providence, RI
CATEGORIES:QuickScores; Basketball Game
TRANSP:0
DALARM:20100213T000000;PT10M;2;Johnson & Wales vs. Norwich
END:VEVENT
BEGIN:VEVENT
DTSTART:20100216T000000
DTEND:20100216T000000
SUMMARY:Albertus Magnus vs. Johnson & Wales
DESCRIPTION:MBB GNAC 2009-2010 - Great Northeast Athletic Conference
LOCATION:New Haven, CT
CATEGORIES:QuickScores; Basketball Game
TRANSP:0
DALARM:20100216T000000;PT10M;2;Albertus Magnus vs. Johnson & Wales
END:VEVENT
BEGIN:VEVENT
DTSTART:20100220T000000
DTEND:20100220T000000
SUMMARY:Johnson & Wales vs. Emmanuel
DESCRIPTION:MBB GNAC 2009-2010 - Great Northeast Athletic Conference
LOCATION:Providence, RI
CATEGORIES:QuickScores; Basketball Game
TRANSP:0
DALARM:20100220T000000;PT10M;2;Johnson & Wales vs. Emmanuel
END:VEVENT
END:VCALENDAR
