BEGIN:VCALENDAR
VERSION:1.0
BEGIN:VEVENT
DTSTART:20161129T000000
DTEND:20161129T000000
SUMMARY:Norwich vs. Rivier
DESCRIPTION:2016-2017 MBB - Great Northeast Athletic Conference
LOCATION:Northfield, VT
CATEGORIES:QuickScores; Basketball Game
TRANSP:0
DALARM:20161129T000000;PT10M;2;Norwich vs. Rivier
END:VEVENT
BEGIN:VEVENT
DTSTART:20161201T000000
DTEND:20161201T000000
SUMMARY:Rivier vs. Johnson & Wales
DESCRIPTION:2016-2017 MBB - Great Northeast Athletic Conference
LOCATION:Nashua, NH
CATEGORIES:QuickScores; Basketball Game
TRANSP:0
DALARM:20161201T000000;PT10M;2;Rivier vs. Johnson & Wales
END:VEVENT
BEGIN:VEVENT
DTSTART:20161203T000000
DTEND:20161203T000000
SUMMARY:Rivier vs. Anna Maria
DESCRIPTION:2016 DH w WBB --- 2016-2017 MBB - Great Northeast Athletic Conference
LOCATION:Nashua, NH
CATEGORIES:QuickScores; Basketball Game
TRANSP:0
DALARM:20161203T000000;PT10M;2;Rivier vs. Anna Maria
END:VEVENT
BEGIN:VEVENT
DTSTART:20170105T000000
DTEND:20170105T000000
SUMMARY:Lasell vs. Rivier
DESCRIPTION:2016-2017 MBB - Great Northeast Athletic Conference
LOCATION:Lasell Newton
CATEGORIES:QuickScores; Basketball Game
TRANSP:0
DALARM:20170105T000000;PT10M;2;Lasell vs. Rivier
END:VEVENT
BEGIN:VEVENT
DTSTART:20170107T000000
DTEND:20170107T000000
SUMMARY:Rivier vs. Albertus Magnus
DESCRIPTION:2017 DH w WBB --- 2016-2017 MBB - Great Northeast Athletic Conference
LOCATION:Nashua, NH
CATEGORIES:QuickScores; Basketball Game
TRANSP:0
DALARM:20170107T000000;PT10M;2;Rivier vs. Albertus Magnus
END:VEVENT
BEGIN:VEVENT
DTSTART:20170110T000000
DTEND:20170110T000000
SUMMARY:Suffolk vs. Rivier
DESCRIPTION:2016-2017 MBB - Great Northeast Athletic Conference
LOCATION:Suffolk
CATEGORIES:QuickScores; Basketball Game
TRANSP:0
DALARM:20170110T000000;PT10M;2;Suffolk vs. Rivier
END:VEVENT
BEGIN:VEVENT
DTSTART:20170112T000000
DTEND:20170112T000000
SUMMARY:Rivier vs. Saint Joseph's ME
DESCRIPTION:2016-2017 MBB - Great Northeast Athletic Conference
LOCATION:Nashua, NH
CATEGORIES:QuickScores; Basketball Game
TRANSP:0
DALARM:20170112T000000;PT10M;2;Rivier vs. Saint Joseph's ME
END:VEVENT
BEGIN:VEVENT
DTSTART:20170114T000000
DTEND:20170114T000000
SUMMARY:Johnson & Wales vs. Rivier
DESCRIPTION:2016-2017 MBB - Great Northeast Athletic Conference
LOCATION:Harborside Athletic Center
CATEGORIES:QuickScores; Basketball Game
TRANSP:0
DALARM:20170114T000000;PT10M;2;Johnson & Wales vs. Rivier
END:VEVENT
BEGIN:VEVENT
DTSTART:20170116T000000
DTEND:20170116T000000
SUMMARY:Rivier vs. Emmanuel
DESCRIPTION:2017 DH w WBB --- 2016-2017 MBB - Great Northeast Athletic Conference
LOCATION:Nashua, NH
CATEGORIES:QuickScores; Basketball Game
TRANSP:0
DALARM:20170116T000000;PT10M;2;Rivier vs. Emmanuel
END:VEVENT
BEGIN:VEVENT
DTSTART:20170121T000000
DTEND:20170121T000000
SUMMARY:Rivier vs. Norwich
DESCRIPTION:2017 DH w WBB --- 2016-2017 MBB - Great Northeast Athletic Conference
LOCATION:Nashua, NH
CATEGORIES:QuickScores; Basketball Game
TRANSP:0
DALARM:20170121T000000;PT10M;2;Rivier vs. Norwich
END:VEVENT
BEGIN:VEVENT
DTSTART:20170125T000000
DTEND:20170125T000000
SUMMARY:Albertus Magnus vs. Rivier
DESCRIPTION:2016-2017 MBB - Great Northeast Athletic Conference
LOCATION:New Haven, CT
CATEGORIES:QuickScores; Basketball Game
TRANSP:0
DALARM:20170125T000000;PT10M;2;Albertus Magnus vs. Rivier
END:VEVENT
BEGIN:VEVENT
DTSTART:20170128T000000
DTEND:20170128T000000
SUMMARY:Emmanuel vs. Rivier
DESCRIPTION:2016-2017 MBB - Great Northeast Athletic Conference
LOCATION:Jean Yawkey Center
CATEGORIES:QuickScores; Basketball Game
TRANSP:0
DALARM:20170128T000000;PT10M;2;Emmanuel vs. Rivier
END:VEVENT
BEGIN:VEVENT
DTSTART:20170201T000000
DTEND:20170201T000000
SUMMARY:Rivier vs. Suffolk
DESCRIPTION:2016-2017 MBB - Great Northeast Athletic Conference
LOCATION:Nashua, NH
CATEGORIES:QuickScores; Basketball Game
TRANSP:0
DALARM:20170201T000000;PT10M;2;Rivier vs. Suffolk
END:VEVENT
BEGIN:VEVENT
DTSTART:20170204T000000
DTEND:20170204T000000
SUMMARY:Rivier vs. Mount Ida
DESCRIPTION:2016-2017 MBB - Great Northeast Athletic Conference
LOCATION:Nashua, NH
CATEGORIES:QuickScores; Basketball Game
TRANSP:0
DALARM:20170204T000000;PT10M;2;Rivier vs. Mount Ida
END:VEVENT
BEGIN:VEVENT
DTSTART:20170207T000000
DTEND:20170207T000000
SUMMARY:Saint Joseph's ME vs. Rivier
DESCRIPTION:2016-2017 MBB - Great Northeast Athletic Conference
LOCATION:Standish ME
CATEGORIES:QuickScores; Basketball Game
TRANSP:0
DALARM:20170207T000000;PT10M;2;Saint Joseph's ME vs. Rivier
END:VEVENT
BEGIN:VEVENT
DTSTART:20170211T000000
DTEND:20170211T000000
SUMMARY:Mount Ida vs. Rivier
DESCRIPTION:2016-2017 MBB - Great Northeast Athletic Conference
LOCATION:Mount Ida
CATEGORIES:QuickScores; Basketball Game
TRANSP:0
DALARM:20170211T000000;PT10M;2;Mount Ida vs. Rivier
END:VEVENT
BEGIN:VEVENT
DTSTART:20170214T000000
DTEND:20170214T000000
SUMMARY:Rivier vs. Lasell
DESCRIPTION:2016-2017 MBB - Great Northeast Athletic Conference
LOCATION:Nashua, NH
CATEGORIES:QuickScores; Basketball Game
TRANSP:0
DALARM:20170214T000000;PT10M;2;Rivier vs. Lasell
END:VEVENT
BEGIN:VEVENT
DTSTART:20170218T000000
DTEND:20170218T000000
SUMMARY:Anna Maria vs. Rivier
DESCRIPTION:2017 DH w WBB --- 2016-2017 MBB - Great Northeast Athletic Conference
LOCATION:Paxton MA
CATEGORIES:QuickScores; Basketball Game
TRANSP:0
DALARM:20170218T000000;PT10M;2;Anna Maria vs. Rivier
END:VEVENT
END:VCALENDAR
